BEGIN:VCALENDAR
VERSION:2.0
PRODID:-//Opera Beato Luigi Novarese - ECPv6.15.17//NONSGML v1.0//EN
CALSCALE:GREGORIAN
METHOD:PUBLISH
X-WR-CALNAME:Opera Beato Luigi Novarese
X-ORIGINAL-URL:https://www.luiginovarese.org
X-WR-CALDESC:Eventi per Opera Beato Luigi Novarese
REFRESH-INTERVAL;VALUE=DURATION:PT1H
X-Robots-Tag:noindex
X-PUBLISHED-TTL:PT1H
BEGIN:VTIMEZONE
TZID:Europe/Rome
BEGIN:DAYLIGHT
TZOFFSETFROM:+0100
TZOFFSETTO:+0200
TZNAME:CEST
DTSTART:20250330T010000
END:DAYLIGHT
BEGIN:STANDARD
TZOFFSETFROM:+0200
TZOFFSETTO:+0100
TZNAME:CET
DTSTART:20251026T010000
END:STANDARD
BEGIN:DAYLIGHT
TZOFFSETFROM:+0100
TZOFFSETTO:+0200
TZNAME:CEST
DTSTART:20260329T010000
END:DAYLIGHT
BEGIN:STANDARD
TZOFFSETFROM:+0200
TZOFFSETTO:+0100
TZNAME:CET
DTSTART:20261025T010000
END:STANDARD
BEGIN:DAYLIGHT
TZOFFSETFROM:+0100
TZOFFSETTO:+0200
TZNAME:CEST
DTSTART:20270328T010000
END:DAYLIGHT
BEGIN:STANDARD
TZOFFSETFROM:+0200
TZOFFSETTO:+0100
TZNAME:CET
DTSTART:20271031T010000
END:STANDARD
END:VTIMEZONE
BEGIN:VEVENT
DTSTART;VALUE=DATE:20260202
DTEND;VALUE=DATE:20260203
DTSTAMP:20260420T214629
CREATED:20260203T113207Z
LAST-MODIFIED:20260203T113401Z
UID:184216-1769990400-1770076799@www.luiginovarese.org
SUMMARY:Giornata della Vita consacrata
DESCRIPTION:
URL:https://www.luiginovarese.org/calendario-eventi/2-febbraio-giornata-della-vita-consacrata/
ATTACH;FMTTYPE=image/jpeg:https://www.luiginovarese.org/wp-content/uploads/2026/02/2-febbraio-Giornata-della-Vita-consacrata_page-0001.jpg
END:VEVENT
BEGIN:VEVENT
DTSTART;VALUE=DATE:20260202
DTEND;VALUE=DATE:20260203
DTSTAMP:20260420T214629
CREATED:20260203T113251Z
LAST-MODIFIED:20260203T113251Z
UID:184266-1769990400-1770076799@www.luiginovarese.org
SUMMARY:Giornata Mondiale della Vita
DESCRIPTION:
URL:https://www.luiginovarese.org/calendario-eventi/giornata-mondiale-della-vita-3/
ATTACH;FMTTYPE=image/jpeg:https://www.luiginovarese.org/wp-content/uploads/2026/02/2-febbraio-Giornata-Mondiale-della-Vita_page-0001.jpg
END:VEVENT
BEGIN:VEVENT
DTSTART;VALUE=DATE:20260202
DTEND;VALUE=DATE:20260203
DTSTAMP:20260420T214629
CREATED:20260203T113353Z
LAST-MODIFIED:20260203T113737Z
UID:184267-1769990400-1770076799@www.luiginovarese.org
SUMMARY:Presentazione del Signore
DESCRIPTION:
URL:https://www.luiginovarese.org/calendario-eventi/presentazione-del-signore-4/
ATTACH;FMTTYPE=image/jpeg:https://www.luiginovarese.org/wp-content/uploads/2026/02/2-febbraio-Presentazione-del-Signore_page-0001.jpg
END:VEVENT
END:VCALENDAR