BEGIN:VCALENDAR
VERSION:2.0
PRODID:-//Opera Beato Luigi Novarese - ECPv6.15.17//NONSGML v1.0//EN
CALSCALE:GREGORIAN
METHOD:PUBLISH
X-ORIGINAL-URL:https://www.luiginovarese.org
X-WR-CALDESC:Eventi per Opera Beato Luigi Novarese
REFRESH-INTERVAL;VALUE=DURATION:PT1H
X-Robots-Tag:noindex
X-PUBLISHED-TTL:PT1H
BEGIN:VTIMEZONE
TZID:Europe/Rome
BEGIN:DAYLIGHT
TZOFFSETFROM:+0100
TZOFFSETTO:+0200
TZNAME:CEST
DTSTART:20250330T010000
END:DAYLIGHT
BEGIN:STANDARD
TZOFFSETFROM:+0200
TZOFFSETTO:+0100
TZNAME:CET
DTSTART:20251026T010000
END:STANDARD
BEGIN:DAYLIGHT
TZOFFSETFROM:+0100
TZOFFSETTO:+0200
TZNAME:CEST
DTSTART:20260329T010000
END:DAYLIGHT
BEGIN:STANDARD
TZOFFSETFROM:+0200
TZOFFSETTO:+0100
TZNAME:CET
DTSTART:20261025T010000
END:STANDARD
BEGIN:DAYLIGHT
TZOFFSETFROM:+0100
TZOFFSETTO:+0200
TZNAME:CEST
DTSTART:20270328T010000
END:DAYLIGHT
BEGIN:STANDARD
TZOFFSETFROM:+0200
TZOFFSETTO:+0100
TZNAME:CET
DTSTART:20271031T010000
END:STANDARD
END:VTIMEZONE
BEGIN:VEVENT
DTSTART;VALUE=DATE:20260211
DTEND;VALUE=DATE:20260212
DTSTAMP:20260420T201634
CREATED:20260203T113441Z
LAST-MODIFIED:20260203T113441Z
UID:184268-1770768000-1770854399@www.luiginovarese.org
SUMMARY:Giornata Mondiale del Malato
DESCRIPTION:
URL:https://www.luiginovarese.org/calendario-eventi/giornata-mondiale-del-malato-3/
ATTACH;FMTTYPE=image/jpeg:https://www.luiginovarese.org/wp-content/uploads/2026/02/11-febbraio-Giornata-Mondiale-del-Malato_page-0001.jpg
END:VEVENT
BEGIN:VEVENT
DTSTART;VALUE=DATE:20260211
DTEND;VALUE=DATE:20260212
DTSTAMP:20260420T201634
CREATED:20260203T113514Z
LAST-MODIFIED:20260203T113514Z
UID:184269-1770768000-1770854399@www.luiginovarese.org
SUMMARY:Prima Apparizione a Lourdes
DESCRIPTION:
URL:https://www.luiginovarese.org/calendario-eventi/prima-apparizione-a-lourdes/
ATTACH;FMTTYPE=image/jpeg:https://www.luiginovarese.org/wp-content/uploads/2026/02/11-febbraio-Prima-Apparizione-a-Lourdes_page-0001.jpg
END:VEVENT
BEGIN:VEVENT
DTSTART;VALUE=DATE:20260211
DTEND;VALUE=DATE:20260212
DTSTAMP:20260420T201634
CREATED:20260206T072129Z
LAST-MODIFIED:20260206T072129Z
UID:184480-1770768000-1770854399@www.luiginovarese.org
SUMMARY:Prima Apparizione - Nel segno della Croce
DESCRIPTION:
URL:https://www.luiginovarese.org/calendario-eventi/prima-apparizione-nel-segno-della-croce/
ATTACH;FMTTYPE=image/jpeg:https://www.luiginovarese.org/wp-content/uploads/2026/02/11-febbraio-1858.jpg
END:VEVENT
END:VCALENDAR