BEGIN:VCALENDAR
VERSION:2.0
PRODID:-//Opera Beato Luigi Novarese - ECPv6.15.17//NONSGML v1.0//EN
CALSCALE:GREGORIAN
METHOD:PUBLISH
X-WR-CALNAME:Opera Beato Luigi Novarese
X-ORIGINAL-URL:https://www.luiginovarese.org
X-WR-CALDESC:Eventi per Opera Beato Luigi Novarese
REFRESH-INTERVAL;VALUE=DURATION:PT1H
X-Robots-Tag:noindex
X-PUBLISHED-TTL:PT1H
BEGIN:VTIMEZONE
TZID:Europe/Rome
BEGIN:DAYLIGHT
TZOFFSETFROM:+0100
TZOFFSETTO:+0200
TZNAME:CEST
DTSTART:20250330T010000
END:DAYLIGHT
BEGIN:STANDARD
TZOFFSETFROM:+0200
TZOFFSETTO:+0100
TZNAME:CET
DTSTART:20251026T010000
END:STANDARD
BEGIN:DAYLIGHT
TZOFFSETFROM:+0100
TZOFFSETTO:+0200
TZNAME:CEST
DTSTART:20260329T010000
END:DAYLIGHT
BEGIN:STANDARD
TZOFFSETFROM:+0200
TZOFFSETTO:+0100
TZNAME:CET
DTSTART:20261025T010000
END:STANDARD
BEGIN:DAYLIGHT
TZOFFSETFROM:+0100
TZOFFSETTO:+0200
TZNAME:CEST
DTSTART:20270328T010000
END:DAYLIGHT
BEGIN:STANDARD
TZOFFSETFROM:+0200
TZOFFSETTO:+0100
TZNAME:CET
DTSTART:20271031T010000
END:STANDARD
END:VTIMEZONE
BEGIN:VEVENT
DTSTART;VALUE=DATE:20260330
DTEND;VALUE=DATE:20260331
DTSTAMP:20260420T171240
CREATED:20260302T120540Z
LAST-MODIFIED:20260302T120540Z
UID:185238-1774828800-1774915199@www.luiginovarese.org
SUMMARY:Anniversario della morte di Cecilia Maria Cremonesi
DESCRIPTION:
URL:https://www.luiginovarese.org/calendario-eventi/anniversario-della-morte-di-cecilia-maria-cremonesi/
ATTACH;FMTTYPE=image/jpeg:https://www.luiginovarese.org/wp-content/uploads/2026/03/30-marzo-anniversario-della-morte-di-Cecilia-Maria-Cremonesi.jpg
END:VEVENT
END:VCALENDAR