BEGIN:VCALENDAR
VERSION:2.0
PRODID:-//Opera Beato Luigi Novarese - ECPv6.15.17//NONSGML v1.0//EN
CALSCALE:GREGORIAN
METHOD:PUBLISH
X-WR-CALNAME:Opera Beato Luigi Novarese
X-ORIGINAL-URL:https://www.luiginovarese.org
X-WR-CALDESC:Eventi per Opera Beato Luigi Novarese
REFRESH-INTERVAL;VALUE=DURATION:PT1H
X-Robots-Tag:noindex
X-PUBLISHED-TTL:PT1H
BEGIN:VTIMEZONE
TZID:Europe/Rome
BEGIN:DAYLIGHT
TZOFFSETFROM:+0100
TZOFFSETTO:+0200
TZNAME:CEST
DTSTART:20240331T010000
END:DAYLIGHT
BEGIN:STANDARD
TZOFFSETFROM:+0200
TZOFFSETTO:+0100
TZNAME:CET
DTSTART:20241027T010000
END:STANDARD
BEGIN:DAYLIGHT
TZOFFSETFROM:+0100
TZOFFSETTO:+0200
TZNAME:CEST
DTSTART:20250330T010000
END:DAYLIGHT
BEGIN:STANDARD
TZOFFSETFROM:+0200
TZOFFSETTO:+0100
TZNAME:CET
DTSTART:20251026T010000
END:STANDARD
BEGIN:DAYLIGHT
TZOFFSETFROM:+0100
TZOFFSETTO:+0200
TZNAME:CEST
DTSTART:20260329T010000
END:DAYLIGHT
BEGIN:STANDARD
TZOFFSETFROM:+0200
TZOFFSETTO:+0100
TZNAME:CET
DTSTART:20261025T010000
END:STANDARD
END:VTIMEZONE
BEGIN:VEVENT
DTSTART;VALUE=DATE:20250420
DTEND;VALUE=DATE:20250421
DTSTAMP:20260422T043244
CREATED:20250331T082941Z
LAST-MODIFIED:20250331T082941Z
UID:171766-1745107200-1745193599@www.luiginovarese.org
SUMMARY:Pasqua del Signore
DESCRIPTION:
URL:https://www.luiginovarese.org/calendario-eventi/pasqua-del-signore/
ATTACH;FMTTYPE=image/jpeg:https://www.luiginovarese.org/wp-content/uploads/2025/03/20-aprile-Pasqua-del-Signore.jpg
END:VEVENT
BEGIN:VEVENT
DTSTART;VALUE=DATE:20250419
DTEND;VALUE=DATE:20250420
DTSTAMP:20260422T043244
CREATED:20250331T082916Z
LAST-MODIFIED:20250331T082916Z
UID:171765-1745020800-1745107199@www.luiginovarese.org
SUMMARY:Sabato Santo
DESCRIPTION:
URL:https://www.luiginovarese.org/calendario-eventi/sabato-santo-4/
ATTACH;FMTTYPE=image/jpeg:https://www.luiginovarese.org/wp-content/uploads/2025/03/19-aprile-Sabato-Santo.jpg
END:VEVENT
BEGIN:VEVENT
DTSTART;VALUE=DATE:20250418
DTEND;VALUE=DATE:20250419
DTSTAMP:20260422T043244
CREATED:20250331T082850Z
LAST-MODIFIED:20250331T082850Z
UID:171764-1744934400-1745020799@www.luiginovarese.org
SUMMARY:Venerdì Santo
DESCRIPTION:
URL:https://www.luiginovarese.org/calendario-eventi/venerdi-santo-5/
ATTACH;FMTTYPE=image/jpeg:https://www.luiginovarese.org/wp-content/uploads/2025/03/18-aprile-Venerdi-Santo.jpg
END:VEVENT
BEGIN:VEVENT
DTSTART;VALUE=DATE:20250417
DTEND;VALUE=DATE:20250418
DTSTAMP:20260422T043244
CREATED:20250331T082826Z
LAST-MODIFIED:20250331T082826Z
UID:171763-1744848000-1744934399@www.luiginovarese.org
SUMMARY:Giovedì Santo
DESCRIPTION:
URL:https://www.luiginovarese.org/calendario-eventi/giovedi-santo-5/
ATTACH;FMTTYPE=image/jpeg:https://www.luiginovarese.org/wp-content/uploads/2025/03/17-aprile-Giovedi-Santo.jpg
END:VEVENT
BEGIN:VEVENT
DTSTART;VALUE=DATE:20250416
DTEND;VALUE=DATE:20250417
DTSTAMP:20260422T043244
CREATED:20250331T082343Z
LAST-MODIFIED:20250331T082753Z
UID:171762-1744761600-1744847999@www.luiginovarese.org
SUMMARY:Santa Bernadette Soubirous
DESCRIPTION:
URL:https://www.luiginovarese.org/calendario-eventi/santa-bernadette-soubirous/
ATTACH;FMTTYPE=image/jpeg:https://www.luiginovarese.org/wp-content/uploads/2025/03/16-aprile-Santa-Bernadette-Soubirous.jpg
END:VEVENT
BEGIN:VEVENT
DTSTART;VALUE=DATE:20250413
DTEND;VALUE=DATE:20250414
DTSTAMP:20260422T043244
CREATED:20250331T082306Z
LAST-MODIFIED:20250331T082742Z
UID:171761-1744502400-1744588799@www.luiginovarese.org
SUMMARY:Domenica delle Palme e della Passione del Signore
DESCRIPTION:
URL:https://www.luiginovarese.org/calendario-eventi/domenica-delle-palme-e-della-passione-del-signore/
ATTACH;FMTTYPE=image/jpeg:https://www.luiginovarese.org/wp-content/uploads/2025/03/13-aprile-Domenica-delle-Palme-e-della-Passione-del-Signore.jpg
END:VEVENT
BEGIN:VEVENT
DTSTART;VALUE=DATE:20250407
DTEND;VALUE=DATE:20250408
DTSTAMP:20260422T043244
CREATED:20250213T102138Z
LAST-MODIFIED:20250213T102138Z
UID:170415-1743984000-1744070399@www.luiginovarese.org
SUMMARY:7 aprile 1858
DESCRIPTION:
URL:https://www.luiginovarese.org/calendario-eventi/7-aprile-1858/
ATTACH;FMTTYPE=image/jpeg:https://www.luiginovarese.org/wp-content/uploads/2025/02/17-7-aprile.jpg
END:VEVENT
BEGIN:VEVENT
DTSTART;VALUE=DATE:20250406
DTEND;VALUE=DATE:20250407
DTSTAMP:20260422T043244
CREATED:20250331T082238Z
LAST-MODIFIED:20250331T082730Z
UID:171760-1743897600-1743983999@www.luiginovarese.org
SUMMARY:Quinta Domenica di Quaresima
DESCRIPTION:
URL:https://www.luiginovarese.org/calendario-eventi/quinta-domenica-di-quaresima-2/
ATTACH;FMTTYPE=image/jpeg:https://www.luiginovarese.org/wp-content/uploads/2025/03/6-aprile-Quinta-Domenica-di-Quaresima.jpg
END:VEVENT
BEGIN:VEVENT
DTSTART;VALUE=DATE:20250406
DTEND;VALUE=DATE:20250407
DTSTAMP:20260422T043244
CREATED:20250331T082202Z
LAST-MODIFIED:20250331T082414Z
UID:171759-1743897600-1743983999@www.luiginovarese.org
SUMMARY:Giubileo degli Ammalati e del Mondo della Sanità
DESCRIPTION:
URL:https://www.luiginovarese.org/calendario-eventi/giubileo-degli-ammalati-e-del-mondo-della-sanita/
ATTACH;FMTTYPE=image/jpeg:https://www.luiginovarese.org/wp-content/uploads/2025/03/6-aprile-Giubileo-degli-Ammalati-e-del-Mondo-della-Sanita.jpg
END:VEVENT
BEGIN:VEVENT
DTSTART;VALUE=DATE:20250404
DTEND;VALUE=DATE:20250405
DTSTAMP:20260422T043244
CREATED:20250331T082125Z
LAST-MODIFIED:20250331T082125Z
UID:171758-1743724800-1743811199@www.luiginovarese.org
SUMMARY:Anniversario della morte di San Francesco Marto
DESCRIPTION:
URL:https://www.luiginovarese.org/calendario-eventi/anniversario-della-morte-di-san-francesco-marto/
ATTACH;FMTTYPE=image/jpeg:https://www.luiginovarese.org/wp-content/uploads/2025/03/4-aprile-Anniversario-della-morte-di-San-Francesco-Marto.jpg
END:VEVENT
BEGIN:VEVENT
DTSTART;VALUE=DATE:20250330
DTEND;VALUE=DATE:20250331
DTSTAMP:20260422T043244
CREATED:20250228T123335Z
LAST-MODIFIED:20250228T123734Z
UID:171042-1743292800-1743379199@www.luiginovarese.org
SUMMARY:Anniversario morte Cecilia Maria Cremonesi
DESCRIPTION:
URL:https://www.luiginovarese.org/calendario-eventi/anniversario-morte-cecilia-maria-cremonesi/
ATTACH;FMTTYPE=image/jpeg:https://www.luiginovarese.org/wp-content/uploads/2025/02/30-marzo-Anniversario-morte-Cecilia-Maria-Cremonesi.jpg
END:VEVENT
BEGIN:VEVENT
DTSTART;VALUE=DATE:20250330
DTEND;VALUE=DATE:20250331
DTSTAMP:20260422T043244
CREATED:20250228T123413Z
LAST-MODIFIED:20250228T123413Z
UID:171043-1743292800-1743379199@www.luiginovarese.org
SUMMARY:Quarta Domenica di Quaresima
DESCRIPTION:
URL:https://www.luiginovarese.org/calendario-eventi/quarta-domenica-di-quaresima-2/
ATTACH;FMTTYPE=image/jpeg:https://www.luiginovarese.org/wp-content/uploads/2025/02/30-marzo-Quarta-Domenica-di-Quaresima.jpg
END:VEVENT
BEGIN:VEVENT
DTSTART;VALUE=DATE:20250328
DTEND;VALUE=DATE:20250329
DTSTAMP:20260422T043244
CREATED:20250228T123300Z
LAST-MODIFIED:20250228T123300Z
UID:171041-1743120000-1743206399@www.luiginovarese.org
SUMMARY:Anniversario della morte di Fausto Gei
DESCRIPTION:
URL:https://www.luiginovarese.org/calendario-eventi/anniversario-della-morte-di-fausto-gei/
ATTACH;FMTTYPE=image/jpeg:https://www.luiginovarese.org/wp-content/uploads/2025/02/28-marzo-Anniversario-della-morte-di-Fausto-Gei.jpg
END:VEVENT
BEGIN:VEVENT
DTSTART;VALUE=DATE:20250325
DTEND;VALUE=DATE:20250326
DTSTAMP:20260422T043244
CREATED:20250228T123215Z
LAST-MODIFIED:20250228T123215Z
UID:171038-1742860800-1742947199@www.luiginovarese.org
SUMMARY:Anniversario morte Luigi Rocchi
DESCRIPTION:
URL:https://www.luiginovarese.org/calendario-eventi/anniversario-morte-luigi-rocchi/
ATTACH;FMTTYPE=image/jpeg:https://www.luiginovarese.org/wp-content/uploads/2025/02/26-marzo-Anniversario-morte-Luigi-Rocchi.jpg
END:VEVENT
BEGIN:VEVENT
DTSTART;VALUE=DATE:20250325
DTEND;VALUE=DATE:20250326
DTSTAMP:20260422T043244
CREATED:20250228T123103Z
LAST-MODIFIED:20250228T123103Z
UID:171037-1742860800-1742947199@www.luiginovarese.org
SUMMARY:Annunciazione del Signore
DESCRIPTION:
URL:https://www.luiginovarese.org/calendario-eventi/annunciazione-del-signore-2/
ATTACH;FMTTYPE=image/jpeg:https://www.luiginovarese.org/wp-content/uploads/2025/02/25-marzo-Annunciazione-del-Signore.jpg
END:VEVENT
BEGIN:VEVENT
DTSTART;VALUE=DATE:20250325
DTEND;VALUE=DATE:20250326
DTSTAMP:20260422T043244
CREATED:20250213T102023Z
LAST-MODIFIED:20250213T102023Z
UID:170414-1742860800-1742947199@www.luiginovarese.org
SUMMARY:25 marzo 1858
DESCRIPTION:
URL:https://www.luiginovarese.org/calendario-eventi/25-marzo-1858/
ATTACH;FMTTYPE=image/jpeg:https://www.luiginovarese.org/wp-content/uploads/2025/02/16-25-marzo.jpg
END:VEVENT
BEGIN:VEVENT
DTSTART;VALUE=DATE:20250323
DTEND;VALUE=DATE:20250324
DTSTAMP:20260422T043244
CREATED:20250228T123015Z
LAST-MODIFIED:20250228T123015Z
UID:171036-1742688000-1742774399@www.luiginovarese.org
SUMMARY:Terza Domenica di Quaresima
DESCRIPTION:
URL:https://www.luiginovarese.org/calendario-eventi/terza-domenica-di-quaresima-2/
ATTACH;FMTTYPE=image/jpeg:https://www.luiginovarese.org/wp-content/uploads/2025/02/23-marzo-Terza-Domenica-di-Queresima.jpg
END:VEVENT
BEGIN:VEVENT
DTSTART;VALUE=DATE:20250321
DTEND;VALUE=DATE:20250322
DTSTAMP:20260422T043244
CREATED:20250228T122909Z
LAST-MODIFIED:20250228T122909Z
UID:170943-1742515200-1742601599@www.luiginovarese.org
SUMMARY:Giornata Internazionale della poesia
DESCRIPTION:
URL:https://www.luiginovarese.org/calendario-eventi/giornata-internazionale-della-poesia/
ATTACH;FMTTYPE=image/jpeg:https://www.luiginovarese.org/wp-content/uploads/2025/02/21-marzo-Giornata-Internazionale-della-poesia.jpg
END:VEVENT
BEGIN:VEVENT
DTSTART;VALUE=DATE:20250320
DTEND;VALUE=DATE:20250321
DTSTAMP:20260422T043244
CREATED:20250228T122829Z
LAST-MODIFIED:20250228T122829Z
UID:171029-1742428800-1742515199@www.luiginovarese.org
SUMMARY:Giornata internazionale della felicità
DESCRIPTION:
URL:https://www.luiginovarese.org/calendario-eventi/giornata-internazionale-della-felicita-2/
ATTACH;FMTTYPE=image/jpeg:https://www.luiginovarese.org/wp-content/uploads/2025/02/20-marzo-Giornata-internazionale-della-felicita.jpg
END:VEVENT
BEGIN:VEVENT
DTSTART;VALUE=DATE:20250319
DTEND;VALUE=DATE:20250320
DTSTAMP:20260422T043244
CREATED:20250228T122749Z
LAST-MODIFIED:20250228T122749Z
UID:171027-1742342400-1742428799@www.luiginovarese.org
SUMMARY:San Giuseppe
DESCRIPTION:
URL:https://www.luiginovarese.org/calendario-eventi/san-giuseppe-3/
ATTACH;FMTTYPE=image/jpeg:https://www.luiginovarese.org/wp-content/uploads/2025/02/19-marzo-San-Giuseppe.jpg
END:VEVENT
BEGIN:VEVENT
DTSTART;VALUE=DATE:20250316
DTEND;VALUE=DATE:20250317
DTSTAMP:20260422T043244
CREATED:20250228T122707Z
LAST-MODIFIED:20250228T122707Z
UID:171026-1742083200-1742169599@www.luiginovarese.org
SUMMARY:Seconda Domenica di Quaresima
DESCRIPTION:
URL:https://www.luiginovarese.org/calendario-eventi/seconda-domenica-di-quaresima-3/
ATTACH;FMTTYPE=image/jpeg:https://www.luiginovarese.org/wp-content/uploads/2025/02/16-marzo-Seconda-Domenica-di-Quaresima.jpg
END:VEVENT
BEGIN:VEVENT
DTSTART;VALUE=DATE:20250309
DTEND;VALUE=DATE:20250310
DTSTAMP:20260422T043244
CREATED:20250228T122603Z
LAST-MODIFIED:20250228T122603Z
UID:170942-1741478400-1741564799@www.luiginovarese.org
SUMMARY:Prima domenica di Quaresima
DESCRIPTION:
URL:https://www.luiginovarese.org/calendario-eventi/prima-domenica-di-quaresima-4/
ATTACH;FMTTYPE=image/jpeg:https://www.luiginovarese.org/wp-content/uploads/2025/02/9-marzo-Prima-domenica-di-Quaresima.jpg
END:VEVENT
BEGIN:VEVENT
DTSTART;VALUE=DATE:20250308
DTEND;VALUE=DATE:20250309
DTSTAMP:20260422T043244
CREATED:20250228T122517Z
LAST-MODIFIED:20250228T122517Z
UID:170941-1741392000-1741478399@www.luiginovarese.org
SUMMARY:Giornata Internazionale della donna
DESCRIPTION:
URL:https://www.luiginovarese.org/calendario-eventi/giornata-internazionale-della-donna-2/
ATTACH;FMTTYPE=image/jpeg:https://www.luiginovarese.org/wp-content/uploads/2025/02/8-marzo-Giornata-Internazionale-della-donna.jpg
END:VEVENT
BEGIN:VEVENT
DTSTART;VALUE=DATE:20250305
DTEND;VALUE=DATE:20250306
DTSTAMP:20260422T043244
CREATED:20250228T122434Z
LAST-MODIFIED:20250228T122434Z
UID:170940-1741132800-1741219199@www.luiginovarese.org
SUMMARY:Mercoledì delle Ceneri
DESCRIPTION:
URL:https://www.luiginovarese.org/calendario-eventi/mercoledi-delle-ceneri-4/
ATTACH;FMTTYPE=image/jpeg:https://www.luiginovarese.org/wp-content/uploads/2025/02/5-marzo-Mercoledi-delle-Ceneri.jpg
END:VEVENT
BEGIN:VEVENT
DTSTART;VALUE=DATE:20250304
DTEND;VALUE=DATE:20250305
DTSTAMP:20260422T043244
CREATED:20250213T101934Z
LAST-MODIFIED:20250213T102717Z
UID:170413-1741046400-1741132799@www.luiginovarese.org
SUMMARY:4 marzo 1858
DESCRIPTION:
URL:https://www.luiginovarese.org/calendario-eventi/4-marzo-1858/
ATTACH;FMTTYPE=image/jpeg:https://www.luiginovarese.org/wp-content/uploads/2025/02/15-4-marzo.jpg
END:VEVENT
BEGIN:VEVENT
DTSTART;VALUE=DATE:20250303
DTEND;VALUE=DATE:20250304
DTSTAMP:20260422T043244
CREATED:20250213T101906Z
LAST-MODIFIED:20250213T101906Z
UID:170412-1740960000-1741046399@www.luiginovarese.org
SUMMARY:3 marzo 1858
DESCRIPTION:
URL:https://www.luiginovarese.org/calendario-eventi/3-marzo-1858/
ATTACH;FMTTYPE=image/jpeg:https://www.luiginovarese.org/wp-content/uploads/2025/02/14-3-marzo.jpg
END:VEVENT
BEGIN:VEVENT
DTSTART;VALUE=DATE:20250302
DTEND;VALUE=DATE:20250303
DTSTAMP:20260422T043244
CREATED:20250213T101825Z
LAST-MODIFIED:20250213T102636Z
UID:170411-1740873600-1740959999@www.luiginovarese.org
SUMMARY:2 marzo 1858
DESCRIPTION:
URL:https://www.luiginovarese.org/calendario-eventi/2-marzo-1858/
ATTACH;FMTTYPE=image/jpeg:https://www.luiginovarese.org/wp-content/uploads/2025/02/13-2-marzo.jpg
END:VEVENT
BEGIN:VEVENT
DTSTART;VALUE=DATE:20250301
DTEND;VALUE=DATE:20250302
DTSTAMP:20260422T043244
CREATED:20250213T101754Z
LAST-MODIFIED:20250228T123629Z
UID:170410-1740787200-1740873599@www.luiginovarese.org
SUMMARY:1 marzo 1858
DESCRIPTION:
URL:https://www.luiginovarese.org/calendario-eventi/1-marzo1858/
ATTACH;FMTTYPE=image/jpeg:https://www.luiginovarese.org/wp-content/uploads/2025/02/12-1-marzo.jpg
END:VEVENT
BEGIN:VEVENT
DTSTART;VALUE=DATE:20250228
DTEND;VALUE=DATE:20250301
DTSTAMP:20260422T043244
CREATED:20250213T101719Z
LAST-MODIFIED:20250213T102322Z
UID:170409-1740700800-1740787199@www.luiginovarese.org
SUMMARY:28 febbraio 1858
DESCRIPTION:
URL:https://www.luiginovarese.org/calendario-eventi/28-febbraio-1858/
ATTACH;FMTTYPE=image/jpeg:https://www.luiginovarese.org/wp-content/uploads/2025/02/11-28-febbraio.jpg
END:VEVENT
BEGIN:VEVENT
DTSTART;VALUE=DATE:20250227
DTEND;VALUE=DATE:20250228
DTSTAMP:20260422T043244
CREATED:20250213T101639Z
LAST-MODIFIED:20250213T102304Z
UID:170408-1740614400-1740700799@www.luiginovarese.org
SUMMARY:27 febbraio 1858
DESCRIPTION:
URL:https://www.luiginovarese.org/calendario-eventi/27-febbraio-1858/
ATTACH;FMTTYPE=image/jpeg:https://www.luiginovarese.org/wp-content/uploads/2025/02/10-27-febbraio.jpg
END:VEVENT
END:VCALENDAR