BEGIN:VCALENDAR
VERSION:2.0
PRODID:-//Opera Beato Luigi Novarese - ECPv6.15.17//NONSGML v1.0//EN
CALSCALE:GREGORIAN
METHOD:PUBLISH
X-WR-CALNAME:Opera Beato Luigi Novarese
X-ORIGINAL-URL:https://www.luiginovarese.org
X-WR-CALDESC:Eventi per Opera Beato Luigi Novarese
REFRESH-INTERVAL;VALUE=DURATION:PT1H
X-Robots-Tag:noindex
X-PUBLISHED-TTL:PT1H
BEGIN:VTIMEZONE
TZID:Europe/Rome
BEGIN:DAYLIGHT
TZOFFSETFROM:+0100
TZOFFSETTO:+0200
TZNAME:CEST
DTSTART:20230326T010000
END:DAYLIGHT
BEGIN:STANDARD
TZOFFSETFROM:+0200
TZOFFSETTO:+0100
TZNAME:CET
DTSTART:20231029T010000
END:STANDARD
BEGIN:DAYLIGHT
TZOFFSETFROM:+0100
TZOFFSETTO:+0200
TZNAME:CEST
DTSTART:20240331T010000
END:DAYLIGHT
BEGIN:STANDARD
TZOFFSETFROM:+0200
TZOFFSETTO:+0100
TZNAME:CET
DTSTART:20241027T010000
END:STANDARD
BEGIN:DAYLIGHT
TZOFFSETFROM:+0100
TZOFFSETTO:+0200
TZNAME:CEST
DTSTART:20250330T010000
END:DAYLIGHT
BEGIN:STANDARD
TZOFFSETFROM:+0200
TZOFFSETTO:+0100
TZNAME:CET
DTSTART:20251026T010000
END:STANDARD
END:VTIMEZONE
BEGIN:VEVENT
DTSTART;VALUE=DATE:20241015
DTEND;VALUE=DATE:20241016
DTSTAMP:20260423T002155
CREATED:20240930T062500Z
LAST-MODIFIED:20240930T062500Z
UID:164806-1728950400-1729036799@www.luiginovarese.org
SUMMARY:Teresa d'Avila
DESCRIPTION:Scarica la locandina
URL:https://www.luiginovarese.org/calendario-eventi/teresa-davila/
ATTACH;FMTTYPE=image/jpeg:https://www.luiginovarese.org/wp-content/uploads/2024/09/15-ottobre-teresa-davila.jpg
END:VEVENT
BEGIN:VEVENT
DTSTART;VALUE=DATE:20241013
DTEND;VALUE=DATE:20241014
DTSTAMP:20260423T002155
CREATED:20240930T062339Z
LAST-MODIFIED:20240930T062339Z
UID:164805-1728777600-1728863999@www.luiginovarese.org
SUMMARY:Apparizione Fatima
DESCRIPTION:Scarica la locandina
URL:https://www.luiginovarese.org/calendario-eventi/apparizione-fatima/
ATTACH;FMTTYPE=image/jpeg:https://www.luiginovarese.org/wp-content/uploads/2024/09/13-ottobre-apparizione-fatima.jpg
END:VEVENT
BEGIN:VEVENT
DTSTART;VALUE=DATE:20241011
DTEND;VALUE=DATE:20241012
DTSTAMP:20260423T002155
CREATED:20240930T062230Z
LAST-MODIFIED:20240930T062230Z
UID:164804-1728604800-1728691199@www.luiginovarese.org
SUMMARY:San Giovanni XXIII
DESCRIPTION:Scarica la locandina
URL:https://www.luiginovarese.org/calendario-eventi/san-giovanni-xxiii-2/
ATTACH;FMTTYPE=image/jpeg:https://www.luiginovarese.org/wp-content/uploads/2024/09/11-ottobre-san-giovanni-XXIII.jpg
END:VEVENT
BEGIN:VEVENT
DTSTART;VALUE=DATE:20241007
DTEND;VALUE=DATE:20241008
DTSTAMP:20260423T002155
CREATED:20240930T062117Z
LAST-MODIFIED:20240930T062117Z
UID:164803-1728259200-1728345599@www.luiginovarese.org
SUMMARY:Vergine del rosario
DESCRIPTION:Scarica la locandina
URL:https://www.luiginovarese.org/calendario-eventi/vergine-del-rosario/
ATTACH;FMTTYPE=image/jpeg:https://www.luiginovarese.org/wp-content/uploads/2024/09/7-ottobre-Vergine-del-rosario.jpg
END:VEVENT
BEGIN:VEVENT
DTSTART;VALUE=DATE:20241005
DTEND;VALUE=DATE:20241006
DTSTAMP:20260423T002155
CREATED:20240930T061915Z
LAST-MODIFIED:20240930T064906Z
UID:164802-1728086400-1728172799@www.luiginovarese.org
SUMMARY:Santa Faustina
DESCRIPTION:Scarica la locandina
URL:https://www.luiginovarese.org/calendario-eventi/santa-faustina-2/
ATTACH;FMTTYPE=image/jpeg:https://www.luiginovarese.org/wp-content/uploads/2024/09/5-ottobre-santa-Faustina.jpg
END:VEVENT
BEGIN:VEVENT
DTSTART;VALUE=DATE:20241002
DTEND;VALUE=DATE:20241003
DTSTAMP:20260423T002155
CREATED:20240930T061702Z
LAST-MODIFIED:20240930T061702Z
UID:164801-1727827200-1727913599@www.luiginovarese.org
SUMMARY:Santi angeli custodi
DESCRIPTION:Scarica la locandina
URL:https://www.luiginovarese.org/calendario-eventi/santi-angeli-custodi-2/
ATTACH;FMTTYPE=image/jpeg:https://www.luiginovarese.org/wp-content/uploads/2024/09/2-ottobre-Santi-angeli-Custodi.jpg
END:VEVENT
BEGIN:VEVENT
DTSTART;VALUE=DATE:20241001
DTEND;VALUE=DATE:20241002
DTSTAMP:20260423T002155
CREATED:20240930T061332Z
LAST-MODIFIED:20240930T061332Z
UID:164800-1727740800-1727827199@www.luiginovarese.org
SUMMARY:Giornata persone anziane
DESCRIPTION:Scarica la locandina
URL:https://www.luiginovarese.org/calendario-eventi/giornata-persone-anziane/
ATTACH;FMTTYPE=image/jpeg:https://www.luiginovarese.org/wp-content/uploads/2024/09/1-ottobre-giornata-persone-anziane.jpg
END:VEVENT
BEGIN:VEVENT
DTSTART;VALUE=DATE:20240929
DTEND;VALUE=DATE:20240930
DTSTAMP:20260423T002155
CREATED:20240902T072842Z
LAST-MODIFIED:20240902T072842Z
UID:163853-1727568000-1727654399@www.luiginovarese.org
SUMMARY:Santi Michele Gabriele e Raffaele
DESCRIPTION:Scarica la locandina
URL:https://www.luiginovarese.org/calendario-eventi/santi-michele-gabriele-e-raffaele/
ATTACH;FMTTYPE=image/jpeg:https://www.luiginovarese.org/wp-content/uploads/2024/09/29-settembre-santi-Michele-Gabriele-e-Raffaele-1.jpg
END:VEVENT
BEGIN:VEVENT
DTSTART;VALUE=DATE:20240921
DTEND;VALUE=DATE:20240922
DTSTAMP:20260423T002155
CREATED:20240902T072753Z
LAST-MODIFIED:20240902T072753Z
UID:163852-1726876800-1726963199@www.luiginovarese.org
SUMMARY:Giornata mondiale della Gratitudine
DESCRIPTION:Scarica la locandina
URL:https://www.luiginovarese.org/calendario-eventi/giornata-mondiale-della-gratitudine/
ATTACH;FMTTYPE=image/jpeg:https://www.luiginovarese.org/wp-content/uploads/2024/09/21-settembre-Giornata-mondiale-della-Gratitudine-1.jpg
END:VEVENT
BEGIN:VEVENT
DTSTART;VALUE=DATE:20240915
DTEND;VALUE=DATE:20240916
DTSTAMP:20260423T002155
CREATED:20240902T072443Z
LAST-MODIFIED:20240902T072443Z
UID:163851-1726358400-1726444799@www.luiginovarese.org
SUMMARY:Vergine Addolorata
DESCRIPTION:Scarica la locandina
URL:https://www.luiginovarese.org/calendario-eventi/vergine-addolorata/
ATTACH;FMTTYPE=image/jpeg:https://www.luiginovarese.org/wp-content/uploads/2024/09/15-settembre-Vergine-Addolorata-1.jpg
END:VEVENT
BEGIN:VEVENT
DTSTART;VALUE=DATE:20240914
DTEND;VALUE=DATE:20240915
DTSTAMP:20260423T002155
CREATED:20240902T072330Z
LAST-MODIFIED:20240902T073004Z
UID:163850-1726272000-1726358399@www.luiginovarese.org
SUMMARY:Esaltazione della Santa Croce
DESCRIPTION:Scarica la locandina
URL:https://www.luiginovarese.org/calendario-eventi/esaltazione-della-santa-croce-4/
ATTACH;FMTTYPE=image/jpeg:https://www.luiginovarese.org/wp-content/uploads/2024/09/14-settembre-Esaltazione-della-Santa-Croce-1.jpg
END:VEVENT
BEGIN:VEVENT
DTSTART;VALUE=DATE:20240913
DTEND;VALUE=DATE:20240914
DTSTAMP:20260423T002155
CREATED:20240910T132534Z
LAST-MODIFIED:20240910T132534Z
UID:164347-1726185600-1726271999@www.luiginovarese.org
SUMMARY:Quinta apparizione della Vergine a Fatima
DESCRIPTION:Scarica la locandina
URL:https://www.luiginovarese.org/calendario-eventi/quinta-apparizione-della-vergine-a-fatima/
ATTACH;FMTTYPE=image/jpeg:https://www.luiginovarese.org/wp-content/uploads/2024/09/Quinta-apparizione.jpg
END:VEVENT
BEGIN:VEVENT
DTSTART;VALUE=DATE:20240913
DTEND;VALUE=DATE:20240916
DTSTAMP:20260423T002155
CREATED:20240603T063032Z
LAST-MODIFIED:20240603T063522Z
UID:160390-1726185600-1726444799@www.luiginovarese.org
SUMMARY:Convegno annuale di programmazione
DESCRIPTION:
URL:https://www.luiginovarese.org/calendario-eventi/convegno-di-programmazione/
ATTACH;FMTTYPE=image/jpeg:https://www.luiginovarese.org/wp-content/uploads/2020/04/notepad-117597.jpg
END:VEVENT
BEGIN:VEVENT
DTSTART;VALUE=DATE:20240912
DTEND;VALUE=DATE:20240913
DTSTAMP:20260423T002155
CREATED:20240902T072225Z
LAST-MODIFIED:20240902T072225Z
UID:163849-1726099200-1726185599@www.luiginovarese.org
SUMMARY:Santissimo Nome di Maria
DESCRIPTION:Scarica la locandina
URL:https://www.luiginovarese.org/calendario-eventi/santissimo-nome-di-maria-4/
ATTACH;FMTTYPE=image/jpeg:https://www.luiginovarese.org/wp-content/uploads/2024/09/12-settembre-Santissimo-Nome-di-Maria-1.jpg
END:VEVENT
BEGIN:VEVENT
DTSTART;VALUE=DATE:20240908
DTEND;VALUE=DATE:20240909
DTSTAMP:20260423T002155
CREATED:20240902T072011Z
LAST-MODIFIED:20240902T072011Z
UID:163848-1725753600-1725839999@www.luiginovarese.org
SUMMARY:Natività di Maria
DESCRIPTION:Scarica la locandina
URL:https://www.luiginovarese.org/calendario-eventi/nativita-di-maria-3/
ATTACH;FMTTYPE=image/jpeg:https://www.luiginovarese.org/wp-content/uploads/2024/09/8-settembre-nativita-di-Maria-1.jpg
END:VEVENT
BEGIN:VEVENT
DTSTART;VALUE=DATE:20240905
DTEND;VALUE=DATE:20240906
DTSTAMP:20260423T002155
CREATED:20240902T071837Z
LAST-MODIFIED:20240902T071837Z
UID:163938-1725494400-1725580799@www.luiginovarese.org
SUMMARY:Giornata Mondiale della carità
DESCRIPTION:Scarica la locandina
URL:https://www.luiginovarese.org/calendario-eventi/giornata-mondiale-della-carita/
ATTACH;FMTTYPE=image/jpeg:https://www.luiginovarese.org/wp-content/uploads/2024/09/5-settembre-Giornata-Mondiale-della-carita-1.jpg
END:VEVENT
BEGIN:VEVENT
DTSTART;VALUE=DATE:20240822
DTEND;VALUE=DATE:20240823
DTSTAMP:20260423T002155
CREATED:20240801T070644Z
LAST-MODIFIED:20240801T070644Z
UID:162509-1724284800-1724371199@www.luiginovarese.org
SUMMARY:Beata Vergine Maria Regina
DESCRIPTION:Scarica la locandina
URL:https://www.luiginovarese.org/calendario-eventi/beata-vergine-maria-regina/
ATTACH;FMTTYPE=image/jpeg:https://www.luiginovarese.org/wp-content/uploads/2024/08/22-agosto-Maria-regina.jpg
END:VEVENT
BEGIN:VEVENT
DTSTART;VALUE=DATE:20240820
DTEND;VALUE=DATE:20240821
DTSTAMP:20260423T002155
CREATED:20240801T070428Z
LAST-MODIFIED:20240801T070428Z
UID:162510-1724112000-1724198399@www.luiginovarese.org
SUMMARY:San Bernardo di Chiaravalle
DESCRIPTION:Scarica la locandina
URL:https://www.luiginovarese.org/calendario-eventi/san-bernardo-di-chiaravalle/
ATTACH;FMTTYPE=image/jpeg:https://www.luiginovarese.org/wp-content/uploads/2024/08/20-agosto-san-Bernardo.jpg
END:VEVENT
BEGIN:VEVENT
DTSTART;VALUE=DATE:20240818
DTEND;VALUE=DATE:20240825
DTSTAMP:20260423T002155
CREATED:20240603T062921Z
LAST-MODIFIED:20240603T062921Z
UID:160389-1723939200-1724543999@www.luiginovarese.org
SUMMARY:A Re (Vb) - Diocesi di Firenze – Pinerolo – Verona
DESCRIPTION:
URL:https://www.luiginovarese.org/calendario-eventi/a-re-vb-diocesi-di-firenze-pinerolo-verona/
END:VEVENT
BEGIN:VEVENT
DTSTART;VALUE=DATE:20240815
DTEND;VALUE=DATE:20240816
DTSTAMP:20260423T002155
CREATED:20240801T070312Z
LAST-MODIFIED:20240801T070312Z
UID:162506-1723680000-1723766399@www.luiginovarese.org
SUMMARY:Assunzione della Beata Vergine Maria in Cielo
DESCRIPTION:Scarica la locandina
URL:https://www.luiginovarese.org/calendario-eventi/assunzione-della-beata-vergine-maria-in-cielo/
ATTACH;FMTTYPE=image/jpeg:https://www.luiginovarese.org/wp-content/uploads/2024/08/15-agosto-assunzione.jpg
END:VEVENT
BEGIN:VEVENT
DTSTART;VALUE=DATE:20240813
DTEND;VALUE=DATE:20240814
DTSTAMP:20260423T002155
CREATED:20240801T070138Z
LAST-MODIFIED:20240801T070138Z
UID:162507-1723507200-1723593599@www.luiginovarese.org
SUMMARY:Quarta apparizione a Fatima
DESCRIPTION:Scarica la locandina
URL:https://www.luiginovarese.org/calendario-eventi/quarta-apparizione-a-fatima/
ATTACH;FMTTYPE=image/jpeg:https://www.luiginovarese.org/wp-content/uploads/2024/08/13-agosto-apparizione-a-Fatima.jpg
END:VEVENT
BEGIN:VEVENT
DTSTART;VALUE=DATE:20240806
DTEND;VALUE=DATE:20240807
DTSTAMP:20260423T002155
CREATED:20240801T065948Z
LAST-MODIFIED:20240801T065948Z
UID:162505-1722902400-1722988799@www.luiginovarese.org
SUMMARY:Trasfigurazione di Gesù
DESCRIPTION:Scarica la locandina
URL:https://www.luiginovarese.org/calendario-eventi/trasfigurazione-di-gesu-2/
ATTACH;FMTTYPE=image/jpeg:https://www.luiginovarese.org/wp-content/uploads/2024/08/6-agosto-Trasfigurazione.jpg
END:VEVENT
BEGIN:VEVENT
DTSTART;VALUE=DATE:20240804
DTEND;VALUE=DATE:20240811
DTSTAMP:20260423T002155
CREATED:20240603T062811Z
LAST-MODIFIED:20240603T063509Z
UID:160388-1722729600-1723334399@www.luiginovarese.org
SUMMARY:A Re (Vb) - Diocesi di Torino – Vigevano – Tortona – Asti – Vercelli – Ravenna – Casale M.to
DESCRIPTION:
URL:https://www.luiginovarese.org/calendario-eventi/a-re-vb-torino-vigevano-tortona-asti-vercelli-ravenna-casale/
ATTACH;FMTTYPE=image/jpeg:https://www.luiginovarese.org/wp-content/uploads/2024/06/A-Re-3.jpg
END:VEVENT
BEGIN:VEVENT
DTSTART;VALUE=DATE:20240730
DTEND;VALUE=DATE:20240731
DTSTAMP:20260423T002155
CREATED:20240711T095758Z
LAST-MODIFIED:20240711T095758Z
UID:161458-1722297600-1722383999@www.luiginovarese.org
SUMMARY:Giornata dell'amicizia
DESCRIPTION:Scarica la locandina
URL:https://www.luiginovarese.org/calendario-eventi/giornata-dellamicizia-2/
ATTACH;FMTTYPE=image/jpeg:https://www.luiginovarese.org/wp-content/uploads/2024/07/30-luglio-Giornata-dellamicizia.jpg
END:VEVENT
BEGIN:VEVENT
DTSTART;VALUE=DATE:20240729
DTEND;VALUE=DATE:20240730
DTSTAMP:20260423T002155
CREATED:20240711T095632Z
LAST-MODIFIED:20240711T095632Z
UID:161457-1722211200-1722297599@www.luiginovarese.org
SUMMARY:Nascita del Beato Luigi Novarese
DESCRIPTION:Scarica la locandina
URL:https://www.luiginovarese.org/calendario-eventi/nascita-del-beato-luigi-novarese/
ATTACH;FMTTYPE=image/jpeg:https://www.luiginovarese.org/wp-content/uploads/2024/07/29-luglio-Nascita-Beato-Novarese.jpg
END:VEVENT
BEGIN:VEVENT
DTSTART;VALUE=DATE:20240728
DTEND;VALUE=DATE:20240729
DTSTAMP:20260423T002155
CREATED:20240711T095513Z
LAST-MODIFIED:20240711T095513Z
UID:161456-1722124800-1722211199@www.luiginovarese.org
SUMMARY:Giornata dei Nonni e degli Anziani
DESCRIPTION:Scarica la locandina
URL:https://www.luiginovarese.org/calendario-eventi/giornata-dei-nonni-e-degli-anziani/
ATTACH;FMTTYPE=image/jpeg:https://www.luiginovarese.org/wp-content/uploads/2024/07/28-luglio-Giornata-dei-Nonni-e-degli-Anziani.jpg
END:VEVENT
BEGIN:VEVENT
DTSTART;VALUE=DATE:20240728
DTEND;VALUE=DATE:20240804
DTSTAMP:20260423T002155
CREATED:20240603T062706Z
LAST-MODIFIED:20240603T063451Z
UID:160387-1722124800-1722729599@www.luiginovarese.org
SUMMARY:A Re (Vb) - Regione Marche e Diocesi di Novara e Livorno
DESCRIPTION:
URL:https://www.luiginovarese.org/calendario-eventi/a-re-vb-regione-marche-e-diocesi-di-novara-livorno/
ATTACH;FMTTYPE=image/jpeg:https://www.luiginovarese.org/wp-content/uploads/2024/06/A-Re-3.jpg
END:VEVENT
BEGIN:VEVENT
DTSTART;VALUE=DATE:20240720
DTEND;VALUE=DATE:20240721
DTSTAMP:20260423T002155
CREATED:20240711T095409Z
LAST-MODIFIED:20240711T095409Z
UID:161455-1721433600-1721519999@www.luiginovarese.org
SUMMARY:Beato Luigi Novarese
DESCRIPTION:Scarica la locandina
URL:https://www.luiginovarese.org/calendario-eventi/beato-luigi-novarese-3/
ATTACH;FMTTYPE=image/jpeg:https://www.luiginovarese.org/wp-content/uploads/2024/07/20-luglio-beato-L-Novarese.jpg
END:VEVENT
BEGIN:VEVENT
DTSTART;VALUE=DATE:20240716
DTEND;VALUE=DATE:20240717
DTSTAMP:20260423T002155
CREATED:20240711T095315Z
LAST-MODIFIED:20240711T095315Z
UID:161454-1721088000-1721174399@www.luiginovarese.org
SUMMARY:Beata Vergine del Monte Carmelo
DESCRIPTION:Scarica la locandina
URL:https://www.luiginovarese.org/calendario-eventi/beata-vergine-del-monte-carmelo/
ATTACH;FMTTYPE=image/jpeg:https://www.luiginovarese.org/wp-content/uploads/2024/07/16-luglio-Beata-Vergine-del-Monte-Carmelo.jpg
END:VEVENT
BEGIN:VEVENT
DTSTART;VALUE=DATE:20240714
DTEND;VALUE=DATE:20240721
DTSTAMP:20260423T002155
CREATED:20240603T062610Z
LAST-MODIFIED:20240603T062610Z
UID:160386-1720915200-1721519999@www.luiginovarese.org
SUMMARY:A Re (Vb) - Diocesi di Modena - Reggio Emilia - Parma – Cesena – Bologna – Firenze
DESCRIPTION:
URL:https://www.luiginovarese.org/calendario-eventi/a-re-vb-diocesi-di-modena-reggio-emilia-parma-cesena-bologna-firenze/
ATTACH;FMTTYPE=image/jpeg:https://www.luiginovarese.org/wp-content/uploads/2024/06/A-Re-3.jpg
END:VEVENT
END:VCALENDAR