BEGIN:VCALENDAR
VERSION:2.0
PRODID:-//Opera Beato Luigi Novarese - ECPv6.15.17//NONSGML v1.0//EN
CALSCALE:GREGORIAN
METHOD:PUBLISH
X-WR-CALNAME:Opera Beato Luigi Novarese
X-ORIGINAL-URL:https://www.luiginovarese.org
X-WR-CALDESC:Eventi per Opera Beato Luigi Novarese
REFRESH-INTERVAL;VALUE=DURATION:PT1H
X-Robots-Tag:noindex
X-PUBLISHED-TTL:PT1H
BEGIN:VTIMEZONE
TZID:Europe/Rome
BEGIN:DAYLIGHT
TZOFFSETFROM:+0100
TZOFFSETTO:+0200
TZNAME:CEST
DTSTART:20230326T010000
END:DAYLIGHT
BEGIN:STANDARD
TZOFFSETFROM:+0200
TZOFFSETTO:+0100
TZNAME:CET
DTSTART:20231029T010000
END:STANDARD
BEGIN:DAYLIGHT
TZOFFSETFROM:+0100
TZOFFSETTO:+0200
TZNAME:CEST
DTSTART:20240331T010000
END:DAYLIGHT
BEGIN:STANDARD
TZOFFSETFROM:+0200
TZOFFSETTO:+0100
TZNAME:CET
DTSTART:20241027T010000
END:STANDARD
BEGIN:DAYLIGHT
TZOFFSETFROM:+0100
TZOFFSETTO:+0200
TZNAME:CEST
DTSTART:20250330T010000
END:DAYLIGHT
BEGIN:STANDARD
TZOFFSETFROM:+0200
TZOFFSETTO:+0100
TZNAME:CET
DTSTART:20251026T010000
END:STANDARD
END:VTIMEZONE
BEGIN:VEVENT
DTSTART;VALUE=DATE:20240716
DTEND;VALUE=DATE:20240717
DTSTAMP:20260423T010334
CREATED:20240711T095315Z
LAST-MODIFIED:20240711T095315Z
UID:161454-1721088000-1721174399@www.luiginovarese.org
SUMMARY:Beata Vergine del Monte Carmelo
DESCRIPTION:Scarica la locandina
URL:https://www.luiginovarese.org/calendario-eventi/beata-vergine-del-monte-carmelo/
ATTACH;FMTTYPE=image/jpeg:https://www.luiginovarese.org/wp-content/uploads/2024/07/16-luglio-Beata-Vergine-del-Monte-Carmelo.jpg
END:VEVENT
BEGIN:VEVENT
DTSTART;VALUE=DATE:20240714
DTEND;VALUE=DATE:20240721
DTSTAMP:20260423T010334
CREATED:20240603T062610Z
LAST-MODIFIED:20240603T062610Z
UID:160386-1720915200-1721519999@www.luiginovarese.org
SUMMARY:A Re (Vb) - Diocesi di Modena - Reggio Emilia - Parma – Cesena – Bologna – Firenze
DESCRIPTION:
URL:https://www.luiginovarese.org/calendario-eventi/a-re-vb-diocesi-di-modena-reggio-emilia-parma-cesena-bologna-firenze/
ATTACH;FMTTYPE=image/jpeg:https://www.luiginovarese.org/wp-content/uploads/2024/06/A-Re-3.jpg
END:VEVENT
BEGIN:VEVENT
DTSTART;VALUE=DATE:20240713
DTEND;VALUE=DATE:20240714
DTSTAMP:20260423T010334
CREATED:20240713T160418Z
LAST-MODIFIED:20240713T160450Z
UID:161609-1720828800-1720915199@www.luiginovarese.org
SUMMARY:Terza apparizione di Fatima
DESCRIPTION:Scarica la locandina
URL:https://www.luiginovarese.org/calendario-eventi/terza-apparizione-di-fatima/
ATTACH;FMTTYPE=image/jpeg:https://www.luiginovarese.org/wp-content/uploads/2024/07/Terza-apparizione-di-Fatima.jpg
END:VEVENT
BEGIN:VEVENT
DTSTART;VALUE=DATE:20240711
DTEND;VALUE=DATE:20240712
DTSTAMP:20260423T010334
CREATED:20240711T095209Z
LAST-MODIFIED:20240711T095209Z
UID:161453-1720656000-1720742399@www.luiginovarese.org
SUMMARY:San Benedetto
DESCRIPTION:Scarica la locandina
URL:https://www.luiginovarese.org/calendario-eventi/san-benedetto/
ATTACH;FMTTYPE=image/jpeg:https://www.luiginovarese.org/wp-content/uploads/2024/07/11-luglio-San-Benedetto.jpg
END:VEVENT
BEGIN:VEVENT
DTSTART;VALUE=DATE:20240707
DTEND;VALUE=DATE:20240713
DTSTAMP:20260423T010334
CREATED:20240603T062424Z
LAST-MODIFIED:20240603T062424Z
UID:160365-1720310400-1720828799@www.luiginovarese.org
SUMMARY:A Re (Vb) - Gruppo Attivo e CVS Valle Vigezzo
DESCRIPTION:
URL:https://www.luiginovarese.org/calendario-eventi/a-re-vb-gruppo-attivo-e-cvs-valle-vigezzo/
ATTACH;FMTTYPE=image/jpeg:https://www.luiginovarese.org/wp-content/uploads/2024/06/A-Re-3.jpg
END:VEVENT
BEGIN:VEVENT
DTSTART;VALUE=DATE:20240706
DTEND;VALUE=DATE:20240707
DTSTAMP:20260423T010334
CREATED:20240705T221611Z
LAST-MODIFIED:20240705T221731Z
UID:161341-1720224000-1720310399@www.luiginovarese.org
SUMMARY:Santa Maria Goretti
DESCRIPTION:Scarica la locandina
URL:https://www.luiginovarese.org/calendario-eventi/santa-maria-goretti-2/
ATTACH;FMTTYPE=image/jpeg:https://www.luiginovarese.org/wp-content/uploads/2024/07/Immagine-WhatsApp-2024-07-05-ore-22.14.57_d2bf1420.jpg
END:VEVENT
BEGIN:VEVENT
DTSTART;VALUE=DATE:20240630
DTEND;VALUE=DATE:20240707
DTSTAMP:20260423T010334
CREATED:20240603T062315Z
LAST-MODIFIED:20240603T062315Z
UID:160369-1719705600-1720310399@www.luiginovarese.org
SUMMARY:A Re (Vb) - Diocesi di Bergamo – Mantova – Regione Umbria
DESCRIPTION:
URL:https://www.luiginovarese.org/calendario-eventi/a-re-vb-diocesi-di-bergamo-mantova-regione-umbria/
ATTACH;FMTTYPE=image/jpeg:https://www.luiginovarese.org/wp-content/uploads/2024/06/A-Re-3.jpg
END:VEVENT
BEGIN:VEVENT
DTSTART;VALUE=DATE:20240623
DTEND;VALUE=DATE:20240630
DTSTAMP:20260423T010334
CREATED:20240620T053231Z
LAST-MODIFIED:20240620T053231Z
UID:160834-1719100800-1719705599@www.luiginovarese.org
SUMMARY:A Re (Vb) - Diocesi di Milano\, Lugano e Pitigliano
DESCRIPTION:
URL:https://www.luiginovarese.org/calendario-eventi/a-re-vb-diocesi-di-milano-lugano-e-pitigliano/
ATTACH;FMTTYPE=image/jpeg:https://www.luiginovarese.org/wp-content/uploads/2024/06/A-Re-3.jpg
END:VEVENT
BEGIN:VEVENT
DTSTART;VALUE=DATE:20240621
DTEND;VALUE=DATE:20240622
DTSTAMP:20260423T010334
CREATED:20240529T062625Z
LAST-MODIFIED:20240529T062625Z
UID:160217-1718928000-1719014399@www.luiginovarese.org
SUMMARY:San Luigi Gonzaga
DESCRIPTION:Scarica la locandina
URL:https://www.luiginovarese.org/calendario-eventi/san-luigi-gonzaga/
ATTACH;FMTTYPE=image/jpeg:https://www.luiginovarese.org/wp-content/uploads/2024/05/21-giugno-San-Luigi-Gonzaga.jpg
END:VEVENT
BEGIN:VEVENT
DTSTART;VALUE=DATE:20240620
DTEND;VALUE=DATE:20240621
DTSTAMP:20260423T010334
CREATED:20240529T062528Z
LAST-MODIFIED:20240529T062528Z
UID:160216-1718841600-1718927999@www.luiginovarese.org
SUMMARY:Giornata mondiale dei profughi
DESCRIPTION:Scarica la locandina
URL:https://www.luiginovarese.org/calendario-eventi/giornata-mondiale-dei-profughi/
ATTACH;FMTTYPE=image/jpeg:https://www.luiginovarese.org/wp-content/uploads/2024/05/20-giugno-Giornata-mondiale-dei-profughi.jpg
END:VEVENT
BEGIN:VEVENT
DTSTART;VALUE=DATE:20240616
DTEND;VALUE=DATE:20240623
DTSTAMP:20260423T010334
CREATED:20240603T062138Z
LAST-MODIFIED:20240603T062138Z
UID:160367-1718496000-1719100799@www.luiginovarese.org
SUMMARY:A Re (Vb) - Diocesi di Savona – Genova – Chiavari – Sanremo
DESCRIPTION:
URL:https://www.luiginovarese.org/calendario-eventi/a-re-vb-diocesi-di-savona-genova-chiavari-sanremo/
ATTACH;FMTTYPE=image/jpeg:https://www.luiginovarese.org/wp-content/uploads/2024/06/A-Re-3.jpg
END:VEVENT
BEGIN:VEVENT
DTSTART;VALUE=DATE:20240613
DTEND;VALUE=DATE:20240614
DTSTAMP:20260423T010334
CREATED:20240529T062436Z
LAST-MODIFIED:20240529T062436Z
UID:160215-1718236800-1718323199@www.luiginovarese.org
SUMMARY:Seconda apparizione di Fatima
DESCRIPTION:Scarica la locandina
URL:https://www.luiginovarese.org/calendario-eventi/seconda-apparizione-di-fatima/
ATTACH;FMTTYPE=image/jpeg:https://www.luiginovarese.org/wp-content/uploads/2024/05/13-giugno-Seconda-aparizione-di-Fatima.jpg
END:VEVENT
BEGIN:VEVENT
DTSTART;VALUE=DATE:20240609
DTEND;VALUE=DATE:20240616
DTSTAMP:20260423T010334
CREATED:20240603T061151Z
LAST-MODIFIED:20240603T063306Z
UID:160366-1717891200-1718495999@www.luiginovarese.org
SUMMARY:A Re (Vb) - Diocesi di Brescia e Vicenza
DESCRIPTION:
URL:https://www.luiginovarese.org/calendario-eventi/esercizi-spirituali-a-re-vb-diocesi-di-brescia-e-vicenza/
ATTACH;FMTTYPE=image/jpeg:https://www.luiginovarese.org/wp-content/uploads/2024/06/A-Re-3.jpg
END:VEVENT
BEGIN:VEVENT
DTSTART;VALUE=DATE:20240608
DTEND;VALUE=DATE:20240609
DTSTAMP:20260423T010334
CREATED:20240529T062329Z
LAST-MODIFIED:20240529T062329Z
UID:160214-1717804800-1717891199@www.luiginovarese.org
SUMMARY:Cuore Immacolato di Maria
DESCRIPTION:Scarica la locandina
URL:https://www.luiginovarese.org/calendario-eventi/cuore-immacolato-di-maria-4/
ATTACH;FMTTYPE=image/jpeg:https://www.luiginovarese.org/wp-content/uploads/2024/05/8-giugno-Cuore-Immacolato-di-Maria.jpg
END:VEVENT
BEGIN:VEVENT
DTSTART;VALUE=DATE:20240607
DTEND;VALUE=DATE:20240608
DTSTAMP:20260423T010334
CREATED:20240529T062248Z
LAST-MODIFIED:20240529T062248Z
UID:160213-1717718400-1717804799@www.luiginovarese.org
SUMMARY:Sacro Cuore di Gesù
DESCRIPTION:Scarica la locandina
URL:https://www.luiginovarese.org/calendario-eventi/sacro-cuore-di-gesu-3/
ATTACH;FMTTYPE=image/jpeg:https://www.luiginovarese.org/wp-content/uploads/2024/05/7-giugno-Sacro-Cuore-di-Gesu.jpg
END:VEVENT
BEGIN:VEVENT
DTSTART;VALUE=DATE:20240602
DTEND;VALUE=DATE:20240603
DTSTAMP:20260423T010334
CREATED:20240529T062140Z
LAST-MODIFIED:20240529T062140Z
UID:160212-1717286400-1717372799@www.luiginovarese.org
SUMMARY:Corpus Domini
DESCRIPTION:Scarica la locandina
URL:https://www.luiginovarese.org/calendario-eventi/corpus-domini-3/
ATTACH;FMTTYPE=image/jpeg:https://www.luiginovarese.org/wp-content/uploads/2024/05/2-giugno-Corpus-Domini.jpg
END:VEVENT
BEGIN:VEVENT
DTSTART;VALUE=DATE:20240531
DTEND;VALUE=DATE:20240601
DTSTAMP:20260423T010334
CREATED:20240430T094506Z
LAST-MODIFIED:20240430T094506Z
UID:159372-1717113600-1717199999@www.luiginovarese.org
SUMMARY:Visitazione della Beata Vergine Maria
DESCRIPTION:Scarica la locandina
URL:https://www.luiginovarese.org/calendario-eventi/visitazione-della-beata-vergine-maria/
ATTACH;FMTTYPE=image/jpeg:https://www.luiginovarese.org/wp-content/uploads/2024/04/31-Visitazione-della-Beata-Vergine-Maria.jpg
END:VEVENT
BEGIN:VEVENT
DTSTART;VALUE=DATE:20240524
DTEND;VALUE=DATE:20240525
DTSTAMP:20260423T010334
CREATED:20240430T094411Z
LAST-MODIFIED:20240430T094411Z
UID:159373-1716508800-1716595199@www.luiginovarese.org
SUMMARY:Maria Ausiliatrice
DESCRIPTION:Scarica la locandina
URL:https://www.luiginovarese.org/calendario-eventi/maria-ausiliatrice/
ATTACH;FMTTYPE=image/jpeg:https://www.luiginovarese.org/wp-content/uploads/2024/04/24-maggio-Maria-Ausiliatrice.jpg
END:VEVENT
BEGIN:VEVENT
DTSTART;VALUE=DATE:20240520
DTEND;VALUE=DATE:20240521
DTSTAMP:20260423T010334
CREATED:20240430T094302Z
LAST-MODIFIED:20240430T094321Z
UID:159371-1716163200-1716249599@www.luiginovarese.org
SUMMARY:Maria Vergine Madre della Chiesa
DESCRIPTION:Scarica la locandina
URL:https://www.luiginovarese.org/calendario-eventi/maria-vergine-madre-della-chiesa/
ATTACH;FMTTYPE=image/jpeg:https://www.luiginovarese.org/wp-content/uploads/2024/04/20-Beata-Maria-Vergine-Madre-della-Chiesa.jpg
END:VEVENT
BEGIN:VEVENT
DTSTART;VALUE=DATE:20240519
DTEND;VALUE=DATE:20240520
DTSTAMP:20260423T010334
CREATED:20240430T094227Z
LAST-MODIFIED:20240430T102513Z
UID:159370-1716076800-1716163199@www.luiginovarese.org
SUMMARY:Pentecoste
DESCRIPTION:Scarica la locandina
URL:https://www.luiginovarese.org/calendario-eventi/pentecoste-3/
ATTACH;FMTTYPE=image/jpeg:https://www.luiginovarese.org/wp-content/uploads/2024/04/19-maggio-Pentecoste.jpg
END:VEVENT
BEGIN:VEVENT
DTSTART;VALUE=DATE:20240513
DTEND;VALUE=DATE:20240514
DTSTAMP:20260423T010334
CREATED:20240430T094151Z
LAST-MODIFIED:20240430T094151Z
UID:159369-1715558400-1715644799@www.luiginovarese.org
SUMMARY:Apparizione di Fatima
DESCRIPTION:Scarica la locandina
URL:https://www.luiginovarese.org/calendario-eventi/apparizione-di-fatima/
ATTACH;FMTTYPE=image/jpeg:https://www.luiginovarese.org/wp-content/uploads/2024/04/13-Prima-Aparizione-di-Fatima.jpg
END:VEVENT
BEGIN:VEVENT
DTSTART;VALUE=DATE:20240512
DTEND;VALUE=DATE:20240513
DTSTAMP:20260423T010334
CREATED:20240430T094106Z
LAST-MODIFIED:20240430T102911Z
UID:159368-1715472000-1715558399@www.luiginovarese.org
SUMMARY:Ascensione del Signore
DESCRIPTION:Scarica la locandina
URL:https://www.luiginovarese.org/calendario-eventi/ascensione-del-signore/
ATTACH;FMTTYPE=image/jpeg:https://www.luiginovarese.org/wp-content/uploads/2024/04/12-maggio-Ascensione-del-Signore.jpg
END:VEVENT
BEGIN:VEVENT
DTSTART;VALUE=DATE:20240511
DTEND;VALUE=DATE:20240512
DTSTAMP:20260423T010334
CREATED:20240430T094027Z
LAST-MODIFIED:20240430T094027Z
UID:159367-1715385600-1715471999@www.luiginovarese.org
SUMMARY:Anniversario beatificazione Luigi Novarese
DESCRIPTION:Scarica la locandina
URL:https://www.luiginovarese.org/calendario-eventi/anniversario-beatificazione-luigi-novarese/
ATTACH;FMTTYPE=image/jpeg:https://www.luiginovarese.org/wp-content/uploads/2024/04/11-maggio-Anniversario-Beatificazione-Luigi-Novarese.jpg
END:VEVENT
BEGIN:VEVENT
DTSTART;VALUE=DATE:20240501
DTEND;VALUE=DATE:20240502
DTSTAMP:20260423T010334
CREATED:20240430T093949Z
LAST-MODIFIED:20240430T093949Z
UID:159366-1714521600-1714607999@www.luiginovarese.org
SUMMARY:San Giuseppe artigiano
DESCRIPTION:Scarica la locandina
URL:https://www.luiginovarese.org/calendario-eventi/san-giuseppe-artigiano/
ATTACH;FMTTYPE=image/jpeg:https://www.luiginovarese.org/wp-content/uploads/2024/04/1-maggio-San-Giuseppe-Artigiano.jpg
END:VEVENT
BEGIN:VEVENT
DTSTART;VALUE=DATE:20240428
DTEND;VALUE=DATE:20240429
DTSTAMP:20260423T010334
CREATED:20240329T084405Z
LAST-MODIFIED:20240329T084405Z
UID:91760-1714262400-1714348799@www.luiginovarese.org
SUMMARY:Luigi Grignion di Montfort
DESCRIPTION:Scarica la locandina
URL:https://www.luiginovarese.org/calendario-eventi/luigi-grignion-di-montfort/
ATTACH;FMTTYPE=image/jpeg:https://www.luiginovarese.org/wp-content/uploads/2024/03/28-aprile-Luigi-Grignion-di-Montfort.jpg
END:VEVENT
BEGIN:VEVENT
DTSTART;VALUE=DATE:20240428
DTEND;VALUE=DATE:20240429
DTSTAMP:20260423T010334
CREATED:20240329T084256Z
LAST-MODIFIED:20240329T090401Z
UID:91759-1714262400-1714348799@www.luiginovarese.org
SUMMARY:Quinta domenica di Pasqua
DESCRIPTION:Scarica la locandina
URL:https://www.luiginovarese.org/calendario-eventi/quinta-domenica-di-pasqua-2/
ATTACH;FMTTYPE=image/jpeg:https://www.luiginovarese.org/wp-content/uploads/2024/03/28-aprile-Quinta-domenica-di-Pasqua.jpg
END:VEVENT
BEGIN:VEVENT
DTSTART;VALUE=DATE:20240422
DTEND;VALUE=DATE:20240423
DTSTAMP:20260423T010334
CREATED:20240329T083802Z
LAST-MODIFIED:20240329T090151Z
UID:91756-1713744000-1713830399@www.luiginovarese.org
SUMMARY:Giornata Mondiale della Terra
DESCRIPTION:Scarica la locandina
URL:https://www.luiginovarese.org/calendario-eventi/giornata-mondiale-della-terra/
ATTACH;FMTTYPE=image/jpeg:https://www.luiginovarese.org/wp-content/uploads/2024/03/22-aprile-Giornata-Mondiale-della-Terra.jpg
END:VEVENT
BEGIN:VEVENT
DTSTART;VALUE=DATE:20240421
DTEND;VALUE=DATE:20240422
DTSTAMP:20260423T010334
CREATED:20240329T085009Z
LAST-MODIFIED:20240329T085009Z
UID:91766-1713657600-1713743999@www.luiginovarese.org
SUMMARY:Quarta domenica di Pasqua
DESCRIPTION:Scarica la locandina
URL:https://www.luiginovarese.org/calendario-eventi/quarta-domenica-di-pasqua-2/
ATTACH;FMTTYPE=image/jpeg:https://www.luiginovarese.org/wp-content/uploads/2024/03/21-aprile-Quarta-domenica-di-Pasqua.jpg
END:VEVENT
BEGIN:VEVENT
DTSTART;VALUE=DATE:20240416
DTEND;VALUE=DATE:20240417
DTSTAMP:20260423T010334
CREATED:20240329T084540Z
LAST-MODIFIED:20240329T090053Z
UID:91761-1713225600-1713311999@www.luiginovarese.org
SUMMARY:Santa Bernardette Soubirous
DESCRIPTION:Scarica la locandina
URL:https://www.luiginovarese.org/calendario-eventi/santa-bernardette-soubirous/
ATTACH;FMTTYPE=image/jpeg:https://www.luiginovarese.org/wp-content/uploads/2024/03/16-aprile-Santa-Bernardette-Soubirous.jpg
END:VEVENT
BEGIN:VEVENT
DTSTART;VALUE=DATE:20240414
DTEND;VALUE=DATE:20240415
DTSTAMP:20260423T010334
CREATED:20240329T085122Z
LAST-MODIFIED:20240329T085122Z
UID:91765-1713052800-1713139199@www.luiginovarese.org
SUMMARY:Terza domenica di Pasqua
DESCRIPTION:Scarica la locandina
URL:https://www.luiginovarese.org/calendario-eventi/terza-domenica-di-pasqua-2/
ATTACH;FMTTYPE=image/jpeg:https://www.luiginovarese.org/wp-content/uploads/2024/03/14-aprile-Terza-domenica-di-Pasqua.jpg
END:VEVENT
END:VCALENDAR