BEGIN:VCALENDAR
VERSION:2.0
PRODID:-//Opera Beato Luigi Novarese - ECPv6.15.17//NONSGML v1.0//EN
CALSCALE:GREGORIAN
METHOD:PUBLISH
X-WR-CALNAME:Opera Beato Luigi Novarese
X-ORIGINAL-URL:https://www.luiginovarese.org
X-WR-CALDESC:Eventi per Opera Beato Luigi Novarese
REFRESH-INTERVAL;VALUE=DURATION:PT1H
X-Robots-Tag:noindex
X-PUBLISHED-TTL:PT1H
BEGIN:VTIMEZONE
TZID:Europe/Rome
BEGIN:DAYLIGHT
TZOFFSETFROM:+0100
TZOFFSETTO:+0200
TZNAME:CEST
DTSTART:20220327T010000
END:DAYLIGHT
BEGIN:STANDARD
TZOFFSETFROM:+0200
TZOFFSETTO:+0100
TZNAME:CET
DTSTART:20221030T010000
END:STANDARD
BEGIN:DAYLIGHT
TZOFFSETFROM:+0100
TZOFFSETTO:+0200
TZNAME:CEST
DTSTART:20230326T010000
END:DAYLIGHT
BEGIN:STANDARD
TZOFFSETFROM:+0200
TZOFFSETTO:+0100
TZNAME:CET
DTSTART:20231029T010000
END:STANDARD
BEGIN:DAYLIGHT
TZOFFSETFROM:+0100
TZOFFSETTO:+0200
TZNAME:CEST
DTSTART:20240331T010000
END:DAYLIGHT
BEGIN:STANDARD
TZOFFSETFROM:+0200
TZOFFSETTO:+0100
TZNAME:CET
DTSTART:20241027T010000
END:STANDARD
END:VTIMEZONE
BEGIN:VEVENT
DTSTART;VALUE=DATE:20230908
DTEND;VALUE=DATE:20230911
DTSTAMP:20260423T010456
CREATED:20230621T090417Z
LAST-MODIFIED:20230905T100553Z
UID:70987-1694131200-1694390399@www.luiginovarese.org
SUMMARY:Assemblea CVS Italia
DESCRIPTION:Scarica il programma
URL:https://www.luiginovarese.org/calendario-eventi/assemblea-cvs-italia/
ATTACH;FMTTYPE=image/jpeg:https://www.luiginovarese.org/wp-content/uploads/2023/06/Logo-CVS-assemblea.jpg
END:VEVENT
BEGIN:VEVENT
DTSTART;VALUE=DATE:20230905
DTEND;VALUE=DATE:20230906
DTSTAMP:20260423T010456
CREATED:20230824T061810Z
LAST-MODIFIED:20230824T061810Z
UID:72420-1693872000-1693958399@www.luiginovarese.org
SUMMARY:Giornata internazionale della carità
DESCRIPTION:Scarica la locandina
URL:https://www.luiginovarese.org/calendario-eventi/giornata-internazionale-della-carita/
ATTACH;FMTTYPE=image/jpeg:https://www.luiginovarese.org/wp-content/uploads/2023/08/5-settembre.jpg
END:VEVENT
BEGIN:VEVENT
DTSTART;VALUE=DATE:20230828
DTEND;VALUE=DATE:20230903
DTSTAMP:20260423T010456
CREATED:20230719T053142Z
LAST-MODIFIED:20230719T053142Z
UID:71556-1693180800-1693699199@www.luiginovarese.org
SUMMARY:Esercizi spirituali a Valleluogo (Av) - Diocesi di Napoli e Pescara
DESCRIPTION:Esercizi spirituali a Valleluogo (Av) – Diocesi di Napoli e Pescara
URL:https://www.luiginovarese.org/calendario-eventi/esercizi-spirituali-a-valleluogo-av-diocesi-di-napoli-e-pescara/
ATTACH;FMTTYPE=image/jpeg:https://www.luiginovarese.org/wp-content/uploads/2023/07/Valleluogo-23.jpg
END:VEVENT
BEGIN:VEVENT
DTSTART;VALUE=DATE:20230824
DTEND;VALUE=DATE:20230827
DTSTAMP:20260423T010456
CREATED:20230727T060836Z
LAST-MODIFIED:20230727T060911Z
UID:71799-1692835200-1693094399@www.luiginovarese.org
SUMMARY:Esercizi spirituali a Meldola (Fc)
DESCRIPTION:Esercizi spirituali a Meldola (Fc)
URL:https://www.luiginovarese.org/calendario-eventi/esercizi-spirituali-a-meldola-fc/
ATTACH;FMTTYPE=image/jpeg:https://www.luiginovarese.org/wp-content/uploads/2023/07/Metto-le-mie-parole.jpg
END:VEVENT
BEGIN:VEVENT
DTSTART;VALUE=DATE:20230822
DTEND;VALUE=DATE:20230823
DTSTAMP:20260423T010456
CREATED:20230728T200113Z
LAST-MODIFIED:20230728T200228Z
UID:71908-1692662400-1692748799@www.luiginovarese.org
SUMMARY:Beata Vergine Maria Regina
DESCRIPTION:Scarica la locandina
URL:https://www.luiginovarese.org/calendario-eventi/maria-regina/
ATTACH;FMTTYPE=image/jpeg:https://www.luiginovarese.org/wp-content/uploads/2023/07/22-agosto-Maria-regina.jpg
END:VEVENT
BEGIN:VEVENT
DTSTART;VALUE=DATE:20230821
DTEND;VALUE=DATE:20230825
DTSTAMP:20260423T010456
CREATED:20230719T053005Z
LAST-MODIFIED:20230719T053005Z
UID:71555-1692576000-1692921599@www.luiginovarese.org
SUMMARY:Esercizi spirituali a Valleluogo (Av) - Famiglie
DESCRIPTION:Esercizi spirituali a Valleluogo (Av) – Famiglie
URL:https://www.luiginovarese.org/calendario-eventi/esercizi-spirituali-a-valleluogo-av-famiglie/
ATTACH;FMTTYPE=image/jpeg:https://www.luiginovarese.org/wp-content/uploads/2023/07/Valleluogo-23.jpg
END:VEVENT
BEGIN:VEVENT
DTSTART;VALUE=DATE:20230820
DTEND;VALUE=DATE:20230821
DTSTAMP:20260423T010456
CREATED:20230728T195905Z
LAST-MODIFIED:20230728T200855Z
UID:71873-1692489600-1692575999@www.luiginovarese.org
SUMMARY:San Bernardo
DESCRIPTION:Scarica la locandina
URL:https://www.luiginovarese.org/calendario-eventi/san-bernardo-2/
ATTACH;FMTTYPE=image/jpeg:https://www.luiginovarese.org/wp-content/uploads/2023/07/20-agosto-san-Bernardo.jpg
END:VEVENT
BEGIN:VEVENT
DTSTART;VALUE=DATE:20230820
DTEND;VALUE=DATE:20230827
DTSTAMP:20260423T010456
CREATED:20230621T090307Z
LAST-MODIFIED:20230621T090307Z
UID:70986-1692489600-1693094399@www.luiginovarese.org
SUMMARY:Esercizi spirituali a Re (Vb) - Diocesi di Marche\, Firenze e Livorno
DESCRIPTION:Esercizi spirituali a Re (Vb) – Diocesi di Marche\, Firenze e Livorno
URL:https://www.luiginovarese.org/calendario-eventi/esercizi-spirituali-a-re-vb-diocesi-di-marche-firenze-e-livorno/
ATTACH;FMTTYPE=image/jpeg:https://www.luiginovarese.org/wp-content/uploads/2023/06/Esercizi-spirituali-b.jpg
END:VEVENT
BEGIN:VEVENT
DTSTART;VALUE=DATE:20230819
DTEND;VALUE=DATE:20230820
DTSTAMP:20260423T010456
CREATED:20230728T195704Z
LAST-MODIFIED:20230728T195704Z
UID:71872-1692403200-1692489599@www.luiginovarese.org
SUMMARY:Apparizione a Fatima
DESCRIPTION:Scarica la locandina
URL:https://www.luiginovarese.org/calendario-eventi/apparizione-a-fatima/
ATTACH;FMTTYPE=image/jpeg:https://www.luiginovarese.org/wp-content/uploads/2023/07/19-agosto.-apparizione-a-Fatima.jpg
END:VEVENT
BEGIN:VEVENT
DTSTART;VALUE=DATE:20230815
DTEND;VALUE=DATE:20230816
DTSTAMP:20260423T010456
CREATED:20230728T195600Z
LAST-MODIFIED:20230728T195600Z
UID:71871-1692057600-1692143999@www.luiginovarese.org
SUMMARY:Assunzione della Beata Vergine Maria
DESCRIPTION:Scarica la locandina
URL:https://www.luiginovarese.org/calendario-eventi/assunzione-della-beata-vergine-maria/
ATTACH;FMTTYPE=image/jpeg:https://www.luiginovarese.org/wp-content/uploads/2023/07/15-agosto-Assunzione-della-Beata-Vergine-Maria.jpg
END:VEVENT
BEGIN:VEVENT
DTSTART;VALUE=DATE:20230807
DTEND;VALUE=DATE:20230814
DTSTAMP:20260423T010456
CREATED:20230621T085925Z
LAST-MODIFIED:20230621T085925Z
UID:70984-1691366400-1691971199@www.luiginovarese.org
SUMMARY:Esercizi spirituali a Re (Vb) - Diocesi di Pinerolo\, Saluzzo e Cesena
DESCRIPTION:Esercizi spirituali a Re (Vb) – Diocesi di Pinerolo\, Saluzzo e Cesena
URL:https://www.luiginovarese.org/calendario-eventi/esercizi-spirituali-a-re-vb-diocesi-di-pinerolo-saluzzo-e-cesena/
ATTACH;FMTTYPE=image/jpeg:https://www.luiginovarese.org/wp-content/uploads/2023/06/Esercizi-spirituali-b.jpg
END:VEVENT
BEGIN:VEVENT
DTSTART;VALUE=DATE:20230806
DTEND;VALUE=DATE:20230807
DTSTAMP:20260423T010456
CREATED:20230728T195451Z
LAST-MODIFIED:20230728T195451Z
UID:71870-1691280000-1691366399@www.luiginovarese.org
SUMMARY:Trasfigurazione di Cristo
DESCRIPTION:Scarica la locandina
URL:https://www.luiginovarese.org/calendario-eventi/trasfigurazione-di-cristo/
ATTACH;FMTTYPE=image/jpeg:https://www.luiginovarese.org/wp-content/uploads/2023/07/6-agosto-Trasfigurazione-di-Cristo.jpg
END:VEVENT
BEGIN:VEVENT
DTSTART;VALUE=DATE:20230805
DTEND;VALUE=DATE:20230806
DTSTAMP:20260423T010456
CREATED:20230728T195343Z
LAST-MODIFIED:20230728T195343Z
UID:71869-1691193600-1691279999@www.luiginovarese.org
SUMMARY:GMG
DESCRIPTION:Scarica la locandina
URL:https://www.luiginovarese.org/calendario-eventi/gmg/
ATTACH;FMTTYPE=image/jpeg:https://www.luiginovarese.org/wp-content/uploads/2023/07/5-agosto-GMG.jpg
END:VEVENT
BEGIN:VEVENT
DTSTART;VALUE=DATE:20230804
DTEND;VALUE=DATE:20230807
DTSTAMP:20260423T010456
CREATED:20230621T085824Z
LAST-MODIFIED:20230811T152037Z
UID:70983-1691107200-1691366399@www.luiginovarese.org
SUMMARY:Giornata mondiale della Gioventù a Re (Bambini e famiglie)
DESCRIPTION:Giornata mondiale della Gioventù a Re (Bambini e famiglie)
URL:https://www.luiginovarese.org/calendario-eventi/giornata-mondiale-della-gioventu-a-re-bambini-e-famiglie/
ATTACH;FMTTYPE=image/jpeg:https://www.luiginovarese.org/wp-content/uploads/2023/06/gmg-bambini-a-re.jpeg
END:VEVENT
BEGIN:VEVENT
DTSTART;VALUE=DATE:20230731
DTEND;VALUE=DATE:20230801
DTSTAMP:20260423T010456
CREATED:20230630T055904Z
LAST-MODIFIED:20230630T055904Z
UID:71167-1690761600-1690847999@www.luiginovarese.org
SUMMARY:Sant'Ignazio di Loyola
DESCRIPTION:Scarica la locandina
URL:https://www.luiginovarese.org/calendario-eventi/santignazio-di-loyola/
ATTACH;FMTTYPE=image/jpeg:https://www.luiginovarese.org/wp-content/uploads/2023/06/31-luglio-SantIgnazio-di-Loyola.jpg
END:VEVENT
BEGIN:VEVENT
DTSTART;VALUE=DATE:20230730
DTEND;VALUE=DATE:20230731
DTSTAMP:20260423T010456
CREATED:20230630T055758Z
LAST-MODIFIED:20230630T055758Z
UID:71166-1690675200-1690761599@www.luiginovarese.org
SUMMARY:Giornata Mondiale dell'amicizia
DESCRIPTION:Scarica la locandina
URL:https://www.luiginovarese.org/calendario-eventi/giornata-mondiale-dellamicizia/
ATTACH;FMTTYPE=image/jpeg:https://www.luiginovarese.org/wp-content/uploads/2023/06/30-luglio-Giornata-Mondiale-dellamicizia.jpg
END:VEVENT
BEGIN:VEVENT
DTSTART;VALUE=DATE:20230729
DTEND;VALUE=DATE:20230730
DTSTAMP:20260423T010456
CREATED:20230630T055625Z
LAST-MODIFIED:20230630T055625Z
UID:71151-1690588800-1690675199@www.luiginovarese.org
SUMMARY:Nascita Beato Luigi Novarese
DESCRIPTION:Scarica la locandina
URL:https://www.luiginovarese.org/calendario-eventi/nascita-beato-luigi-novarese-2/
ATTACH;FMTTYPE=image/jpeg:https://www.luiginovarese.org/wp-content/uploads/2023/06/29-luglioNascita-Beato-Luigi-Novarese.jpg
END:VEVENT
BEGIN:VEVENT
DTSTART;VALUE=DATE:20230728
DTEND;VALUE=DATE:20230731
DTSTAMP:20260423T010456
CREATED:20230719T053859Z
LAST-MODIFIED:20230719T053859Z
UID:71567-1690502400-1690761599@www.luiginovarese.org
SUMMARY:Esercizi spirituali a Grosseto - Oratorio Cottolengo
DESCRIPTION:“Metto le mie parole sulla tua bocca” (Ger 1\, 9) \nScarica la locandina
URL:https://www.luiginovarese.org/calendario-eventi/esercizi-spirituali-a-grosseto-oratorio-cottolengo/
ATTACH;FMTTYPE=image/jpeg:https://www.luiginovarese.org/wp-content/uploads/2023/07/Esercizi-2023-locandina3-x-sito.jpg
END:VEVENT
BEGIN:VEVENT
DTSTART;VALUE=DATE:20230723
DTEND;VALUE=DATE:20230724
DTSTAMP:20260423T010456
CREATED:20230630T055525Z
LAST-MODIFIED:20230630T055525Z
UID:71150-1690070400-1690156799@www.luiginovarese.org
SUMMARY:Giornata mondiale dei nonni
DESCRIPTION:Scarica la locandina
URL:https://www.luiginovarese.org/calendario-eventi/giornata-mondiale-dei-nonni/
ATTACH;FMTTYPE=image/jpeg:https://www.luiginovarese.org/wp-content/uploads/2023/06/23-luglio-Giornata-mondiale-dei-nonni.jpg
END:VEVENT
BEGIN:VEVENT
DTSTART;VALUE=DATE:20230723
DTEND;VALUE=DATE:20230730
DTSTAMP:20260423T010456
CREATED:20230621T084911Z
LAST-MODIFIED:20230621T085255Z
UID:70969-1690070400-1690675199@www.luiginovarese.org
SUMMARY:Esercizi spirituali a Re (Vb) - Diocesi di Casale\, Rimini\, Novara\, Vigevano\, Regione Umbria
DESCRIPTION:Esercizi spirituali a Re (Vb) – Diocesi di Casale\, Rimini\, Novara\, Vigevano\, Regione Umbria
URL:https://www.luiginovarese.org/calendario-eventi/esercizi-spirituali-a-re-vb-diocesi-di-casale-rimini-novara-vigevano-regione-umbria/
ATTACH;FMTTYPE=image/jpeg:https://www.luiginovarese.org/wp-content/uploads/2023/06/Esercizi-spirituali-b.jpg
END:VEVENT
BEGIN:VEVENT
DTSTART;VALUE=DATE:20230722
DTEND;VALUE=DATE:20230723
DTSTAMP:20260423T010456
CREATED:20230719T051558Z
LAST-MODIFIED:20230719T051651Z
UID:71554-1689984000-1690070399@www.luiginovarese.org
SUMMARY:22 luglio Duomo di Montichiari (Bs)
DESCRIPTION:Santa messa nel 10 anniversario della beatificazione di mons. Luigi Novarese
URL:https://www.luiginovarese.org/calendario-eventi/santa-messa-nel-10-anniversario-della-beatificazione/
ATTACH;FMTTYPE=image/jpeg:https://www.luiginovarese.org/wp-content/uploads/2023/07/Locandina-22-luglio.jpg
END:VEVENT
BEGIN:VEVENT
DTSTART;VALUE=DATE:20230720
DTEND;VALUE=DATE:20230721
DTSTAMP:20260423T010456
CREATED:20230630T055222Z
LAST-MODIFIED:20230630T055250Z
UID:71149-1689811200-1689897599@www.luiginovarese.org
SUMMARY:Beato Luigi Novarese
DESCRIPTION:Scarica la locandina
URL:https://www.luiginovarese.org/calendario-eventi/beato-luigi-novarese-2/
ATTACH;FMTTYPE=image/jpeg:https://www.luiginovarese.org/wp-content/uploads/2023/06/20-luglio-Beato-Luigi-Novarese.jpg
END:VEVENT
BEGIN:VEVENT
DTSTART;VALUE=DATE:20230716
DTEND;VALUE=DATE:20230723
DTSTAMP:20260423T010456
CREATED:20230621T084457Z
LAST-MODIFIED:20230621T084702Z
UID:70968-1689465600-1690070399@www.luiginovarese.org
SUMMARY:Esercizi spirituali a Re (Vb) - Diocesi di Torino\, Asti\, Modena\, Reggio Emilia\, Bologna e Parma
DESCRIPTION:Esercizi spirituali a Re (Vb) – Diocesi di Torino\, Asti\, Modena\, Reggio Emilia\, Bologna e Parma
URL:https://www.luiginovarese.org/calendario-eventi/esercizi-spirituali-a-re-vb-diocesi-di-torino-asti-modena-reggio-emilia-bologna-e-parma/
ATTACH;FMTTYPE=image/jpeg:https://www.luiginovarese.org/wp-content/uploads/2023/06/Esercizi-spirituali-b.jpg
END:VEVENT
BEGIN:VEVENT
DTSTART;VALUE=DATE:20230716
DTEND;VALUE=DATE:20230717
DTSTAMP:20260423T010456
CREATED:20230630T055107Z
LAST-MODIFIED:20230630T055107Z
UID:71148-1689465600-1689551999@www.luiginovarese.org
SUMMARY:Vergine del Carmelo
DESCRIPTION:Scarica la locandina
URL:https://www.luiginovarese.org/calendario-eventi/vergine-del-carmelo/
ATTACH;FMTTYPE=image/jpeg:https://www.luiginovarese.org/wp-content/uploads/2023/06/16-luglio-vergine-del-Carmelo.jpg
END:VEVENT
BEGIN:VEVENT
DTSTART;VALUE=DATE:20230710
DTEND;VALUE=DATE:20230717
DTSTAMP:20260423T010456
CREATED:20230709T101723Z
LAST-MODIFIED:20230709T101723Z
UID:71360-1688947200-1689551999@www.luiginovarese.org
SUMMARY:Esercizi spirituali a Valleluogo (Av) - Diocesi di Nardò\, Otranto\, Lecce\, Taranto e Salerno
DESCRIPTION:Esercizi spirituali a Valleluogo (Av) – Diocesi di Nardò\, Otranto\, Lecce\, Taranto e Salerno
URL:https://www.luiginovarese.org/calendario-eventi/esercizi-spirituali-a-valleluogo-av-diocesi-di-nardo-otranto-lecce-taranto-e-salerno/
ATTACH;FMTTYPE=image/jpeg:https://www.luiginovarese.org/wp-content/uploads/2023/07/Valleluogo-23.jpg
END:VEVENT
BEGIN:VEVENT
DTSTART;VALUE=DATE:20230709
DTEND;VALUE=DATE:20230715
DTSTAMP:20260423T010456
CREATED:20230709T100254Z
LAST-MODIFIED:20230709T100254Z
UID:71350-1688860800-1689379199@www.luiginovarese.org
SUMMARY:Esercizi spirituali bambini e Gruppo attivo
DESCRIPTION:Scarica la locandina
URL:https://www.luiginovarese.org/calendario-eventi/esercizi-spirituali-bambini-e-gruppo-attivo/
ATTACH;FMTTYPE=image/jpeg:https://www.luiginovarese.org/wp-content/uploads/2023/07/Re-Gruppo-attivo.jpg
END:VEVENT
BEGIN:VEVENT
DTSTART;VALUE=DATE:20230709
DTEND;VALUE=DATE:20230715
DTSTAMP:20260423T010456
CREATED:20230621T082817Z
LAST-MODIFIED:20230621T085205Z
UID:70967-1688860800-1689379199@www.luiginovarese.org
SUMMARY:Esercizi spirituali a Re (Vb) - Gruppo Attivo e Bambini
DESCRIPTION:Esercizi spirituali a Re (Vb) – Gruppo Attivo e Bambini
URL:https://www.luiginovarese.org/calendario-eventi/esercizi-spirituali-a-re-vb-gruppo-attivo-e-bambini/
ATTACH;FMTTYPE=image/jpeg:https://www.luiginovarese.org/wp-content/uploads/2023/06/Esercizi-spirituali-b.jpg
END:VEVENT
BEGIN:VEVENT
DTSTART;VALUE=DATE:20230706
DTEND;VALUE=DATE:20230707
DTSTAMP:20260423T010456
CREATED:20230630T054704Z
LAST-MODIFIED:20230630T054942Z
UID:71141-1688601600-1688687999@www.luiginovarese.org
SUMMARY:Santa Maria Goretti
DESCRIPTION:Scarica la locandina
URL:https://www.luiginovarese.org/calendario-eventi/6-luglio-santa-maria-goretti/
ATTACH;FMTTYPE=image/jpeg:https://www.luiginovarese.org/wp-content/uploads/2023/06/6-luglio-Santa-Maria-Goretti.jpg
END:VEVENT
BEGIN:VEVENT
DTSTART;VALUE=DATE:20230702
DTEND;VALUE=DATE:20230709
DTSTAMP:20260423T010456
CREATED:20230621T082714Z
LAST-MODIFIED:20230630T060115Z
UID:70966-1688256000-1688860799@www.luiginovarese.org
SUMMARY:Esercizi spirituali a Re (Vb) - Diocesi di Mantova\, Lugano\, Bergamo\, Vercelli\, Tortona
DESCRIPTION:Esercizi spirituali a Re (Vb) – Diocesi di Mantova\, Lugano\, Bergamo\, Vercelli\, Tortona
URL:https://www.luiginovarese.org/calendario-eventi/esercizi-spirituali-a-re-vb-diocesi-di-mantova-lugano-bergamo-vercelli-tortona/
ATTACH;FMTTYPE=image/jpeg:https://www.luiginovarese.org/wp-content/uploads/2023/06/Esercizi-spirituali-b.jpg
END:VEVENT
BEGIN:VEVENT
DTSTART;VALUE=DATE:20230625
DTEND;VALUE=DATE:20230702
DTSTAMP:20260423T010456
CREATED:20230604T162411Z
LAST-MODIFIED:20230604T162444Z
UID:70729-1687651200-1688255999@www.luiginovarese.org
SUMMARY:Esercizi spirituali a Re (Vb) - Diocesi di Pitigliano e Milano
DESCRIPTION:Esercizi spirituali a Re (Vb) – Diocesi di Pitigliano e Milano
URL:https://www.luiginovarese.org/calendario-eventi/esercizi-spirituali-a-re-vb-diocesi-di-pitigliano-e-milano/
ATTACH;FMTTYPE=image/jpeg:https://www.luiginovarese.org/wp-content/uploads/2023/06/Esercizi-spirituali-b.jpg
END:VEVENT
END:VCALENDAR