BEGIN:VCALENDAR
VERSION:2.0
PRODID:-//Opera Beato Luigi Novarese - ECPv6.15.17//NONSGML v1.0//EN
CALSCALE:GREGORIAN
METHOD:PUBLISH
X-WR-CALNAME:Opera Beato Luigi Novarese
X-ORIGINAL-URL:https://www.luiginovarese.org
X-WR-CALDESC:Eventi per Opera Beato Luigi Novarese
REFRESH-INTERVAL;VALUE=DURATION:PT1H
X-Robots-Tag:noindex
X-PUBLISHED-TTL:PT1H
BEGIN:VTIMEZONE
TZID:Europe/Rome
BEGIN:DAYLIGHT
TZOFFSETFROM:+0100
TZOFFSETTO:+0200
TZNAME:CEST
DTSTART:20220327T010000
END:DAYLIGHT
BEGIN:STANDARD
TZOFFSETFROM:+0200
TZOFFSETTO:+0100
TZNAME:CET
DTSTART:20221030T010000
END:STANDARD
BEGIN:DAYLIGHT
TZOFFSETFROM:+0100
TZOFFSETTO:+0200
TZNAME:CEST
DTSTART:20230326T010000
END:DAYLIGHT
BEGIN:STANDARD
TZOFFSETFROM:+0200
TZOFFSETTO:+0100
TZNAME:CET
DTSTART:20231029T010000
END:STANDARD
BEGIN:DAYLIGHT
TZOFFSETFROM:+0100
TZOFFSETTO:+0200
TZNAME:CEST
DTSTART:20240331T010000
END:DAYLIGHT
BEGIN:STANDARD
TZOFFSETFROM:+0200
TZOFFSETTO:+0100
TZNAME:CET
DTSTART:20241027T010000
END:STANDARD
END:VTIMEZONE
BEGIN:VEVENT
DTSTART;VALUE=DATE:20231210
DTEND;VALUE=DATE:20231211
DTSTAMP:20260422T235356
CREATED:20231202T114947Z
LAST-MODIFIED:20231202T114947Z
UID:88954-1702166400-1702252799@www.luiginovarese.org
SUMMARY:2 Domenica di avvento
DESCRIPTION:Scarica la locandina
URL:https://www.luiginovarese.org/calendario-eventi/2-domenica-di-avvento/
ATTACH;FMTTYPE=image/jpeg:https://www.luiginovarese.org/wp-content/uploads/2023/12/10-dicembre-2-Domenica-di-avvento.jpg
END:VEVENT
BEGIN:VEVENT
DTSTART;VALUE=DATE:20231208
DTEND;VALUE=DATE:20231209
DTSTAMP:20260422T235356
CREATED:20231202T114757Z
LAST-MODIFIED:20231202T114757Z
UID:88952-1701993600-1702079999@www.luiginovarese.org
SUMMARY:Solennità dell'Immacolata
DESCRIPTION:Scarica la locandina
URL:https://www.luiginovarese.org/calendario-eventi/solennita-dellimmacolata/
ATTACH;FMTTYPE=image/jpeg:https://www.luiginovarese.org/wp-content/uploads/2023/12/8-dicembre-Solennita-dellImmacolata.jpg
END:VEVENT
BEGIN:VEVENT
DTSTART;VALUE=DATE:20231203
DTEND;VALUE=DATE:20231204
DTSTAMP:20260422T235356
CREATED:20231202T114606Z
LAST-MODIFIED:20231202T114606Z
UID:88950-1701561600-1701647999@www.luiginovarese.org
SUMMARY:1ª Domenica di avvento
DESCRIPTION:Scarica la locandina
URL:https://www.luiginovarese.org/calendario-eventi/1a-domenica-di-avvento/
ATTACH;FMTTYPE=image/jpeg:https://www.luiginovarese.org/wp-content/uploads/2023/12/3-dicembre-1a-Domenica-di-avvento.jpg
END:VEVENT
BEGIN:VEVENT
DTSTART;VALUE=DATE:20231203
DTEND;VALUE=DATE:20231204
DTSTAMP:20260422T235356
CREATED:20231202T114411Z
LAST-MODIFIED:20231202T114411Z
UID:88948-1701561600-1701647999@www.luiginovarese.org
SUMMARY:Giornata delle persone con disabilità
DESCRIPTION:Scarica la locandina
URL:https://www.luiginovarese.org/calendario-eventi/giornata-delle-persone-con-disabilita/
ATTACH;FMTTYPE=image/jpeg:https://www.luiginovarese.org/wp-content/uploads/2023/12/3-dicembre-Giornata-delle-persone-con-disabilita.jpg
END:VEVENT
BEGIN:VEVENT
DTSTART;VALUE=DATE:20231126
DTEND;VALUE=DATE:20231127
DTSTAMP:20260422T235356
CREATED:20231026T070751Z
LAST-MODIFIED:20231026T070751Z
UID:73516-1700956800-1701043199@www.luiginovarese.org
SUMMARY:Gesù Cristo\, Re dell'universo
DESCRIPTION:Scarica la locandina
URL:https://www.luiginovarese.org/calendario-eventi/gesu-cristo-re-delluniverso/
ATTACH;FMTTYPE=image/jpeg:https://www.luiginovarese.org/wp-content/uploads/2023/10/26-novembre-Gesu-Cristo-Re-delluniverso.jpg
END:VEVENT
BEGIN:VEVENT
DTSTART;VALUE=DATE:20231121
DTEND;VALUE=DATE:20231122
DTSTAMP:20260422T235356
CREATED:20231026T070652Z
LAST-MODIFIED:20231026T070652Z
UID:73515-1700524800-1700611199@www.luiginovarese.org
SUMMARY:Presentazione della Beata Vergine Maria
DESCRIPTION:Scarica la locandina
URL:https://www.luiginovarese.org/calendario-eventi/presentazione-della-beata-vergine-maria/
ATTACH;FMTTYPE=image/jpeg:https://www.luiginovarese.org/wp-content/uploads/2023/10/21-novembre-Presentazione-della-Beata-Vergine-Maria.jpg
END:VEVENT
BEGIN:VEVENT
DTSTART;VALUE=DATE:20231119
DTEND;VALUE=DATE:20231120
DTSTAMP:20260422T235356
CREATED:20231115T100049Z
LAST-MODIFIED:20231115T100049Z
UID:73965-1700352000-1700438399@www.luiginovarese.org
SUMMARY:Giornata Mondiale dei Poveri
DESCRIPTION:Scarica la locandina
URL:https://www.luiginovarese.org/calendario-eventi/giornata-mondiale-dei-poveri/
ATTACH;FMTTYPE=image/jpeg:https://www.luiginovarese.org/wp-content/uploads/2023/11/19-novembre.jpg
END:VEVENT
BEGIN:VEVENT
DTSTART;VALUE=DATE:20231113
DTEND;VALUE=DATE:20231114
DTSTAMP:20260422T235356
CREATED:20231026T070542Z
LAST-MODIFIED:20231026T070542Z
UID:73514-1699833600-1699919999@www.luiginovarese.org
SUMMARY:Giornata mondiale della gentilezza
DESCRIPTION:Scarica la locandina
URL:https://www.luiginovarese.org/calendario-eventi/giornata-mondiale-della-gentilezza/
ATTACH;FMTTYPE=image/jpeg:https://www.luiginovarese.org/wp-content/uploads/2023/10/13-novembre-Giornata-Mondiale-della-Gentilezza.jpg
END:VEVENT
BEGIN:VEVENT
DTSTART;VALUE=DATE:20231103
DTEND;VALUE=DATE:20231106
DTSTAMP:20260422T235356
CREATED:20231026T070935Z
LAST-MODIFIED:20231026T071639Z
UID:73518-1698969600-1699228799@www.luiginovarese.org
SUMMARY:Assemblea della Confederazione Internazionale CVS - La speranza come un vento
DESCRIPTION:Scarica la locandina
URL:https://www.luiginovarese.org/calendario-eventi/assemblea-della-confederazione-internazionale-cvs-la-speranza-come-un-vento/
ATTACH;FMTTYPE=image/jpeg:https://www.luiginovarese.org/wp-content/uploads/2023/10/La-speranza-come-un-vento.jpg
END:VEVENT
BEGIN:VEVENT
DTSTART;VALUE=DATE:20231102
DTEND;VALUE=DATE:20231103
DTSTAMP:20260422T235356
CREATED:20231026T070452Z
LAST-MODIFIED:20231026T070452Z
UID:73513-1698883200-1698969599@www.luiginovarese.org
SUMMARY:Commemorazione dei fedeli defunti
DESCRIPTION:Scarica la locandina
URL:https://www.luiginovarese.org/calendario-eventi/commemorazione-dei-fedeli-defunti/
ATTACH;FMTTYPE=image/jpeg:https://www.luiginovarese.org/wp-content/uploads/2023/10/2-novembre-fedeli-defunti.jpg
END:VEVENT
BEGIN:VEVENT
DTSTART;VALUE=DATE:20231101
DTEND;VALUE=DATE:20231102
DTSTAMP:20260422T235356
CREATED:20231026T070308Z
LAST-MODIFIED:20231026T070308Z
UID:73512-1698796800-1698883199@www.luiginovarese.org
SUMMARY:Tutti i santi
DESCRIPTION:Scarica la locandina
URL:https://www.luiginovarese.org/calendario-eventi/tutti-i-santi-3/
ATTACH;FMTTYPE=image/jpeg:https://www.luiginovarese.org/wp-content/uploads/2023/10/1-novembreTutti-i-santi.jpg
END:VEVENT
BEGIN:VEVENT
DTSTART;VALUE=DATE:20231101
DTEND;VALUE=DATE:20231102
DTSTAMP:20260422T235356
CREATED:20231026T070058Z
LAST-MODIFIED:20231026T102818Z
UID:73511-1698796800-1698883199@www.luiginovarese.org
SUMMARY:Anniversario fondazione dei Silenziosi Operai della Croce
DESCRIPTION:Scarica la locandina
URL:https://www.luiginovarese.org/calendario-eventi/anniversario-fondazione-dei-silenziosi-operai-della-croce/
ATTACH;FMTTYPE=image/jpeg:https://www.luiginovarese.org/wp-content/uploads/2023/10/Anniversario-SOdC.jpg
END:VEVENT
BEGIN:VEVENT
DTSTART;VALUE=DATE:20231029
DTEND;VALUE=DATE:20231030
DTSTAMP:20260422T235356
CREATED:20231002T100322Z
LAST-MODIFIED:20231002T100322Z
UID:73221-1698537600-1698623999@www.luiginovarese.org
SUMMARY:Chiusura del sinodo
DESCRIPTION:Scarica la locandina
URL:https://www.luiginovarese.org/calendario-eventi/chiusura-del-sinodo/
ATTACH;FMTTYPE=image/jpeg:https://www.luiginovarese.org/wp-content/uploads/2023/09/29-ottobre-Chiusura-del-sinodo.jpg
END:VEVENT
BEGIN:VEVENT
DTSTART;VALUE=DATE:20231022
DTEND;VALUE=DATE:20231023
DTSTAMP:20260422T235356
CREATED:20231002T100052Z
LAST-MODIFIED:20231002T100052Z
UID:73220-1697932800-1698019199@www.luiginovarese.org
SUMMARY:Giovanni Paolo II
DESCRIPTION:Scarica la locandina
URL:https://www.luiginovarese.org/calendario-eventi/giovanni-paolo-ii/
ATTACH;FMTTYPE=image/jpeg:https://www.luiginovarese.org/wp-content/uploads/2023/09/22-ottobre-Giovanni-Paolo-II.jpg
END:VEVENT
BEGIN:VEVENT
DTSTART;VALUE=DATE:20231022
DTEND;VALUE=DATE:20231023
DTSTAMP:20260422T235356
CREATED:20231002T095116Z
LAST-MODIFIED:20231002T095116Z
UID:73219-1697932800-1698019199@www.luiginovarese.org
SUMMARY:Giornata missionaria mondiale
DESCRIPTION:Scarica la locandina
URL:https://www.luiginovarese.org/calendario-eventi/giornata-missionaria-mondiale-3/
ATTACH;FMTTYPE=image/jpeg:https://www.luiginovarese.org/wp-content/uploads/2023/09/22-ottobre-Giornata-missionaria-mondiale.jpg
END:VEVENT
BEGIN:VEVENT
DTSTART;VALUE=DATE:20231021
DTEND;VALUE=DATE:20231022
DTSTAMP:20260422T235356
CREATED:20231002T094943Z
LAST-MODIFIED:20231002T094943Z
UID:73218-1697846400-1697932799@www.luiginovarese.org
SUMMARY:Giornata dell'ascolto
DESCRIPTION:Scarica la locandina
URL:https://www.luiginovarese.org/calendario-eventi/giornata-dellascolto/
ATTACH;FMTTYPE=image/jpeg:https://www.luiginovarese.org/wp-content/uploads/2023/09/21-ottobre-giornata-dellascolto.jpg
END:VEVENT
BEGIN:VEVENT
DTSTART;VALUE=DATE:20231016
DTEND;VALUE=DATE:20231017
DTSTAMP:20260422T235356
CREATED:20231002T094851Z
LAST-MODIFIED:20231002T094851Z
UID:73217-1697414400-1697500799@www.luiginovarese.org
SUMMARY:Margherita Maria Alacoque
DESCRIPTION:Scarica la locandina
URL:https://www.luiginovarese.org/calendario-eventi/margherita-maria-alacoque/
ATTACH;FMTTYPE=image/jpeg:https://www.luiginovarese.org/wp-content/uploads/2023/09/16-ottobre-Margherita-Maria-Alacoque.jpg
END:VEVENT
BEGIN:VEVENT
DTSTART;VALUE=DATE:20231015
DTEND;VALUE=DATE:20231016
DTSTAMP:20260422T235356
CREATED:20231002T093514Z
LAST-MODIFIED:20231002T093514Z
UID:73216-1697328000-1697414399@www.luiginovarese.org
SUMMARY:Santa Teresa D'Avila
DESCRIPTION:Scarica la locandina
URL:https://www.luiginovarese.org/calendario-eventi/santa-teresa-davila-2/
ATTACH;FMTTYPE=image/jpeg:https://www.luiginovarese.org/wp-content/uploads/2023/09/15-ottobre-Santa-Teresa-DAvila.jpg
END:VEVENT
BEGIN:VEVENT
DTSTART;VALUE=DATE:20231013
DTEND;VALUE=DATE:20231014
DTSTAMP:20260422T235356
CREATED:20231002T093326Z
LAST-MODIFIED:20231002T093326Z
UID:73215-1697155200-1697241599@www.luiginovarese.org
SUMMARY:Miracolo di Fatima
DESCRIPTION:Scarica la locandina
URL:https://www.luiginovarese.org/calendario-eventi/miracolo-di-fatima/
ATTACH;FMTTYPE=image/jpeg:https://www.luiginovarese.org/wp-content/uploads/2023/09/13-Ottobre.jpg
END:VEVENT
BEGIN:VEVENT
DTSTART;VALUE=DATE:20231010
DTEND;VALUE=DATE:20231011
DTSTAMP:20260422T235356
CREATED:20231002T093121Z
LAST-MODIFIED:20231002T093121Z
UID:73214-1696896000-1696982399@www.luiginovarese.org
SUMMARY:Giovanni XXIII
DESCRIPTION:Scarica la locandina
URL:https://www.luiginovarese.org/calendario-eventi/giovanni-xxiii/
ATTACH;FMTTYPE=image/jpeg:https://www.luiginovarese.org/wp-content/uploads/2023/09/11-ottobre-Giovanni-XXIII.jpg
END:VEVENT
BEGIN:VEVENT
DTSTART;VALUE=DATE:20231010
DTEND;VALUE=DATE:20231011
DTSTAMP:20260422T235356
CREATED:20231002T093004Z
LAST-MODIFIED:20231002T093004Z
UID:73213-1696896000-1696982399@www.luiginovarese.org
SUMMARY:Giornata della salute mentale
DESCRIPTION:Scarica la locandina
URL:https://www.luiginovarese.org/calendario-eventi/giornata-della-salute-mentale/
ATTACH;FMTTYPE=image/jpeg:https://www.luiginovarese.org/wp-content/uploads/2023/09/10-ottobre-giornata-della-salute-mentale.jpg
END:VEVENT
BEGIN:VEVENT
DTSTART;VALUE=DATE:20231007
DTEND;VALUE=DATE:20231008
DTSTAMP:20260422T235356
CREATED:20231002T092847Z
LAST-MODIFIED:20231002T092911Z
UID:73212-1696636800-1696723199@www.luiginovarese.org
SUMMARY:Beata Vergine del Rosario
DESCRIPTION:Scarica la locandina
URL:https://www.luiginovarese.org/calendario-eventi/beata-vergine-del-rosario/
ATTACH;FMTTYPE=image/jpeg:https://www.luiginovarese.org/wp-content/uploads/2023/09/7-ottobre-Beata-vergine-del-Rosario.jpg
END:VEVENT
BEGIN:VEVENT
DTSTART;VALUE=DATE:20231006
DTEND;VALUE=DATE:20231007
DTSTAMP:20260422T235356
CREATED:20230929T080313Z
LAST-MODIFIED:20230929T080313Z
UID:73094-1696550400-1696636799@www.luiginovarese.org
SUMMARY:Giornata mondiale del sorriso
DESCRIPTION:Scarica la locandina
URL:https://www.luiginovarese.org/calendario-eventi/giornata-mondiale-del-sorriso/
ATTACH;FMTTYPE=image/jpeg:https://www.luiginovarese.org/wp-content/uploads/2023/09/6-ottobre-Giornata-mondiale-del-sorriso.jpg
END:VEVENT
BEGIN:VEVENT
DTSTART;VALUE=DATE:20231004
DTEND;VALUE=DATE:20231005
DTSTAMP:20260422T235356
CREATED:20230929T080203Z
LAST-MODIFIED:20230929T080203Z
UID:73093-1696377600-1696463999@www.luiginovarese.org
SUMMARY:Apertura del sinodo
DESCRIPTION:Scarica la locandina
URL:https://www.luiginovarese.org/calendario-eventi/apertura-del-sinodo/
ATTACH;FMTTYPE=image/jpeg:https://www.luiginovarese.org/wp-content/uploads/2023/09/4-ottobre-Apertura-del-sinodo.jpg
END:VEVENT
BEGIN:VEVENT
DTSTART;VALUE=DATE:20231002
DTEND;VALUE=DATE:20231003
DTSTAMP:20260422T235356
CREATED:20230929T080037Z
LAST-MODIFIED:20230929T080037Z
UID:73092-1696204800-1696291199@www.luiginovarese.org
SUMMARY:Angeli custodi
DESCRIPTION:Scarica la locandina
URL:https://www.luiginovarese.org/calendario-eventi/angeli-custodi-2/
ATTACH;FMTTYPE=image/jpeg:https://www.luiginovarese.org/wp-content/uploads/2023/09/2-ottobre-Angeli-custodi.jpg
END:VEVENT
BEGIN:VEVENT
DTSTART;VALUE=DATE:20231002
DTEND;VALUE=DATE:20231015
DTSTAMP:20260422T235356
CREATED:20230925T085417Z
LAST-MODIFIED:20231002T075439Z
UID:73014-1696204800-1697327999@www.luiginovarese.org
SUMMARY:Discernere il tempo presente
DESCRIPTION:Scarica l’immagine
URL:https://www.luiginovarese.org/calendario-eventi/discernere-il-tempo-presente/
ATTACH;FMTTYPE=image/jpeg:https://www.luiginovarese.org/wp-content/uploads/2023/09/Immagine-WhatsApp-2023-10-02-ore-09.41.02_56ebadc4.jpg
END:VEVENT
BEGIN:VEVENT
DTSTART;VALUE=DATE:20230929
DTEND;VALUE=DATE:20230930
DTSTAMP:20260422T235356
CREATED:20230824T063356Z
LAST-MODIFIED:20230824T063356Z
UID:72426-1695945600-1696031999@www.luiginovarese.org
SUMMARY:San Michele Arcangelo
DESCRIPTION:Scarica la locandina
URL:https://www.luiginovarese.org/calendario-eventi/san-michele-arcangelo/
ATTACH;FMTTYPE=image/jpeg:https://www.luiginovarese.org/wp-content/uploads/2023/08/29-settembre.jpg
END:VEVENT
BEGIN:VEVENT
DTSTART;VALUE=DATE:20230923
DTEND;VALUE=DATE:20230924
DTSTAMP:20260422T235356
CREATED:20230829T061423Z
LAST-MODIFIED:20230829T061423Z
UID:72446-1695427200-1695513599@www.luiginovarese.org
SUMMARY:Giornata mondiale della lingua dei segni
DESCRIPTION:Scarica la locandina
URL:https://www.luiginovarese.org/calendario-eventi/giornata-mondiale-della-lingua-dei-segni/
ATTACH;FMTTYPE=image/jpeg:https://www.luiginovarese.org/wp-content/uploads/2023/08/23-settembre.jpg
END:VEVENT
BEGIN:VEVENT
DTSTART;VALUE=DATE:20230915
DTEND;VALUE=DATE:20230916
DTSTAMP:20260422T235356
CREATED:20230824T063300Z
LAST-MODIFIED:20230824T063534Z
UID:72424-1694736000-1694822399@www.luiginovarese.org
SUMMARY:Beata Vergine Maria Addolorata
DESCRIPTION:Scarica la locandina
URL:https://www.luiginovarese.org/calendario-eventi/beata-vergine-maria-addolorata-2/
ATTACH;FMTTYPE=image/jpeg:https://www.luiginovarese.org/wp-content/uploads/2023/08/15-settembre.jpg
END:VEVENT
BEGIN:VEVENT
DTSTART;VALUE=DATE:20230914
DTEND;VALUE=DATE:20230915
DTSTAMP:20260422T235356
CREATED:20230824T063155Z
LAST-MODIFIED:20230824T063505Z
UID:72423-1694649600-1694735999@www.luiginovarese.org
SUMMARY:Esaltazione della Santa Croce
DESCRIPTION:Scarica la locandina
URL:https://www.luiginovarese.org/calendario-eventi/esaltazione-della-santa-croce-3/
ATTACH;FMTTYPE=image/jpeg:https://www.luiginovarese.org/wp-content/uploads/2023/08/14-settembre.jpg
END:VEVENT
END:VCALENDAR