BEGIN:VCALENDAR
VERSION:2.0
PRODID:-//Opera Beato Luigi Novarese - ECPv6.15.17//NONSGML v1.0//EN
CALSCALE:GREGORIAN
METHOD:PUBLISH
X-WR-CALNAME:Opera Beato Luigi Novarese
X-ORIGINAL-URL:https://www.luiginovarese.org
X-WR-CALDESC:Eventi per Opera Beato Luigi Novarese
REFRESH-INTERVAL;VALUE=DURATION:PT1H
X-Robots-Tag:noindex
X-PUBLISHED-TTL:PT1H
BEGIN:VTIMEZONE
TZID:Europe/Rome
BEGIN:DAYLIGHT
TZOFFSETFROM:+0100
TZOFFSETTO:+0200
TZNAME:CEST
DTSTART:20220327T010000
END:DAYLIGHT
BEGIN:STANDARD
TZOFFSETFROM:+0200
TZOFFSETTO:+0100
TZNAME:CET
DTSTART:20221030T010000
END:STANDARD
BEGIN:DAYLIGHT
TZOFFSETFROM:+0100
TZOFFSETTO:+0200
TZNAME:CEST
DTSTART:20230326T010000
END:DAYLIGHT
BEGIN:STANDARD
TZOFFSETFROM:+0200
TZOFFSETTO:+0100
TZNAME:CET
DTSTART:20231029T010000
END:STANDARD
BEGIN:DAYLIGHT
TZOFFSETFROM:+0100
TZOFFSETTO:+0200
TZNAME:CEST
DTSTART:20240331T010000
END:DAYLIGHT
BEGIN:STANDARD
TZOFFSETFROM:+0200
TZOFFSETTO:+0100
TZNAME:CET
DTSTART:20241027T010000
END:STANDARD
END:VTIMEZONE
BEGIN:VEVENT
DTSTART;VALUE=DATE:20230728
DTEND;VALUE=DATE:20230731
DTSTAMP:20260423T010300
CREATED:20230719T053859Z
LAST-MODIFIED:20230719T053859Z
UID:71567-1690502400-1690761599@www.luiginovarese.org
SUMMARY:Esercizi spirituali a Grosseto - Oratorio Cottolengo
DESCRIPTION:“Metto le mie parole sulla tua bocca” (Ger 1\, 9) \nScarica la locandina
URL:https://www.luiginovarese.org/calendario-eventi/esercizi-spirituali-a-grosseto-oratorio-cottolengo/
ATTACH;FMTTYPE=image/jpeg:https://www.luiginovarese.org/wp-content/uploads/2023/07/Esercizi-2023-locandina3-x-sito.jpg
END:VEVENT
BEGIN:VEVENT
DTSTART;VALUE=DATE:20230723
DTEND;VALUE=DATE:20230724
DTSTAMP:20260423T010300
CREATED:20230630T055525Z
LAST-MODIFIED:20230630T055525Z
UID:71150-1690070400-1690156799@www.luiginovarese.org
SUMMARY:Giornata mondiale dei nonni
DESCRIPTION:Scarica la locandina
URL:https://www.luiginovarese.org/calendario-eventi/giornata-mondiale-dei-nonni/
ATTACH;FMTTYPE=image/jpeg:https://www.luiginovarese.org/wp-content/uploads/2023/06/23-luglio-Giornata-mondiale-dei-nonni.jpg
END:VEVENT
BEGIN:VEVENT
DTSTART;VALUE=DATE:20230723
DTEND;VALUE=DATE:20230730
DTSTAMP:20260423T010300
CREATED:20230621T084911Z
LAST-MODIFIED:20230621T085255Z
UID:70969-1690070400-1690675199@www.luiginovarese.org
SUMMARY:Esercizi spirituali a Re (Vb) - Diocesi di Casale\, Rimini\, Novara\, Vigevano\, Regione Umbria
DESCRIPTION:Esercizi spirituali a Re (Vb) – Diocesi di Casale\, Rimini\, Novara\, Vigevano\, Regione Umbria
URL:https://www.luiginovarese.org/calendario-eventi/esercizi-spirituali-a-re-vb-diocesi-di-casale-rimini-novara-vigevano-regione-umbria/
ATTACH;FMTTYPE=image/jpeg:https://www.luiginovarese.org/wp-content/uploads/2023/06/Esercizi-spirituali-b.jpg
END:VEVENT
BEGIN:VEVENT
DTSTART;VALUE=DATE:20230722
DTEND;VALUE=DATE:20230723
DTSTAMP:20260423T010300
CREATED:20230719T051558Z
LAST-MODIFIED:20230719T051651Z
UID:71554-1689984000-1690070399@www.luiginovarese.org
SUMMARY:22 luglio Duomo di Montichiari (Bs)
DESCRIPTION:Santa messa nel 10 anniversario della beatificazione di mons. Luigi Novarese
URL:https://www.luiginovarese.org/calendario-eventi/santa-messa-nel-10-anniversario-della-beatificazione/
ATTACH;FMTTYPE=image/jpeg:https://www.luiginovarese.org/wp-content/uploads/2023/07/Locandina-22-luglio.jpg
END:VEVENT
BEGIN:VEVENT
DTSTART;VALUE=DATE:20230720
DTEND;VALUE=DATE:20230721
DTSTAMP:20260423T010300
CREATED:20230630T055222Z
LAST-MODIFIED:20230630T055250Z
UID:71149-1689811200-1689897599@www.luiginovarese.org
SUMMARY:Beato Luigi Novarese
DESCRIPTION:Scarica la locandina
URL:https://www.luiginovarese.org/calendario-eventi/beato-luigi-novarese-2/
ATTACH;FMTTYPE=image/jpeg:https://www.luiginovarese.org/wp-content/uploads/2023/06/20-luglio-Beato-Luigi-Novarese.jpg
END:VEVENT
BEGIN:VEVENT
DTSTART;VALUE=DATE:20230716
DTEND;VALUE=DATE:20230723
DTSTAMP:20260423T010300
CREATED:20230621T084457Z
LAST-MODIFIED:20230621T084702Z
UID:70968-1689465600-1690070399@www.luiginovarese.org
SUMMARY:Esercizi spirituali a Re (Vb) - Diocesi di Torino\, Asti\, Modena\, Reggio Emilia\, Bologna e Parma
DESCRIPTION:Esercizi spirituali a Re (Vb) – Diocesi di Torino\, Asti\, Modena\, Reggio Emilia\, Bologna e Parma
URL:https://www.luiginovarese.org/calendario-eventi/esercizi-spirituali-a-re-vb-diocesi-di-torino-asti-modena-reggio-emilia-bologna-e-parma/
ATTACH;FMTTYPE=image/jpeg:https://www.luiginovarese.org/wp-content/uploads/2023/06/Esercizi-spirituali-b.jpg
END:VEVENT
BEGIN:VEVENT
DTSTART;VALUE=DATE:20230716
DTEND;VALUE=DATE:20230717
DTSTAMP:20260423T010300
CREATED:20230630T055107Z
LAST-MODIFIED:20230630T055107Z
UID:71148-1689465600-1689551999@www.luiginovarese.org
SUMMARY:Vergine del Carmelo
DESCRIPTION:Scarica la locandina
URL:https://www.luiginovarese.org/calendario-eventi/vergine-del-carmelo/
ATTACH;FMTTYPE=image/jpeg:https://www.luiginovarese.org/wp-content/uploads/2023/06/16-luglio-vergine-del-Carmelo.jpg
END:VEVENT
BEGIN:VEVENT
DTSTART;VALUE=DATE:20230710
DTEND;VALUE=DATE:20230717
DTSTAMP:20260423T010300
CREATED:20230709T101723Z
LAST-MODIFIED:20230709T101723Z
UID:71360-1688947200-1689551999@www.luiginovarese.org
SUMMARY:Esercizi spirituali a Valleluogo (Av) - Diocesi di Nardò\, Otranto\, Lecce\, Taranto e Salerno
DESCRIPTION:Esercizi spirituali a Valleluogo (Av) – Diocesi di Nardò\, Otranto\, Lecce\, Taranto e Salerno
URL:https://www.luiginovarese.org/calendario-eventi/esercizi-spirituali-a-valleluogo-av-diocesi-di-nardo-otranto-lecce-taranto-e-salerno/
ATTACH;FMTTYPE=image/jpeg:https://www.luiginovarese.org/wp-content/uploads/2023/07/Valleluogo-23.jpg
END:VEVENT
BEGIN:VEVENT
DTSTART;VALUE=DATE:20230709
DTEND;VALUE=DATE:20230715
DTSTAMP:20260423T010300
CREATED:20230709T100254Z
LAST-MODIFIED:20230709T100254Z
UID:71350-1688860800-1689379199@www.luiginovarese.org
SUMMARY:Esercizi spirituali bambini e Gruppo attivo
DESCRIPTION:Scarica la locandina
URL:https://www.luiginovarese.org/calendario-eventi/esercizi-spirituali-bambini-e-gruppo-attivo/
ATTACH;FMTTYPE=image/jpeg:https://www.luiginovarese.org/wp-content/uploads/2023/07/Re-Gruppo-attivo.jpg
END:VEVENT
BEGIN:VEVENT
DTSTART;VALUE=DATE:20230709
DTEND;VALUE=DATE:20230715
DTSTAMP:20260423T010300
CREATED:20230621T082817Z
LAST-MODIFIED:20230621T085205Z
UID:70967-1688860800-1689379199@www.luiginovarese.org
SUMMARY:Esercizi spirituali a Re (Vb) - Gruppo Attivo e Bambini
DESCRIPTION:Esercizi spirituali a Re (Vb) – Gruppo Attivo e Bambini
URL:https://www.luiginovarese.org/calendario-eventi/esercizi-spirituali-a-re-vb-gruppo-attivo-e-bambini/
ATTACH;FMTTYPE=image/jpeg:https://www.luiginovarese.org/wp-content/uploads/2023/06/Esercizi-spirituali-b.jpg
END:VEVENT
BEGIN:VEVENT
DTSTART;VALUE=DATE:20230706
DTEND;VALUE=DATE:20230707
DTSTAMP:20260423T010300
CREATED:20230630T054704Z
LAST-MODIFIED:20230630T054942Z
UID:71141-1688601600-1688687999@www.luiginovarese.org
SUMMARY:Santa Maria Goretti
DESCRIPTION:Scarica la locandina
URL:https://www.luiginovarese.org/calendario-eventi/6-luglio-santa-maria-goretti/
ATTACH;FMTTYPE=image/jpeg:https://www.luiginovarese.org/wp-content/uploads/2023/06/6-luglio-Santa-Maria-Goretti.jpg
END:VEVENT
BEGIN:VEVENT
DTSTART;VALUE=DATE:20230702
DTEND;VALUE=DATE:20230709
DTSTAMP:20260423T010300
CREATED:20230621T082714Z
LAST-MODIFIED:20230630T060115Z
UID:70966-1688256000-1688860799@www.luiginovarese.org
SUMMARY:Esercizi spirituali a Re (Vb) - Diocesi di Mantova\, Lugano\, Bergamo\, Vercelli\, Tortona
DESCRIPTION:Esercizi spirituali a Re (Vb) – Diocesi di Mantova\, Lugano\, Bergamo\, Vercelli\, Tortona
URL:https://www.luiginovarese.org/calendario-eventi/esercizi-spirituali-a-re-vb-diocesi-di-mantova-lugano-bergamo-vercelli-tortona/
ATTACH;FMTTYPE=image/jpeg:https://www.luiginovarese.org/wp-content/uploads/2023/06/Esercizi-spirituali-b.jpg
END:VEVENT
BEGIN:VEVENT
DTSTART;VALUE=DATE:20230625
DTEND;VALUE=DATE:20230702
DTSTAMP:20260423T010300
CREATED:20230604T162411Z
LAST-MODIFIED:20230604T162444Z
UID:70729-1687651200-1688255999@www.luiginovarese.org
SUMMARY:Esercizi spirituali a Re (Vb) - Diocesi di Pitigliano e Milano
DESCRIPTION:Esercizi spirituali a Re (Vb) – Diocesi di Pitigliano e Milano
URL:https://www.luiginovarese.org/calendario-eventi/esercizi-spirituali-a-re-vb-diocesi-di-pitigliano-e-milano/
ATTACH;FMTTYPE=image/jpeg:https://www.luiginovarese.org/wp-content/uploads/2023/06/Esercizi-spirituali-b.jpg
END:VEVENT
BEGIN:VEVENT
DTSTART;VALUE=DATE:20230617
DTEND;VALUE=DATE:20230618
DTSTAMP:20260423T010300
CREATED:20230604T155808Z
LAST-MODIFIED:20230604T161105Z
UID:70716-1686960000-1687046399@www.luiginovarese.org
SUMMARY:Cuore Immacolato di Maria
DESCRIPTION:Scarica la locandina
URL:https://www.luiginovarese.org/calendario-eventi/cuore-immacolato-di-maria-3/
ATTACH;FMTTYPE=image/jpeg:https://www.luiginovarese.org/wp-content/uploads/2023/06/17-giugno-Cuore-immacolato-di-Maria-scaled.jpg
END:VEVENT
BEGIN:VEVENT
DTSTART;VALUE=DATE:20230616
DTEND;VALUE=DATE:20230617
DTSTAMP:20260423T010300
CREATED:20230604T155545Z
LAST-MODIFIED:20230604T155545Z
UID:70715-1686873600-1686959999@www.luiginovarese.org
SUMMARY:Sacro Cuore di Gesù
DESCRIPTION:Scarica la locandina
URL:https://www.luiginovarese.org/calendario-eventi/sacro-cuore-di-gesu-2/
ATTACH;FMTTYPE=image/jpeg:https://www.luiginovarese.org/wp-content/uploads/2023/06/16-giugno-Sacro-Cuore-di-Gesu-scaled.jpg
END:VEVENT
BEGIN:VEVENT
DTSTART;VALUE=DATE:20230613
DTEND;VALUE=DATE:20230614
DTSTAMP:20260423T010300
CREATED:20230604T155229Z
LAST-MODIFIED:20230604T155229Z
UID:70714-1686614400-1686700799@www.luiginovarese.org
SUMMARY:Seconda apparizione a Fatima
DESCRIPTION:Scarica la locandina
URL:https://www.luiginovarese.org/calendario-eventi/seconda-apparizione-a-fatima/
ATTACH;FMTTYPE=image/jpeg:https://www.luiginovarese.org/wp-content/uploads/2023/06/13-Giugno-Seconda-apparizione-a-Fatima.jpg
END:VEVENT
BEGIN:VEVENT
DTSTART;VALUE=DATE:20230611
DTEND;VALUE=DATE:20230618
DTSTAMP:20260423T010300
CREATED:20230604T161852Z
LAST-MODIFIED:20230604T161852Z
UID:70727-1686441600-1687046399@www.luiginovarese.org
SUMMARY:Esercizi spirituali a Re (Vb) - Diocesi di Vicenza e Brescia
DESCRIPTION:Esercizi spirituali a Re (Vb) – Diocesi di Vicenza e Brescia
URL:https://www.luiginovarese.org/calendario-eventi/esercizi-spirituali-a-re-vb-diocesi-di-vicenza-e-brescia/
ATTACH;FMTTYPE=image/jpeg:https://www.luiginovarese.org/wp-content/uploads/2023/06/Esercizi-spirituali-b.jpg
END:VEVENT
BEGIN:VEVENT
DTSTART;VALUE=DATE:20230611
DTEND;VALUE=DATE:20230612
DTSTAMP:20260423T010300
CREATED:20230604T155045Z
LAST-MODIFIED:20230604T155131Z
UID:70713-1686441600-1686527999@www.luiginovarese.org
SUMMARY:Corpus Christi
DESCRIPTION:Scarica la locandina
URL:https://www.luiginovarese.org/calendario-eventi/11-giugno-corpus-christi/
ATTACH;FMTTYPE=image/jpeg:https://www.luiginovarese.org/wp-content/uploads/2023/06/11-giugno-Corpus-Christi.jpg
END:VEVENT
BEGIN:VEVENT
DTSTART;VALUE=DATE:20230604
DTEND;VALUE=DATE:20230611
DTSTAMP:20260423T010300
CREATED:20230604T161509Z
LAST-MODIFIED:20230604T161556Z
UID:70723-1685836800-1686441599@www.luiginovarese.org
SUMMARY:Esercizi spirituali a Re (Vb) - Diocesi di Genova\, Sanremo Ventimiglia\, Savona
DESCRIPTION:Diocesi di Genova\, Sanremo Ventimiglia\, Savona
URL:https://www.luiginovarese.org/calendario-eventi/esercizi-spirituali-a-re-vb-diocesi-di-genova-sanremo-ventimiglia-savona/
ATTACH;FMTTYPE=image/jpeg:https://www.luiginovarese.org/wp-content/uploads/2023/06/Esercizi-spirituali-b.jpg
END:VEVENT
BEGIN:VEVENT
DTSTART;VALUE=DATE:20230531
DTEND;VALUE=DATE:20230601
DTSTAMP:20260423T010300
CREATED:20230501T072603Z
LAST-MODIFIED:20230501T072603Z
UID:70128-1685491200-1685577599@www.luiginovarese.org
SUMMARY:Festa della Visitazione
DESCRIPTION:Scarica la locandina
URL:https://www.luiginovarese.org/calendario-eventi/festa-della-visitazione/
ATTACH;FMTTYPE=image/jpeg:https://www.luiginovarese.org/wp-content/uploads/2023/05/31-maggio-Visitazione.jpg
END:VEVENT
BEGIN:VEVENT
DTSTART;VALUE=DATE:20230529
DTEND;VALUE=DATE:20230530
DTSTAMP:20260423T010300
CREATED:20230501T072955Z
LAST-MODIFIED:20230501T072955Z
UID:70127-1685318400-1685404799@www.luiginovarese.org
SUMMARY:Maria madre della Chiesa
DESCRIPTION:Scarica la locandina
URL:https://www.luiginovarese.org/calendario-eventi/maria-madre-della-chiesa/
ATTACH;FMTTYPE=image/jpeg:https://www.luiginovarese.org/wp-content/uploads/2023/05/29-maggio-Maria-madre-della-Chiesa.jpg
END:VEVENT
BEGIN:VEVENT
DTSTART;VALUE=DATE:20230528
DTEND;VALUE=DATE:20230529
DTSTAMP:20260423T010300
CREATED:20230501T141932Z
LAST-MODIFIED:20230501T141932Z
UID:70155-1685232000-1685318399@www.luiginovarese.org
SUMMARY:Pentecoste
DESCRIPTION:Scarica la locandina
URL:https://www.luiginovarese.org/calendario-eventi/pentecoste-2/
ATTACH;FMTTYPE=image/jpeg:https://www.luiginovarese.org/wp-content/uploads/2023/05/28-maggio-Pentecoste.jpg
END:VEVENT
BEGIN:VEVENT
DTSTART;VALUE=DATE:20230521
DTEND;VALUE=DATE:20230522
DTSTAMP:20260423T010300
CREATED:20230501T141435Z
LAST-MODIFIED:20230501T141505Z
UID:70154-1684627200-1684713599@www.luiginovarese.org
SUMMARY:Domenica dell'Ascensione al Cielo
DESCRIPTION:Scarica la locandina
URL:https://www.luiginovarese.org/calendario-eventi/domenica-del-ascensione/
ATTACH;FMTTYPE=image/jpeg:https://www.luiginovarese.org/wp-content/uploads/2023/05/21-maggio-Domenica-del-ascensione.jpg
END:VEVENT
BEGIN:VEVENT
DTSTART;VALUE=DATE:20230517
DTEND;VALUE=DATE:20230518
DTSTAMP:20260423T010300
CREATED:20230501T072147Z
LAST-MODIFIED:20230501T072147Z
UID:70126-1684281600-1684367999@www.luiginovarese.org
SUMMARY:Anniversario di fondazione del CVS
DESCRIPTION:Scarica la locandina
URL:https://www.luiginovarese.org/calendario-eventi/anniversario-di-fondazione-del-cvs/
ATTACH;FMTTYPE=image/jpeg:https://www.luiginovarese.org/wp-content/uploads/2023/05/17-maggio-anniversario-fondazione.jpg
END:VEVENT
BEGIN:VEVENT
DTSTART;VALUE=DATE:20230514
DTEND;VALUE=DATE:20230515
DTSTAMP:20260423T010300
CREATED:20230501T135519Z
LAST-MODIFIED:20230501T142234Z
UID:70153-1684022400-1684108799@www.luiginovarese.org
SUMMARY:Sesta domenica di Pasqua
DESCRIPTION:Scarica la locandina
URL:https://www.luiginovarese.org/calendario-eventi/sesta-domenica-di-pasqua/
ATTACH;FMTTYPE=image/jpeg:https://www.luiginovarese.org/wp-content/uploads/2023/05/14-maggio-Sesta-domenica-di-Pasqua.jpg
END:VEVENT
BEGIN:VEVENT
DTSTART;VALUE=DATE:20230513
DTEND;VALUE=DATE:20230514
DTSTAMP:20260423T010300
CREATED:20230501T072034Z
LAST-MODIFIED:20230501T072034Z
UID:70124-1683936000-1684022399@www.luiginovarese.org
SUMMARY:Apparizione della Madonna a Fatima
DESCRIPTION:Scarica la locandina
URL:https://www.luiginovarese.org/calendario-eventi/apparizione-della-madonna-a-fatima/
ATTACH;FMTTYPE=image/jpeg:https://www.luiginovarese.org/wp-content/uploads/2023/05/13-Maggio-apparizione-Fatima.jpg
END:VEVENT
BEGIN:VEVENT
DTSTART;VALUE=DATE:20230511
DTEND;VALUE=DATE:20230512
DTSTAMP:20260423T010300
CREATED:20230501T071815Z
LAST-MODIFIED:20230501T072816Z
UID:70123-1683763200-1683849599@www.luiginovarese.org
SUMMARY:Beatificazione di mons. Luigi Novarese
DESCRIPTION:Scarica la locandina
URL:https://www.luiginovarese.org/calendario-eventi/beatificazione-di-mons-luigi-novarese/
ATTACH;FMTTYPE=image/jpeg:https://www.luiginovarese.org/wp-content/uploads/2023/05/11-maggio-beatificazione.jpg
END:VEVENT
BEGIN:VEVENT
DTSTART;VALUE=DATE:20230507
DTEND;VALUE=DATE:20230508
DTSTAMP:20260423T010300
CREATED:20230501T135358Z
LAST-MODIFIED:20230501T135358Z
UID:70152-1683417600-1683503999@www.luiginovarese.org
SUMMARY:Quinta domenica di Pasqua
DESCRIPTION:Scarica la locandina
URL:https://www.luiginovarese.org/calendario-eventi/quinta-domenica-di-pasqua/
ATTACH;FMTTYPE=image/jpeg:https://www.luiginovarese.org/wp-content/uploads/2023/05/7-maggio-Quinta-domenica-di-Pasqua.jpg
END:VEVENT
BEGIN:VEVENT
DTSTART;VALUE=DATE:20230501
DTEND;VALUE=DATE:20230502
DTSTAMP:20260423T010300
CREATED:20230501T071656Z
LAST-MODIFIED:20230501T071914Z
UID:70122-1682899200-1682985599@www.luiginovarese.org
SUMMARY:San Giuseppe operaio
DESCRIPTION:Scarica la locandina
URL:https://www.luiginovarese.org/calendario-eventi/san-giuseppe-operaio/
ATTACH;FMTTYPE=image/jpeg:https://www.luiginovarese.org/wp-content/uploads/2023/05/1-maggio-san-Giuseppe-operaio.jpg
END:VEVENT
BEGIN:VEVENT
DTSTART;VALUE=DATE:20230430
DTEND;VALUE=DATE:20230501
DTSTAMP:20260423T010300
CREATED:20230331T072003Z
LAST-MODIFIED:20230331T072003Z
UID:68896-1682812800-1682899199@www.luiginovarese.org
SUMMARY:Quarta Domenica di Pasqua
DESCRIPTION:Scarica la locandina
URL:https://www.luiginovarese.org/calendario-eventi/quarta-domenica-di-pasqua/
ATTACH;FMTTYPE=image/jpeg:https://www.luiginovarese.org/wp-content/uploads/2023/03/30-aprile-Quarta-domenica-di-Pasqua.jpg
END:VEVENT
END:VCALENDAR