BEGIN:VCALENDAR
VERSION:2.0
PRODID:-//Opera Beato Luigi Novarese - ECPv6.15.17//NONSGML v1.0//EN
CALSCALE:GREGORIAN
METHOD:PUBLISH
X-WR-CALNAME:Opera Beato Luigi Novarese
X-ORIGINAL-URL:https://www.luiginovarese.org
X-WR-CALDESC:Eventi per Opera Beato Luigi Novarese
REFRESH-INTERVAL;VALUE=DURATION:PT1H
X-Robots-Tag:noindex
X-PUBLISHED-TTL:PT1H
BEGIN:VTIMEZONE
TZID:Europe/Rome
BEGIN:DAYLIGHT
TZOFFSETFROM:+0100
TZOFFSETTO:+0200
TZNAME:CEST
DTSTART:20220327T010000
END:DAYLIGHT
BEGIN:STANDARD
TZOFFSETFROM:+0200
TZOFFSETTO:+0100
TZNAME:CET
DTSTART:20221030T010000
END:STANDARD
BEGIN:DAYLIGHT
TZOFFSETFROM:+0100
TZOFFSETTO:+0200
TZNAME:CEST
DTSTART:20230326T010000
END:DAYLIGHT
BEGIN:STANDARD
TZOFFSETFROM:+0200
TZOFFSETTO:+0100
TZNAME:CET
DTSTART:20231029T010000
END:STANDARD
BEGIN:DAYLIGHT
TZOFFSETFROM:+0100
TZOFFSETTO:+0200
TZNAME:CEST
DTSTART:20240331T010000
END:DAYLIGHT
BEGIN:STANDARD
TZOFFSETFROM:+0200
TZOFFSETTO:+0100
TZNAME:CET
DTSTART:20241027T010000
END:STANDARD
END:VTIMEZONE
BEGIN:VEVENT
DTSTART;VALUE=DATE:20230416
DTEND;VALUE=DATE:20230417
DTSTAMP:20260423T104727
CREATED:20230331T063119Z
LAST-MODIFIED:20230331T063636Z
UID:68861-1681603200-1681689599@www.luiginovarese.org
SUMMARY:Santa Bernardetta
DESCRIPTION:Scarica la locandina
URL:https://www.luiginovarese.org/calendario-eventi/santa-bernardetta-2/
ATTACH;FMTTYPE=image/jpeg:https://www.luiginovarese.org/wp-content/uploads/2023/03/16-aprile-Santa-Bernardetta.jpg
END:VEVENT
BEGIN:VEVENT
DTSTART;VALUE=DATE:20230409
DTEND;VALUE=DATE:20230410
DTSTAMP:20260423T104727
CREATED:20230331T062939Z
LAST-MODIFIED:20230331T063606Z
UID:68860-1680998400-1681084799@www.luiginovarese.org
SUMMARY:Domenica di Pasqua
DESCRIPTION:Scarica la locandina
URL:https://www.luiginovarese.org/calendario-eventi/pasqua-2/
ATTACH;FMTTYPE=image/jpeg:https://www.luiginovarese.org/wp-content/uploads/2023/03/9-aprile-Pasqua.jpg
END:VEVENT
BEGIN:VEVENT
DTSTART;TZID=Europe/Rome:20230408T080000
DTEND;TZID=Europe/Rome:20230408T170000
DTSTAMP:20260423T104727
CREATED:20230331T062913Z
LAST-MODIFIED:20230331T063523Z
UID:68859-1680940800-1680973200@www.luiginovarese.org
SUMMARY:Sabato santo
DESCRIPTION:Scarica la locandina
URL:https://www.luiginovarese.org/calendario-eventi/sabato-santo-2/
ATTACH;FMTTYPE=image/jpeg:https://www.luiginovarese.org/wp-content/uploads/2023/03/8-aprile-Sabato-Santo.jpg
END:VEVENT
BEGIN:VEVENT
DTSTART;VALUE=DATE:20230407
DTEND;VALUE=DATE:20230408
DTSTAMP:20260423T104727
CREATED:20230331T062840Z
LAST-MODIFIED:20230331T063455Z
UID:68858-1680825600-1680911999@www.luiginovarese.org
SUMMARY:Venerdì santo
DESCRIPTION:Scarica la locandina
URL:https://www.luiginovarese.org/calendario-eventi/venerdi-santo-3/
ATTACH;FMTTYPE=image/jpeg:https://www.luiginovarese.org/wp-content/uploads/2023/03/7-aprile-Venerdi-Santo.jpg
END:VEVENT
BEGIN:VEVENT
DTSTART;VALUE=DATE:20230406
DTEND;VALUE=DATE:20230407
DTSTAMP:20260423T104727
CREATED:20230331T062809Z
LAST-MODIFIED:20230331T063400Z
UID:68857-1680739200-1680825599@www.luiginovarese.org
SUMMARY:Giovedì santo
DESCRIPTION:Scarica la locandina
URL:https://www.luiginovarese.org/calendario-eventi/giovedi-santo-3/
ATTACH;FMTTYPE=image/jpeg:https://www.luiginovarese.org/wp-content/uploads/2023/03/6-aprileGiovedi-Santo.jpg
END:VEVENT
BEGIN:VEVENT
DTSTART;VALUE=DATE:20230402
DTEND;VALUE=DATE:20230403
DTSTAMP:20260423T104727
CREATED:20230331T062733Z
LAST-MODIFIED:20230331T063332Z
UID:68856-1680393600-1680479999@www.luiginovarese.org
SUMMARY:Domenica delle palme
DESCRIPTION:Scarica la locandina
URL:https://www.luiginovarese.org/calendario-eventi/domenica-delle-palme-3/
ATTACH;FMTTYPE=image/jpeg:https://www.luiginovarese.org/wp-content/uploads/2023/03/2-aprile-Domenica-delle-palme.jpg
END:VEVENT
BEGIN:VEVENT
DTSTART;VALUE=DATE:20230326
DTEND;VALUE=DATE:20230327
DTSTAMP:20260423T104727
CREATED:20230227T081154Z
LAST-MODIFIED:20230227T081154Z
UID:68298-1679788800-1679875199@www.luiginovarese.org
SUMMARY:5ª domenica Quaresima
DESCRIPTION:Scarica la locandina
URL:https://www.luiginovarese.org/calendario-eventi/5a-domenica-quaresima/
ATTACH;FMTTYPE=image/jpeg:https://www.luiginovarese.org/wp-content/uploads/2023/02/26-marzo-5a-domenica-quaresima.jpg
END:VEVENT
BEGIN:VEVENT
DTSTART;VALUE=DATE:20230325
DTEND;VALUE=DATE:20230326
DTSTAMP:20260423T104727
CREATED:20230227T081120Z
LAST-MODIFIED:20230227T081120Z
UID:68296-1679702400-1679788799@www.luiginovarese.org
SUMMARY:Annunciazione
DESCRIPTION:Scarica la locandina
URL:https://www.luiginovarese.org/calendario-eventi/annunciazione/
ATTACH;FMTTYPE=image/jpeg:https://www.luiginovarese.org/wp-content/uploads/2023/02/25-marzo-Annuciazione.jpg
END:VEVENT
BEGIN:VEVENT
DTSTART;VALUE=DATE:20230320
DTEND;VALUE=DATE:20230321
DTSTAMP:20260423T104727
CREATED:20230227T081046Z
LAST-MODIFIED:20230227T081046Z
UID:68297-1679270400-1679356799@www.luiginovarese.org
SUMMARY:Giornata della felicità
DESCRIPTION:Scarica la locandina
URL:https://www.luiginovarese.org/calendario-eventi/giornata-della-felicita-2/
ATTACH;FMTTYPE=image/jpeg:https://www.luiginovarese.org/wp-content/uploads/2023/02/20-marzo-Giornata-della-felicita.jpg
END:VEVENT
BEGIN:VEVENT
DTSTART;VALUE=DATE:20230319
DTEND;VALUE=DATE:20230320
DTSTAMP:20260423T104727
CREATED:20230227T080956Z
LAST-MODIFIED:20230227T081013Z
UID:68295-1679184000-1679270399@www.luiginovarese.org
SUMMARY:San Giuseppe
DESCRIPTION:Scarica la locandina
URL:https://www.luiginovarese.org/calendario-eventi/san-giuseppe-2/
END:VEVENT
BEGIN:VEVENT
DTSTART;VALUE=DATE:20230319
DTEND;VALUE=DATE:20230320
DTSTAMP:20260423T104727
CREATED:20230227T080937Z
LAST-MODIFIED:20230227T080937Z
UID:68294-1679184000-1679270399@www.luiginovarese.org
SUMMARY:4ª domenica di Quaresima
DESCRIPTION:Scarica la locandina
URL:https://www.luiginovarese.org/calendario-eventi/4a-domenica-di-quaresima/
ATTACH;FMTTYPE=image/jpeg:https://www.luiginovarese.org/wp-content/uploads/2023/02/19-marzo-4a-domenica-di-Quaresima.jpg
END:VEVENT
BEGIN:VEVENT
DTSTART;VALUE=DATE:20230312
DTEND;VALUE=DATE:20230313
DTSTAMP:20260423T104727
CREATED:20230227T080846Z
LAST-MODIFIED:20230227T080846Z
UID:68293-1678579200-1678665599@www.luiginovarese.org
SUMMARY:3ª domenica di quaresima
DESCRIPTION:Scarica la locandina
URL:https://www.luiginovarese.org/calendario-eventi/3a-domenica-di-quaresima/
ATTACH;FMTTYPE=image/jpeg:https://www.luiginovarese.org/wp-content/uploads/2023/02/12-marzo-3a-domenica-di-quaresima.jpg
END:VEVENT
BEGIN:VEVENT
DTSTART;VALUE=DATE:20230308
DTEND;VALUE=DATE:20230309
DTSTAMP:20260423T104727
CREATED:20230227T080809Z
LAST-MODIFIED:20230227T080809Z
UID:68292-1678233600-1678319999@www.luiginovarese.org
SUMMARY:Giornata della donna
DESCRIPTION:Scarica la locandina
URL:https://www.luiginovarese.org/calendario-eventi/giornata-della-donna/
ATTACH;FMTTYPE=image/jpeg:https://www.luiginovarese.org/wp-content/uploads/2023/02/8-marzo-Giornata-della-donna.jpg
END:VEVENT
BEGIN:VEVENT
DTSTART;VALUE=DATE:20230305
DTEND;VALUE=DATE:20230306
DTSTAMP:20260423T104727
CREATED:20230227T080744Z
LAST-MODIFIED:20230227T080744Z
UID:68291-1677974400-1678060799@www.luiginovarese.org
SUMMARY:2ª Domenica di Quaresima
DESCRIPTION:Scarica la locandina
URL:https://www.luiginovarese.org/calendario-eventi/2a-domenica-di-quaresima/
ATTACH;FMTTYPE=image/jpeg:https://www.luiginovarese.org/wp-content/uploads/2023/02/5-marzo-2a-Domenica-di-quaresima.jpg
END:VEVENT
BEGIN:VEVENT
DTSTART;VALUE=DATE:20230226
DTEND;VALUE=DATE:20230227
DTSTAMP:20260423T104727
CREATED:20230130T104917Z
LAST-MODIFIED:20230130T110338Z
UID:67777-1677369600-1677455999@www.luiginovarese.org
SUMMARY:Prima Domenica di Quaresima
DESCRIPTION:Scarica la locandina
URL:https://www.luiginovarese.org/calendario-eventi/prima-domenica-di-quaresima-2/
ATTACH;FMTTYPE=image/jpeg:https://www.luiginovarese.org/wp-content/uploads/2023/01/26-febbraio-Prima-Domenica-di-Quaresima.jpg
END:VEVENT
BEGIN:VEVENT
DTSTART;VALUE=DATE:20230224
DTEND;VALUE=DATE:20230225
DTSTAMP:20260423T104727
CREATED:20230130T112904Z
LAST-MODIFIED:20230130T112904Z
UID:67809-1677196800-1677283199@www.luiginovarese.org
SUMMARY:Anna Fulgida Bartolacelli
DESCRIPTION:Scarica la locandina
URL:https://www.luiginovarese.org/calendario-eventi/anna-fulgida-bartolacelli/
ATTACH;FMTTYPE=image/jpeg:https://www.luiginovarese.org/wp-content/uploads/2023/01/24-febbraio-Anna-Fulgida.jpg
END:VEVENT
BEGIN:VEVENT
DTSTART;VALUE=DATE:20230222
DTEND;VALUE=DATE:20230223
DTSTAMP:20260423T104727
CREATED:20230130T104824Z
LAST-MODIFIED:20230130T104824Z
UID:67776-1677024000-1677110399@www.luiginovarese.org
SUMMARY:Mercoledì delle ceneri
DESCRIPTION:Scarica la locandina
URL:https://www.luiginovarese.org/calendario-eventi/mercoledi-delle-ceneri-2/
ATTACH;FMTTYPE=image/jpeg:https://www.luiginovarese.org/wp-content/uploads/2023/01/23-febbraio-Mercoledi-di-cenere.jpg
END:VEVENT
BEGIN:VEVENT
DTSTART;VALUE=DATE:20230220
DTEND;VALUE=DATE:20230221
DTSTAMP:20260423T104727
CREATED:20230130T113012Z
LAST-MODIFIED:20230207T092949Z
UID:67810-1676851200-1676937599@www.luiginovarese.org
SUMMARY:Giacinta Marto
DESCRIPTION:Scarica la locandina
URL:https://www.luiginovarese.org/calendario-eventi/giacinta-marto/
ATTACH;FMTTYPE=image/jpeg:https://www.luiginovarese.org/wp-content/uploads/2023/01/20-febbraio-Giacinta.jpg
END:VEVENT
BEGIN:VEVENT
DTSTART;VALUE=DATE:20230213
DTEND;VALUE=DATE:20230214
DTSTAMP:20260423T104727
CREATED:20230130T104716Z
LAST-MODIFIED:20230130T105928Z
UID:67774-1676246400-1676332799@www.luiginovarese.org
SUMMARY:Giornata della radio
DESCRIPTION:Scarica la locandina
URL:https://www.luiginovarese.org/calendario-eventi/giornata-della-radio/
ATTACH;FMTTYPE=image/jpeg:https://www.luiginovarese.org/wp-content/uploads/2023/01/13-febbraioGiornata-della-radio.jpg
END:VEVENT
BEGIN:VEVENT
DTSTART;VALUE=DATE:20230211
DTEND;VALUE=DATE:20230212
DTSTAMP:20260423T104727
CREATED:20230130T104504Z
LAST-MODIFIED:20230207T090836Z
UID:67773-1676073600-1676159999@www.luiginovarese.org
SUMMARY:Beata Vergine di Lourdes
DESCRIPTION:Scarica la locandina
URL:https://www.luiginovarese.org/calendario-eventi/beata-vergine-di-lourdes/
ATTACH;FMTTYPE=image/jpeg:https://www.luiginovarese.org/wp-content/uploads/2023/01/11-febbraio-Beata-vergine-di-Loudes.jpg
END:VEVENT
BEGIN:VEVENT
DTSTART;VALUE=DATE:20230211
DTEND;VALUE=DATE:20230212
DTSTAMP:20260423T104727
CREATED:20230130T104622Z
LAST-MODIFIED:20230130T105848Z
UID:67775-1676073600-1676159999@www.luiginovarese.org
SUMMARY:Giornata mondiale del Malato
DESCRIPTION:Scarica la locandina
URL:https://www.luiginovarese.org/calendario-eventi/giornata-del-malato/
ATTACH;FMTTYPE=image/jpeg:https://www.luiginovarese.org/wp-content/uploads/2023/01/11-febbraio-Giornata-del-Malato.jpg
END:VEVENT
BEGIN:VEVENT
DTSTART;VALUE=DATE:20230205
DTEND;VALUE=DATE:20230206
DTSTAMP:20260423T104727
CREATED:20230130T104411Z
LAST-MODIFIED:20230130T105724Z
UID:67772-1675555200-1675641599@www.luiginovarese.org
SUMMARY:Giornata mondiale della vita
DESCRIPTION:Scarica la locandina
URL:https://www.luiginovarese.org/calendario-eventi/giornata-mondiale-della-vita-2/
ATTACH;FMTTYPE=image/jpeg:https://www.luiginovarese.org/wp-content/uploads/2023/01/5-febbraio-Giornata-mondiale-della-vita.jpg
END:VEVENT
BEGIN:VEVENT
DTSTART;VALUE=DATE:20230202
DTEND;VALUE=DATE:20230203
DTSTAMP:20260423T104727
CREATED:20230130T104301Z
LAST-MODIFIED:20230130T105656Z
UID:67771-1675296000-1675382399@www.luiginovarese.org
SUMMARY:Presentazione di Gesù al tempio
DESCRIPTION:Scarica la locandina
URL:https://www.luiginovarese.org/calendario-eventi/presentazione-di-gesu-al-tempio/
ATTACH;FMTTYPE=image/jpeg:https://www.luiginovarese.org/wp-content/uploads/2023/01/2-febbraio-Presentazione-di-Gesu.jpg
END:VEVENT
BEGIN:VEVENT
DTSTART;VALUE=DATE:20230131
DTEND;VALUE=DATE:20230201
DTSTAMP:20260423T104727
CREATED:20221229T100158Z
LAST-MODIFIED:20221229T100158Z
UID:67148-1675123200-1675209599@www.luiginovarese.org
SUMMARY:San Giovanni Bosco
DESCRIPTION:Scarica la locandina
URL:https://www.luiginovarese.org/calendario-eventi/san-giovanni-bosco-2/
ATTACH;FMTTYPE=image/jpeg:https://www.luiginovarese.org/wp-content/uploads/2022/12/San-Giovanni-Bosco.jpg
END:VEVENT
BEGIN:VEVENT
DTSTART;VALUE=DATE:20230128
DTEND;VALUE=DATE:20230129
DTSTAMP:20260423T104727
CREATED:20221229T095633Z
LAST-MODIFIED:20221229T095633Z
UID:67144-1674864000-1674950399@www.luiginovarese.org
SUMMARY:Angiolino Bonetta
DESCRIPTION:Scarica la locandina
URL:https://www.luiginovarese.org/calendario-eventi/angiolino-bonetta/
ATTACH;FMTTYPE=image/jpeg:https://www.luiginovarese.org/wp-content/uploads/2022/12/Angiolino-Bonetta.jpg
END:VEVENT
BEGIN:VEVENT
DTSTART;VALUE=DATE:20230114
DTEND;VALUE=DATE:20230115
DTSTAMP:20260423T104727
CREATED:20221229T100059Z
LAST-MODIFIED:20221229T100542Z
UID:67149-1673654400-1673740799@www.luiginovarese.org
SUMMARY:Giunio Tinarelli
DESCRIPTION:Scarica la locandina
URL:https://www.luiginovarese.org/calendario-eventi/giunio-tinarelli/
ATTACH;FMTTYPE=image/jpeg:https://www.luiginovarese.org/wp-content/uploads/2022/12/Giunio-Tinarelli.jpg
END:VEVENT
BEGIN:VEVENT
DTSTART;VALUE=DATE:20230109
DTEND;VALUE=DATE:20230110
DTSTAMP:20260423T104727
CREATED:20221229T095740Z
LAST-MODIFIED:20221229T095740Z
UID:67145-1673222400-1673308799@www.luiginovarese.org
SUMMARY:Battesimo di Gesù
DESCRIPTION:Scarica la locandina
URL:https://www.luiginovarese.org/calendario-eventi/battesimo-di-gesu-3/
ATTACH;FMTTYPE=image/jpeg:https://www.luiginovarese.org/wp-content/uploads/2022/12/Battesimo-di-Gesu.jpg
END:VEVENT
BEGIN:VEVENT
DTSTART;VALUE=DATE:20230106
DTEND;VALUE=DATE:20230107
DTSTAMP:20260423T104727
CREATED:20221229T095851Z
LAST-MODIFIED:20221229T095851Z
UID:67146-1672963200-1673049599@www.luiginovarese.org
SUMMARY:Epifania del Signore
DESCRIPTION:Scarica la locandina
URL:https://www.luiginovarese.org/calendario-eventi/epifania-del-signore/
ATTACH;FMTTYPE=image/jpeg:https://www.luiginovarese.org/wp-content/uploads/2022/12/Epifania-del-Signore.jpg
END:VEVENT
BEGIN:VEVENT
DTSTART;VALUE=DATE:20230101
DTEND;VALUE=DATE:20230102
DTSTAMP:20260423T104727
CREATED:20221229T100343Z
LAST-MODIFIED:20221229T100503Z
UID:67150-1672531200-1672617599@www.luiginovarese.org
SUMMARY:Theotokos - Madre di Dio
DESCRIPTION:Scarica la locandina
URL:https://www.luiginovarese.org/calendario-eventi/theotokos/
ATTACH;FMTTYPE=image/jpeg:https://www.luiginovarese.org/wp-content/uploads/2022/12/Theotokos.jpg
END:VEVENT
BEGIN:VEVENT
DTSTART;VALUE=DATE:20230101
DTEND;VALUE=DATE:20230102
DTSTAMP:20260423T104727
CREATED:20221229T095953Z
LAST-MODIFIED:20221229T095953Z
UID:67147-1672531200-1672617599@www.luiginovarese.org
SUMMARY:Giornata mondiale della pace
DESCRIPTION:Scaria la locandina
URL:https://www.luiginovarese.org/calendario-eventi/giornata-mondiale-della-pace/
ATTACH;FMTTYPE=image/jpeg:https://www.luiginovarese.org/wp-content/uploads/2022/12/Giornata-mondiale-della-pace.jpg
END:VEVENT
END:VCALENDAR