BEGIN:VCALENDAR
VERSION:2.0
PRODID:-//Opera Beato Luigi Novarese - ECPv6.15.17//NONSGML v1.0//EN
CALSCALE:GREGORIAN
METHOD:PUBLISH
X-WR-CALNAME:Opera Beato Luigi Novarese
X-ORIGINAL-URL:https://www.luiginovarese.org
X-WR-CALDESC:Eventi per Opera Beato Luigi Novarese
REFRESH-INTERVAL;VALUE=DURATION:PT1H
X-Robots-Tag:noindex
X-PUBLISHED-TTL:PT1H
BEGIN:VTIMEZONE
TZID:Europe/Rome
BEGIN:DAYLIGHT
TZOFFSETFROM:+0100
TZOFFSETTO:+0200
TZNAME:CEST
DTSTART:20210328T010000
END:DAYLIGHT
BEGIN:STANDARD
TZOFFSETFROM:+0200
TZOFFSETTO:+0100
TZNAME:CET
DTSTART:20211031T010000
END:STANDARD
BEGIN:DAYLIGHT
TZOFFSETFROM:+0100
TZOFFSETTO:+0200
TZNAME:CEST
DTSTART:20220327T010000
END:DAYLIGHT
BEGIN:STANDARD
TZOFFSETFROM:+0200
TZOFFSETTO:+0100
TZNAME:CET
DTSTART:20221030T010000
END:STANDARD
BEGIN:DAYLIGHT
TZOFFSETFROM:+0100
TZOFFSETTO:+0200
TZNAME:CEST
DTSTART:20230326T010000
END:DAYLIGHT
BEGIN:STANDARD
TZOFFSETFROM:+0200
TZOFFSETTO:+0100
TZNAME:CET
DTSTART:20231029T010000
END:STANDARD
END:VTIMEZONE
BEGIN:VEVENT
DTSTART;VALUE=DATE:20221211
DTEND;VALUE=DATE:20221212
DTSTAMP:20260423T104723
CREATED:20221124T121513Z
LAST-MODIFIED:20221125T074808Z
UID:66457-1670716800-1670803199@www.luiginovarese.org
SUMMARY:Avvento 2022 - Nell’orizzonte della speranza
DESCRIPTION:15° giorno\nSfida: Questa sarà la settimana della gioia: sono sfidato ogni giorno a sorridere ad almeno una persona. Ogni giorno in un ambiente diverso.
URL:https://www.luiginovarese.org/calendario-eventi/avvento-2022-nellorizzonte-della-speranza-2/
ATTACH;FMTTYPE=image/jpeg:https://www.luiginovarese.org/wp-content/uploads/2022/11/11-dicembre-scaled.jpg
END:VEVENT
BEGIN:VEVENT
DTSTART;VALUE=DATE:20221210
DTEND;VALUE=DATE:20221211
DTSTAMP:20260423T104723
CREATED:20221124T111336Z
LAST-MODIFIED:20221124T111336Z
UID:66362-1670630400-1670716799@www.luiginovarese.org
SUMMARY:Avvento 2022 - Solo l’amore rimane
DESCRIPTION:14° giorno\nSfida: Ripenso alla mia settimana. Scrivo il risultato del mio esame di coscienza e inizio a ponderare la possibilità di cercare il sacramento della riconciliazione.
URL:https://www.luiginovarese.org/calendario-eventi/avvento-2022-solo-lamore-rimane/
ATTACH;FMTTYPE=image/jpeg:https://www.luiginovarese.org/wp-content/uploads/2022/11/10-dicembre-scaled.jpg
END:VEVENT
BEGIN:VEVENT
DTSTART;VALUE=DATE:20221209
DTEND;VALUE=DATE:20221210
DTSTAMP:20260423T104723
CREATED:20221124T111214Z
LAST-MODIFIED:20221124T111214Z
UID:66361-1670544000-1670630399@www.luiginovarese.org
SUMMARY:Avvento 2022 - Da una vita orizzontale\, lo sguardo va verso l’alto
DESCRIPTION:13° giorno\nSfida: Le mie azioni sono concentrate nel mio benessere o nella volontà di Dio? Oggi rifletto sull’amore di Dio e come Lui vuole soprattutto che io sia felice
URL:https://www.luiginovarese.org/calendario-eventi/avvento-2022-da-una-vita-orizzontale-lo-sguardo-va-verso-lalto/
ATTACH;FMTTYPE=image/jpeg:https://www.luiginovarese.org/wp-content/uploads/2022/11/9-dicembre-scaled.jpg
END:VEVENT
BEGIN:VEVENT
DTSTART;VALUE=DATE:20221208
DTEND;VALUE=DATE:20221209
DTSTAMP:20260423T104723
CREATED:20221201T084626Z
LAST-MODIFIED:20221201T085227Z
UID:66696-1670457600-1670543999@www.luiginovarese.org
SUMMARY:Immacolata Concezione
DESCRIPTION:Scarica la locandina
URL:https://www.luiginovarese.org/calendario-eventi/immacolata-concezione-2/
ATTACH;FMTTYPE=image/jpeg:https://www.luiginovarese.org/wp-content/uploads/2022/12/8-Dicembre.jpg
END:VEVENT
BEGIN:VEVENT
DTSTART;VALUE=DATE:20221208
DTEND;VALUE=DATE:20221209
DTSTAMP:20260423T104723
CREATED:20221124T111135Z
LAST-MODIFIED:20221124T111135Z
UID:66366-1670457600-1670543999@www.luiginovarese.org
SUMMARY:Avvento 2022 - Una semplice fanciulla porta nel cuore tutta la speranza di Dio
DESCRIPTION:12° giorno\nSfida: Come mi prendo cura dei più bisognosi? Oggi rifletto sui momenti in cui ho ignorato qualcuno che aveva bisogno di me.
URL:https://www.luiginovarese.org/calendario-eventi/avvento-2022-una-semplice-fanciulla-porta-nel-cuore-tutta-la-speranza-di-dio/
ATTACH;FMTTYPE=image/jpeg:https://www.luiginovarese.org/wp-content/uploads/2022/11/8-dicembre-scaled.jpg
END:VEVENT
BEGIN:VEVENT
DTSTART;VALUE=DATE:20221207
DTEND;VALUE=DATE:20221208
DTSTAMP:20260423T104723
CREATED:20221124T111059Z
LAST-MODIFIED:20221124T111059Z
UID:66365-1670371200-1670457599@www.luiginovarese.org
SUMMARY:Avvento 2022 - Pregare è accendere una luce nella notte
DESCRIPTION:11° giorno\nSfida: Come va la mia vita di preghiera? Oggi penso alle volte in cui ho trascurato la mia relazione personale con Dio
URL:https://www.luiginovarese.org/calendario-eventi/avvento-2022-pregare-e-accendere-una-luce-nella-notte/
ATTACH;FMTTYPE=image/jpeg:https://www.luiginovarese.org/wp-content/uploads/2022/11/7-dicembre-scaled.jpg
END:VEVENT
BEGIN:VEVENT
DTSTART;VALUE=DATE:20221206
DTEND;VALUE=DATE:20221207
DTSTAMP:20260423T104723
CREATED:20221124T111020Z
LAST-MODIFIED:20221124T111020Z
UID:66364-1670284800-1670371199@www.luiginovarese.org
SUMMARY:Avvento 2022 - Speranza è fuoco che brucia
DESCRIPTION:10° giorno\nSfida: Come è il mio comportamento? Sono chiamato ad essere un fuoco di speranza\, ma non sempre è così. Oggi rifletto sulle azioni che danneggiano l’ambiente intorno a me.
URL:https://www.luiginovarese.org/calendario-eventi/avvento-2022-speranza-e-fuoco-che-brucia/
ATTACH;FMTTYPE=image/jpeg:https://www.luiginovarese.org/wp-content/uploads/2022/11/6-dicembre-scaled.jpg
END:VEVENT
BEGIN:VEVENT
DTSTART;VALUE=DATE:20221205
DTEND;VALUE=DATE:20221206
DTSTAMP:20260423T104723
CREATED:20221124T110953Z
LAST-MODIFIED:20221124T110953Z
UID:66363-1670198400-1670284799@www.luiginovarese.org
SUMMARY:Avvento 2022 - La speranza è una luce più forte del buio
DESCRIPTION:9° giorno\nSfida: Quale è il mio rapporto con la mia famiglia ed amici? C’è tanta luce e tanto buio. Oggi cercherò di pensare ai momenti in cui non sono stato luce per chi mi è vicino.
URL:https://www.luiginovarese.org/calendario-eventi/avvento-2022-la-speranza-e-una-luce-piu-forte-del-buio/
ATTACH;FMTTYPE=image/jpeg:https://www.luiginovarese.org/wp-content/uploads/2022/11/5-dicembre-scaled.jpg
END:VEVENT
BEGIN:VEVENT
DTSTART;VALUE=DATE:20221204
DTEND;VALUE=DATE:20221205
DTSTAMP:20260423T104723
CREATED:20221201T084554Z
LAST-MODIFIED:20221201T085152Z
UID:66694-1670112000-1670198399@www.luiginovarese.org
SUMMARY:Seconda domenica di Avvento
DESCRIPTION:Scarica la locandina
URL:https://www.luiginovarese.org/calendario-eventi/seconda-domenica-di-avvento-3/
ATTACH;FMTTYPE=image/jpeg:https://www.luiginovarese.org/wp-content/uploads/2022/12/4-dicembre-Seconda-domenica-di-Avvento.jpg
END:VEVENT
BEGIN:VEVENT
DTSTART;VALUE=DATE:20221204
DTEND;VALUE=DATE:20221205
DTSTAMP:20260423T104723
CREATED:20221124T110912Z
LAST-MODIFIED:20221124T110912Z
UID:66360-1670112000-1670198399@www.luiginovarese.org
SUMMARY:Avvento 2022 - Respingere la tentazione della vanità
DESCRIPTION:8° giorno\nSfida: Fare un vero esame di coscienza. Riflettere sul cammino che sto facendo e capire le motivazioni che mi spingono.
URL:https://www.luiginovarese.org/calendario-eventi/avvento-2022-respingere-la-tentazione-della-vanita/
ATTACH;FMTTYPE=image/jpeg:https://www.luiginovarese.org/wp-content/uploads/2022/11/4-dicembre.jpg
END:VEVENT
BEGIN:VEVENT
DTSTART;VALUE=DATE:20221203
DTEND;VALUE=DATE:20221204
DTSTAMP:20260423T104723
CREATED:20221201T084610Z
LAST-MODIFIED:20221203T085758Z
UID:66695-1670025600-1670111999@www.luiginovarese.org
SUMMARY:Diritti delle persone con disabilità
DESCRIPTION:Scarica la locandina
URL:https://www.luiginovarese.org/calendario-eventi/diritti-delle-persone-con-disabilita/
ATTACH;FMTTYPE=image/jpeg:https://www.luiginovarese.org/wp-content/uploads/2022/12/4-dicembre_Diriti-delle-persone-con-disabilita.jpg
END:VEVENT
BEGIN:VEVENT
DTSTART;VALUE=DATE:20221203
DTEND;VALUE=DATE:20221204
DTSTAMP:20260423T104723
CREATED:20221110T114431Z
LAST-MODIFIED:20221110T114431Z
UID:66127-1670025600-1670111999@www.luiginovarese.org
SUMMARY:Avvento 2022 - Dio irrompe nella nostra esistenza
DESCRIPTION:7° giorno\nSfida: Al termine della settimana\, scrivo i momenti più importanti della presenza di Dio in questi giorni. E cerco di non lasciarmi prendere per la quotidianità di una vita superficiale che no mi lascia vedere Dio
URL:https://www.luiginovarese.org/calendario-eventi/avvento-2022-dio-irrompe-nella-nostra-esistenza/
ATTACH;FMTTYPE=image/jpeg:https://www.luiginovarese.org/wp-content/uploads/2022/11/Avvento-7-giorno.jpg
END:VEVENT
BEGIN:VEVENT
DTSTART;VALUE=DATE:20221202
DTEND;VALUE=DATE:20221203
DTSTAMP:20260423T104723
CREATED:20221110T114208Z
LAST-MODIFIED:20221110T114905Z
UID:66126-1669939200-1670025599@www.luiginovarese.org
SUMMARY:Avvento 2022 - Non lasciarsi sopraffare dal sonno dello scoraggiamento\, della mancanza di speranza\, della delusione
DESCRIPTION:6° giorno\nSfida: Oggi\, in questa settimana\, sono riuscito a sentire Dio presente\, pure nelle difficoltà?
URL:https://www.luiginovarese.org/calendario-eventi/avvento-2022-non-lasciarsi-sopraffare-dal-sonno-dello-scoraggiamento-della-mancanza-di-speranza-della-delusione/
ATTACH;FMTTYPE=image/jpeg:https://www.luiginovarese.org/wp-content/uploads/2022/11/Avvento-6-giorno.jpg
END:VEVENT
BEGIN:VEVENT
DTSTART;VALUE=DATE:20221201
DTEND;VALUE=DATE:20221202
DTSTAMP:20260423T104723
CREATED:20221110T114109Z
LAST-MODIFIED:20221110T115108Z
UID:66125-1669852800-1669939199@www.luiginovarese.org
SUMMARY:Avvento 2022 - La ricchezza nascosta nelle piccole cose di ogni giorno
DESCRIPTION:5° giorno\nSfida: Che cose sono successe in questo giorno? In quelle che sembrano più insignificanti\, come si è rivelato Dio? \n 
URL:https://www.luiginovarese.org/calendario-eventi/avvento-2022-la-ricchezza-nascosta-nelle-piccole-cose-di-ogni-giorno/
ATTACH;FMTTYPE=image/jpeg:https://www.luiginovarese.org/wp-content/uploads/2022/11/Avvento-5-giorno.jpg
END:VEVENT
BEGIN:VEVENT
DTSTART;VALUE=DATE:20221130
DTEND;VALUE=DATE:20221201
DTSTAMP:20260423T104723
CREATED:20221110T113955Z
LAST-MODIFIED:20221110T115034Z
UID:66124-1669766400-1669852799@www.luiginovarese.org
SUMMARY:Avvento 2022 - Nell’umile condizione umana
DESCRIPTION:4° giorno\nSfida: Ho trovato Dio nel contatto con qualcuno oggi? Chi?
URL:https://www.luiginovarese.org/calendario-eventi/avvento-2022-nellumile-condizione-umana/
ATTACH;FMTTYPE=image/jpeg:https://www.luiginovarese.org/wp-content/uploads/2022/11/Avvento-4-giorno.jpg
END:VEVENT
BEGIN:VEVENT
DTSTART;VALUE=DATE:20221129
DTEND;VALUE=DATE:20221130
DTSTAMP:20260423T104724
CREATED:20221110T113757Z
LAST-MODIFIED:20221110T114956Z
UID:66123-1669680000-1669766399@www.luiginovarese.org
SUMMARY:Avvento 2022 - Non distrazione o superficialità ma essenzialità
DESCRIPTION:3° giorno\nSfida: Ho guardato dentro di me\, per le cose che prendo per scontate\, e lì ho trovato Dio?
URL:https://www.luiginovarese.org/calendario-eventi/avvento-2022-non-distrazione-o-superficialita-ma-essenzialita/
ATTACH;FMTTYPE=image/jpeg:https://www.luiginovarese.org/wp-content/uploads/2022/11/Avvento-3-giorno.jpg
END:VEVENT
BEGIN:VEVENT
DTSTART;VALUE=DATE:20221128
DTEND;VALUE=DATE:20221129
DTSTAMP:20260423T104724
CREATED:20221110T113622Z
LAST-MODIFIED:20221110T113622Z
UID:66122-1669593600-1669679999@www.luiginovarese.org
SUMMARY:Avvento 2022 - Non nel rumore del mondo ma nel silenzio
DESCRIPTION:2° giorno\nSfida: Ho trovato un momento/un luogo dove fare silenzio e contemplare la presenza di Dio?
URL:https://www.luiginovarese.org/calendario-eventi/avvento-2022-non-nel-rumore-del-mondo-ma-nel-silenzio/
ATTACH;FMTTYPE=image/jpeg:https://www.luiginovarese.org/wp-content/uploads/2022/11/Avvento-2-giorno.jpg
END:VEVENT
BEGIN:VEVENT
DTSTART;VALUE=DATE:20221127
DTEND;VALUE=DATE:20221128
DTSTAMP:20260423T104724
CREATED:20221110T110013Z
LAST-MODIFIED:20221110T114609Z
UID:66114-1669507200-1669593599@www.luiginovarese.org
SUMMARY:Avvento 2022 - Il nostro desiderio di Dio
DESCRIPTION:1° giorno\nSfida: Ogni giorno\, trovare un segno concreto della presenza di Dio nella mia vita
URL:https://www.luiginovarese.org/calendario-eventi/avvento-2022-27-novembre-1-giorno/
ATTACH;FMTTYPE=image/jpeg:https://www.luiginovarese.org/wp-content/uploads/2022/11/Avvento-1-giorno-scaled.jpg
END:VEVENT
BEGIN:VEVENT
DTSTART;VALUE=DATE:20221121
DTEND;VALUE=DATE:20221122
DTSTAMP:20260423T104724
CREATED:20221028T073611Z
LAST-MODIFIED:20221028T073611Z
UID:65852-1668988800-1669075199@www.luiginovarese.org
SUMMARY:Prima domenica di Avvento
DESCRIPTION:Scarica la locandina
URL:https://www.luiginovarese.org/calendario-eventi/prima-domenica-di-avvento-3/
ATTACH;FMTTYPE=image/jpeg:https://www.luiginovarese.org/wp-content/uploads/2022/10/27-novembre-Prima-domenica-di-Avvento.jpg
END:VEVENT
BEGIN:VEVENT
DTSTART;VALUE=DATE:20221121
DTEND;VALUE=DATE:20221122
DTSTAMP:20260423T104724
CREATED:20221028T073330Z
LAST-MODIFIED:20221028T073330Z
UID:65851-1668988800-1669075199@www.luiginovarese.org
SUMMARY:Presentazione di Maria
DESCRIPTION:Scarica la locandina
URL:https://www.luiginovarese.org/calendario-eventi/presentazione-di-maria/
ATTACH;FMTTYPE=image/jpeg:https://www.luiginovarese.org/wp-content/uploads/2022/10/21-Novembre-Presentazione-di-Maria.jpg
END:VEVENT
BEGIN:VEVENT
DTSTART;VALUE=DATE:20221121
DTEND;VALUE=DATE:20221122
DTSTAMP:20260423T104724
CREATED:20221028T073216Z
LAST-MODIFIED:20221028T073216Z
UID:65850-1668988800-1669075199@www.luiginovarese.org
SUMMARY:Giornata diocesana della gioventù
DESCRIPTION:Scarica la locandina
URL:https://www.luiginovarese.org/calendario-eventi/giornata-diocesana-della-gioventu-2/
ATTACH;FMTTYPE=image/jpeg:https://www.luiginovarese.org/wp-content/uploads/2022/10/21-novembre-Giornata-diocesana-della-giuventu.jpg
END:VEVENT
BEGIN:VEVENT
DTSTART;VALUE=DATE:20221120
DTEND;VALUE=DATE:20221121
DTSTAMP:20260423T104724
CREATED:20221028T073032Z
LAST-MODIFIED:20221028T073032Z
UID:65849-1668902400-1668988799@www.luiginovarese.org
SUMMARY:Cristo Re
DESCRIPTION:Scarica la locandina
URL:https://www.luiginovarese.org/calendario-eventi/cristo-re-2/
ATTACH;FMTTYPE=image/jpeg:https://www.luiginovarese.org/wp-content/uploads/2022/10/20-novembre-Cristo-Re.jpg
END:VEVENT
BEGIN:VEVENT
DTSTART;VALUE=DATE:20221101
DTEND;VALUE=DATE:20221102
DTSTAMP:20260423T104724
CREATED:20221028T072712Z
LAST-MODIFIED:20221028T072712Z
UID:65848-1667260800-1667347199@www.luiginovarese.org
SUMMARY:Tutti i Santi
DESCRIPTION:Scarica la locandina
URL:https://www.luiginovarese.org/calendario-eventi/tutti-i-santi-2/
ATTACH;FMTTYPE=image/jpeg:https://www.luiginovarese.org/wp-content/uploads/2022/10/1-novembre-Tutti-i-Santi.jpg
END:VEVENT
BEGIN:VEVENT
DTSTART;VALUE=DATE:20221101
DTEND;VALUE=DATE:20221102
DTSTAMP:20260423T104724
CREATED:20221028T072332Z
LAST-MODIFIED:20221028T072437Z
UID:65847-1667260800-1667347199@www.luiginovarese.org
SUMMARY:Anniversario SOdC
DESCRIPTION:Scarica la locandina
URL:https://www.luiginovarese.org/calendario-eventi/anniversario-sodc/
ATTACH;FMTTYPE=image/jpeg:https://www.luiginovarese.org/wp-content/uploads/2022/10/1-novembre-Anniversario-SOdC-scaled.jpg
END:VEVENT
BEGIN:VEVENT
DTSTART;VALUE=DATE:20221023
DTEND;VALUE=DATE:20221024
DTSTAMP:20260423T104724
CREATED:20221004T055808Z
LAST-MODIFIED:20221004T055837Z
UID:65413-1666483200-1666483200@www.luiginovarese.org
SUMMARY:Giornata Missionaria Mondiale
DESCRIPTION:Scarica la locandina
URL:https://www.luiginovarese.org/calendario-eventi/giornata-missionaria-mondiale-2/
ATTACH;FMTTYPE=image/jpeg:https://www.luiginovarese.org/wp-content/uploads/2022/10/23-ottobre.jpg
END:VEVENT
BEGIN:VEVENT
DTSTART;VALUE=DATE:20221022
DTEND;VALUE=DATE:20221023
DTSTAMP:20260423T104724
CREATED:20221003T060052Z
LAST-MODIFIED:20221020T123441Z
UID:65379-1666396800-1666483199@www.luiginovarese.org
SUMMARY:San Giovanni Paolo II
DESCRIPTION:Scarica la locandina
URL:https://www.luiginovarese.org/calendario-eventi/san-giovanna-paolo-ii/
ATTACH;FMTTYPE=image/jpeg:https://www.luiginovarese.org/wp-content/uploads/2022/10/22-Ottobre-GP-II.jpg
END:VEVENT
BEGIN:VEVENT
DTSTART;VALUE=DATE:20221021
DTEND;VALUE=DATE:20221022
DTSTAMP:20260423T104724
CREATED:20221003T055951Z
LAST-MODIFIED:20221003T055951Z
UID:65378-1666310400-1666310400@www.luiginovarese.org
SUMMARY:Giornata mondiale dell'ascolto
DESCRIPTION:Scarica la locandina
URL:https://www.luiginovarese.org/calendario-eventi/giornata-mondiale-dellascolto/
ATTACH;FMTTYPE=image/jpeg:https://www.luiginovarese.org/wp-content/uploads/2022/10/21-Ottobre-Ascolto.jpg
END:VEVENT
BEGIN:VEVENT
DTSTART;VALUE=DATE:20221016
DTEND;VALUE=DATE:20221017
DTSTAMP:20260423T104724
CREATED:20221003T055858Z
LAST-MODIFIED:20221003T055858Z
UID:65377-1665878400-1665878400@www.luiginovarese.org
SUMMARY:Santa Margherita Maria Alacoque
DESCRIPTION:Scarica la locandina
URL:https://www.luiginovarese.org/calendario-eventi/santa-margherita-maria-alacoque/
ATTACH;FMTTYPE=image/jpeg:https://www.luiginovarese.org/wp-content/uploads/2022/10/16-Ottobre-Sta-Margherita.jpg
END:VEVENT
BEGIN:VEVENT
DTSTART;VALUE=DATE:20221015
DTEND;VALUE=DATE:20221016
DTSTAMP:20260423T104724
CREATED:20221003T055806Z
LAST-MODIFIED:20221003T055806Z
UID:65376-1665792000-1665792000@www.luiginovarese.org
SUMMARY:Santa Teresa D'Avila
DESCRIPTION:Scarica la locandina
URL:https://www.luiginovarese.org/calendario-eventi/santa-teresa-davila/
ATTACH;FMTTYPE=image/jpeg:https://www.luiginovarese.org/wp-content/uploads/2022/10/15-ottobre.jpg
END:VEVENT
BEGIN:VEVENT
DTSTART;VALUE=DATE:20221013
DTEND;VALUE=DATE:20221014
DTSTAMP:20260423T104724
CREATED:20221003T055716Z
LAST-MODIFIED:20221003T055716Z
UID:65375-1665619200-1665619200@www.luiginovarese.org
SUMMARY:Miracolo del sole - Fatima
DESCRIPTION:Scarica la locandina
URL:https://www.luiginovarese.org/calendario-eventi/miracolo-del-sole-fatima/
ATTACH;FMTTYPE=image/jpeg:https://www.luiginovarese.org/wp-content/uploads/2022/10/13-Ottobre-Miracolo-di-Fatima-1.jpg
END:VEVENT
END:VCALENDAR