BEGIN:VCALENDAR
VERSION:2.0
PRODID:-//Opera Beato Luigi Novarese - ECPv6.15.17//NONSGML v1.0//EN
CALSCALE:GREGORIAN
METHOD:PUBLISH
X-WR-CALNAME:Opera Beato Luigi Novarese
X-ORIGINAL-URL:https://www.luiginovarese.org
X-WR-CALDESC:Eventi per Opera Beato Luigi Novarese
REFRESH-INTERVAL;VALUE=DURATION:PT1H
X-Robots-Tag:noindex
X-PUBLISHED-TTL:PT1H
BEGIN:VTIMEZONE
TZID:Europe/Rome
BEGIN:DAYLIGHT
TZOFFSETFROM:+0100
TZOFFSETTO:+0200
TZNAME:CEST
DTSTART:20200329T010000
END:DAYLIGHT
BEGIN:STANDARD
TZOFFSETFROM:+0200
TZOFFSETTO:+0100
TZNAME:CET
DTSTART:20201025T010000
END:STANDARD
BEGIN:DAYLIGHT
TZOFFSETFROM:+0100
TZOFFSETTO:+0200
TZNAME:CEST
DTSTART:20210328T010000
END:DAYLIGHT
BEGIN:STANDARD
TZOFFSETFROM:+0200
TZOFFSETTO:+0100
TZNAME:CET
DTSTART:20211031T010000
END:STANDARD
BEGIN:DAYLIGHT
TZOFFSETFROM:+0100
TZOFFSETTO:+0200
TZNAME:CEST
DTSTART:20220327T010000
END:DAYLIGHT
BEGIN:STANDARD
TZOFFSETFROM:+0200
TZOFFSETTO:+0100
TZNAME:CET
DTSTART:20221030T010000
END:STANDARD
END:VTIMEZONE
BEGIN:VEVENT
DTSTART;VALUE=DATE:20211208
DTEND;VALUE=DATE:20211209
DTSTAMP:20260423T225454
CREATED:20211125T093316Z
LAST-MODIFIED:20211125T093316Z
UID:57030-1638921600-1639007999@www.luiginovarese.org
SUMMARY:Immacolata Concezione
DESCRIPTION:Scarica la locandina
URL:https://www.luiginovarese.org/calendario-eventi/immacolata-concezione/
ATTACH;FMTTYPE=image/jpeg:https://www.luiginovarese.org/wp-content/uploads/2021/11/8-Dicembre-2021-3.jpg
END:VEVENT
BEGIN:VEVENT
DTSTART;VALUE=DATE:20211205
DTEND;VALUE=DATE:20211206
DTSTAMP:20260423T225454
CREATED:20211125T092729Z
LAST-MODIFIED:20211125T092729Z
UID:57006-1638662400-1638748799@www.luiginovarese.org
SUMMARY:Seconda domenica di Avvento
DESCRIPTION:Scarica la locandina
URL:https://www.luiginovarese.org/calendario-eventi/seconda-domenica-di-avvento-2/
ATTACH;FMTTYPE=image/jpeg:https://www.luiginovarese.org/wp-content/uploads/2021/11/2a-Domenica-avvento.jpg
END:VEVENT
BEGIN:VEVENT
DTSTART;VALUE=DATE:20211203
DTEND;VALUE=DATE:20211204
DTSTAMP:20260423T225454
CREATED:20211130T190001Z
LAST-MODIFIED:20211130T190001Z
UID:57183-1638489600-1638575999@www.luiginovarese.org
SUMMARY:Giornata internazionale persone con disabilità
DESCRIPTION:Scarica la locandina
URL:https://www.luiginovarese.org/calendario-eventi/giornata-internazionale-persone-con-disabilita/
ATTACH;FMTTYPE=image/jpeg:https://www.luiginovarese.org/wp-content/uploads/2021/11/3-dicembre-Giornata-internazionale-persone-con-disabilita-scaled.jpg
END:VEVENT
BEGIN:VEVENT
DTSTART;VALUE=DATE:20211128
DTEND;VALUE=DATE:20211129
DTSTAMP:20260423T225454
CREATED:20211022T084721Z
LAST-MODIFIED:20211022T084721Z
UID:56238-1638057600-1638143999@www.luiginovarese.org
SUMMARY:Prima domenica di Avvento
DESCRIPTION:Scarica la locandina
URL:https://www.luiginovarese.org/calendario-eventi/prima-domenica-di-avvento-2/
ATTACH;FMTTYPE=image/jpeg:https://www.luiginovarese.org/wp-content/uploads/2021/10/28-novembre-1a-Domenica-Avvento.jpg
END:VEVENT
BEGIN:VEVENT
DTSTART;TZID=Europe/Rome:20211127T100000
DTEND;TZID=Europe/Rome:20211127T170000
DTSTAMP:20260423T225454
CREATED:20211108T114532Z
LAST-MODIFIED:20211108T114532Z
UID:56660-1638007200-1638032400@www.luiginovarese.org
SUMMARY:Fare cose ordinarie in modo straordinario – Giornata integrativa
DESCRIPTION:Scopri i dettagli
URL:https://www.luiginovarese.org/calendario-eventi/fare-cose-ordinarie-in-modo-straordinario-giornata-integrativa/
LOCATION:Santuario della Beata Vergine del Trompone\, Località Trompone – Moncrivello\, Italia
ATTACH;FMTTYPE=application/pdf:https://www.luiginovarese.org/wp-content/uploads/2021/11/locandina-giornata-integrativa-27-1.pdf
ORGANIZER;CN="Settori Giovanili CVS":MAILTO:settorigiovanili@luiginovarese.org
END:VEVENT
BEGIN:VEVENT
DTSTART;VALUE=DATE:20211121
DTEND;VALUE=DATE:20211122
DTSTAMP:20260423T225454
CREATED:20211022T084706Z
LAST-MODIFIED:20211022T084706Z
UID:56237-1637452800-1637539199@www.luiginovarese.org
SUMMARY:Presentazione di Maria al tempio
DESCRIPTION:Scarica la locandina
URL:https://www.luiginovarese.org/calendario-eventi/presentazione-di-maria-al-tempio/
ATTACH;FMTTYPE=image/jpeg:https://www.luiginovarese.org/wp-content/uploads/2021/10/21-novembre-Presentazione-di-Maria.jpg
END:VEVENT
BEGIN:VEVENT
DTSTART;VALUE=DATE:20211121
DTEND;VALUE=DATE:20211122
DTSTAMP:20260423T225454
CREATED:20211022T084653Z
LAST-MODIFIED:20211022T084653Z
UID:56236-1637452800-1637539199@www.luiginovarese.org
SUMMARY:Giornata diocesana della gioventù
DESCRIPTION:Scarica la locandina
URL:https://www.luiginovarese.org/calendario-eventi/giornata-diocesana-della-gioventu/
ATTACH;FMTTYPE=image/jpeg:https://www.luiginovarese.org/wp-content/uploads/2021/10/21-novembre-GMG-Diocesana.jpg
END:VEVENT
BEGIN:VEVENT
DTSTART;VALUE=DATE:20211121
DTEND;VALUE=DATE:20211122
DTSTAMP:20260423T225454
CREATED:20211022T084632Z
LAST-MODIFIED:20211022T084632Z
UID:56235-1637452800-1637539199@www.luiginovarese.org
SUMMARY:Cristo Re
DESCRIPTION:Scarica la locandina
URL:https://www.luiginovarese.org/calendario-eventi/cristo-re/
ATTACH;FMTTYPE=image/jpeg:https://www.luiginovarese.org/wp-content/uploads/2021/10/21-novembre-Cristo-Re.jpg
END:VEVENT
BEGIN:VEVENT
DTSTART;TZID=Europe/Rome:20211112T180000
DTEND;TZID=Europe/Rome:20211114T140000
DTSTAMP:20260423T225454
CREATED:20211022T084620Z
LAST-MODIFIED:20211104T080350Z
UID:56234-1636740000-1636898400@www.luiginovarese.org
SUMMARY:Scuola di preghiera
DESCRIPTION:Scarica la locandina \nScopri i dettagli
URL:https://www.luiginovarese.org/calendario-eventi/scuola-di-preghiera/
ATTACH;FMTTYPE=image/jpeg:https://www.luiginovarese.org/wp-content/uploads/2021/10/12-14-novembre-Scuola-di-Preghiera-2-pdf.jpg
END:VEVENT
BEGIN:VEVENT
DTSTART;VALUE=DATE:20211102
DTEND;VALUE=DATE:20211103
DTSTAMP:20260423T225454
CREATED:20211022T084605Z
LAST-MODIFIED:20211022T084605Z
UID:56233-1635811200-1635897599@www.luiginovarese.org
SUMMARY:Fedeli defunti
DESCRIPTION:Scarica la locandina
URL:https://www.luiginovarese.org/calendario-eventi/fedeli-defunti/
ATTACH;FMTTYPE=image/jpeg:https://www.luiginovarese.org/wp-content/uploads/2021/10/2-novembre-Fedeli-defunti.jpg
END:VEVENT
BEGIN:VEVENT
DTSTART;VALUE=DATE:20211101
DTEND;VALUE=DATE:20211102
DTSTAMP:20260423T225454
CREATED:20211022T084555Z
LAST-MODIFIED:20211022T084555Z
UID:56232-1635724800-1635811199@www.luiginovarese.org
SUMMARY:Tutti i santi
DESCRIPTION:Scarica la locandina
URL:https://www.luiginovarese.org/calendario-eventi/tutti-i-santi/
ATTACH;FMTTYPE=image/jpeg:https://www.luiginovarese.org/wp-content/uploads/2021/10/1-Novembre.jpg
END:VEVENT
BEGIN:VEVENT
DTSTART;VALUE=DATE:20211031
DTEND;VALUE=DATE:20211101
DTSTAMP:20260423T225454
CREATED:20210927T075308Z
LAST-MODIFIED:20211018T095515Z
UID:55324-1635638400-1635724799@www.luiginovarese.org
SUMMARY:Chiusura mese missionario
DESCRIPTION:Scarica la locandina
URL:https://www.luiginovarese.org/calendario-eventi/chiusura-mese-missionario/
ATTACH;FMTTYPE=image/jpeg:https://www.luiginovarese.org/wp-content/uploads/2021/09/missione_page-0001.jpg
END:VEVENT
BEGIN:VEVENT
DTSTART;TZID=Europe/Rome:20211024T080000
DTEND;TZID=Europe/Rome:20211030T170000
DTSTAMP:20260423T225454
CREATED:20211018T093612Z
LAST-MODIFIED:20211018T093612Z
UID:56122-1635062400-1635613200@www.luiginovarese.org
SUMMARY:Assemblea generale SOdC
DESCRIPTION:Scarica la locandina
URL:https://www.luiginovarese.org/calendario-eventi/assemblea-generale-sodc/
ATTACH;FMTTYPE=image/jpeg:https://www.luiginovarese.org/wp-content/uploads/2021/10/Assemblea-generale-dei-Sileniosi-operai-della-Croce_page-0001.jpg
END:VEVENT
BEGIN:VEVENT
DTSTART;VALUE=DATE:20211024
DTEND;VALUE=DATE:20211025
DTSTAMP:20260423T225454
CREATED:20211018T093835Z
LAST-MODIFIED:20211018T093835Z
UID:56123-1635033600-1635119999@www.luiginovarese.org
SUMMARY:Giornata missionaria mondiale
DESCRIPTION:Scarica la locandina
URL:https://www.luiginovarese.org/calendario-eventi/giornata-missionaria-mondiale/
ATTACH;FMTTYPE=image/jpeg:https://www.luiginovarese.org/wp-content/uploads/2021/10/Giornata-missioanria-2021_page-0001.jpg
END:VEVENT
BEGIN:VEVENT
DTSTART;VALUE=DATE:20211022
DTEND;VALUE=DATE:20211023
DTSTAMP:20260423T225454
CREATED:20210927T074916Z
LAST-MODIFIED:20210927T090527Z
UID:55323-1634860800-1634947199@www.luiginovarese.org
SUMMARY:San Giovanni Paolo II\, papa
DESCRIPTION:Scarica la locandina in pdf
URL:https://www.luiginovarese.org/calendario-eventi/san-giovanni-paolo-ii-papa/
ATTACH;FMTTYPE=image/jpeg:https://www.luiginovarese.org/wp-content/uploads/2021/09/22-ottobre-Giovanni-Paolo-II-scaled.jpg
END:VEVENT
BEGIN:VEVENT
DTSTART;VALUE=DATE:20211016
DTEND;VALUE=DATE:20211017
DTSTAMP:20260423T225454
CREATED:20210927T074755Z
LAST-MODIFIED:20211006T073451Z
UID:55322-1634342400-1634428799@www.luiginovarese.org
SUMMARY:Santa Margherita Maria Alacoque\, vergine
DESCRIPTION:Scarica la locandina in pdf
URL:https://www.luiginovarese.org/calendario-eventi/santa-margherita-maria-alacoque-vergine/
ATTACH;FMTTYPE=image/jpeg:https://www.luiginovarese.org/wp-content/uploads/2021/09/6-ottobre-Santa-Margherita-Maria-Alacoque-scaled.jpg
END:VEVENT
BEGIN:VEVENT
DTSTART;TZID=Europe/Rome:20211015T080000
DTEND;TZID=Europe/Rome:20211016T170000
DTSTAMP:20260423T225454
CREATED:20211006T073431Z
LAST-MODIFIED:20211006T073431Z
UID:55671-1634284800-1634403600@www.luiginovarese.org
SUMMARY:Assemblea Confederazione CVS Internazionale
DESCRIPTION:Assemblea Confederazione CVS Internazionale. Guarire il mondo con la sapienza\, il servizio\, l’amore \n  \nScarica la locandina
URL:https://www.luiginovarese.org/calendario-eventi/assemblea-confederazione-cvs-internazionale/
ATTACH;FMTTYPE=image/jpeg:https://www.luiginovarese.org/wp-content/uploads/2021/10/assemblea-scaled.jpg
END:VEVENT
BEGIN:VEVENT
DTSTART;VALUE=DATE:20211015
DTEND;VALUE=DATE:20211016
DTSTAMP:20260423T225454
CREATED:20210927T075246Z
LAST-MODIFIED:20210927T090809Z
UID:55321-1634256000-1634342399@www.luiginovarese.org
SUMMARY:Santa Teresa di Gesù\, vergine e dottore della Chiesa
DESCRIPTION:Scarica la locandina in pdf \n 
URL:https://www.luiginovarese.org/calendario-eventi/santa-teresa-di-gesu-vergine-e-dottore-della-chiesa/
ATTACH;FMTTYPE=image/jpeg:https://www.luiginovarese.org/wp-content/uploads/2021/09/15.s.-Teresa-15-ottobre-davila.jpg
END:VEVENT
BEGIN:VEVENT
DTSTART;VALUE=DATE:20211013
DTEND;VALUE=DATE:20211014
DTSTAMP:20260423T225454
CREATED:20210927T074847Z
LAST-MODIFIED:20210927T090505Z
UID:55320-1634083200-1634169599@www.luiginovarese.org
SUMMARY:6ª apparizione di Fatima
DESCRIPTION:Scarica la locandina in pdf
URL:https://www.luiginovarese.org/calendario-eventi/6a-apparizione-di-fatima/
ATTACH;FMTTYPE=image/jpeg:https://www.luiginovarese.org/wp-content/uploads/2021/09/13-OTTOBRE-apparizione-di-Maria-a-Fatima-scaled.jpg
END:VEVENT
BEGIN:VEVENT
DTSTART;VALUE=DATE:20211007
DTEND;VALUE=DATE:20211008
DTSTAMP:20260423T225454
CREATED:20210927T074823Z
LAST-MODIFIED:20210927T090432Z
UID:55319-1633564800-1633651199@www.luiginovarese.org
SUMMARY:Beata Vergine Maria del Rosario
DESCRIPTION:Scarica la locandina in pdf \n 
URL:https://www.luiginovarese.org/calendario-eventi/beata-vergine-maria-del-rosario/
ATTACH;FMTTYPE=image/jpeg:https://www.luiginovarese.org/wp-content/uploads/2021/09/7-ottobre-Nostra-Signora-del-Rosario.jpg
END:VEVENT
BEGIN:VEVENT
DTSTART;VALUE=DATE:20211005
DTEND;VALUE=DATE:20211006
DTSTAMP:20260423T225454
CREATED:20210927T074648Z
LAST-MODIFIED:20210927T085858Z
UID:55318-1633392000-1633478399@www.luiginovarese.org
SUMMARY:Santa Faustina Kowalska\, vergine
DESCRIPTION:Scarica la locandina in pdf
URL:https://www.luiginovarese.org/calendario-eventi/santa-faustina-kowalska-vergine/
ATTACH;FMTTYPE=image/jpeg:https://www.luiginovarese.org/wp-content/uploads/2021/09/5-ottobre-Santa-Faustina-Kowalska.jpg
END:VEVENT
BEGIN:VEVENT
DTSTART;VALUE=DATE:20211005
DTEND;VALUE=DATE:20211006
DTSTAMP:20260423T225454
CREATED:20210927T074621Z
LAST-MODIFIED:20210927T085834Z
UID:55345-1633392000-1633478399@www.luiginovarese.org
SUMMARY:Ricordiamo la morte di don Janusz Malski\, sacerdote dei Silenziosi Operai della Croce
DESCRIPTION:Scarica la locandina in pdf
URL:https://www.luiginovarese.org/calendario-eventi/ricordiamo-la-morte-di-don-janusz-malski-sacerdote-dei-silenziosi-operai-della-croce/
ATTACH;FMTTYPE=image/jpeg:https://www.luiginovarese.org/wp-content/uploads/2021/09/5-ottobre-Don-Janusz-scaled.jpg
END:VEVENT
BEGIN:VEVENT
DTSTART;VALUE=DATE:20211002
DTEND;VALUE=DATE:20211003
DTSTAMP:20260423T225454
CREATED:20210927T074539Z
LAST-MODIFIED:20210927T085819Z
UID:55317-1633132800-1633219199@www.luiginovarese.org
SUMMARY:Santi Angeli custodi
DESCRIPTION:Scarica la locandina in pdf
URL:https://www.luiginovarese.org/calendario-eventi/santi-angeli-custodi/
ATTACH;FMTTYPE=image/jpeg:https://www.luiginovarese.org/wp-content/uploads/2021/09/2-ottobreSanti-Angeli-Custodi.jpg
END:VEVENT
BEGIN:VEVENT
DTSTART;VALUE=DATE:20211001
DTEND;VALUE=DATE:20211002
DTSTAMP:20260423T225454
CREATED:20210927T074418Z
LAST-MODIFIED:20210927T085806Z
UID:55343-1633046400-1633132799@www.luiginovarese.org
SUMMARY:Santa Teresina del Bambin Gesù
DESCRIPTION:Scarica la locandina in pdf
URL:https://www.luiginovarese.org/calendario-eventi/santa-teresa-del-bambino-gesu-vergine-e-dottore-della-chiesa/
ATTACH;FMTTYPE=image/jpeg:https://www.luiginovarese.org/wp-content/uploads/2021/09/1°-ottobre-Santa-Teresina-del-bambino-gesu.jpg
END:VEVENT
BEGIN:VEVENT
DTSTART;VALUE=DATE:20211001
DTEND;VALUE=DATE:20211002
DTSTAMP:20260423T225454
CREATED:20210927T074033Z
LAST-MODIFIED:20210927T085746Z
UID:55316-1633046400-1633132799@www.luiginovarese.org
SUMMARY:Inizio del Mese missionario
DESCRIPTION:Scarica la locandina in pdf
URL:https://www.luiginovarese.org/calendario-eventi/inizio-del-mese-missionario/
ATTACH;FMTTYPE=image/jpeg:https://www.luiginovarese.org/wp-content/uploads/2021/09/1°-ottobre-mese-missionario-scaled.jpg
END:VEVENT
BEGIN:VEVENT
DTSTART;VALUE=DATE:20210929
DTEND;VALUE=DATE:20210930
DTSTAMP:20260423T225454
CREATED:20210827T063436Z
LAST-MODIFIED:20210827T063436Z
UID:54768-1632873600-1632959999@www.luiginovarese.org
SUMMARY:Arcangelo San Michele
DESCRIPTION:Scarica la locandina in pdf
URL:https://www.luiginovarese.org/calendario-eventi/arcangelo-san-michele/
ATTACH;FMTTYPE=image/jpeg:https://www.luiginovarese.org/wp-content/uploads/2021/08/29-settembre-Arcangelo-San-Michele.jpg
END:VEVENT
BEGIN:VEVENT
DTSTART;VALUE=DATE:20210915
DTEND;VALUE=DATE:20210916
DTSTAMP:20260423T225454
CREATED:20210827T062813Z
LAST-MODIFIED:20210827T063950Z
UID:54767-1631664000-1631750399@www.luiginovarese.org
SUMMARY:Maddonna Addolorata
DESCRIPTION:Scarica la locandina in pdf
URL:https://www.luiginovarese.org/calendario-eventi/maddonna-addolorata/
ATTACH;FMTTYPE=image/jpeg:https://www.luiginovarese.org/wp-content/uploads/2021/08/15-settembre-Maddonna-Addolorata-scaled.jpg
END:VEVENT
BEGIN:VEVENT
DTSTART;VALUE=DATE:20210914
DTEND;VALUE=DATE:20210915
DTSTAMP:20260423T225454
CREATED:20210827T062322Z
LAST-MODIFIED:20210827T062322Z
UID:54765-1631577600-1631663999@www.luiginovarese.org
SUMMARY:Esaltazione della Santa Croce
DESCRIPTION:Scarica la locandina in pdf
URL:https://www.luiginovarese.org/calendario-eventi/esaltazione-della-santa-croce/
ATTACH;FMTTYPE=image/jpeg:https://www.luiginovarese.org/wp-content/uploads/2021/08/14-settembre-Esaltazione-della-Santa-Croce-1.jpg
END:VEVENT
BEGIN:VEVENT
DTSTART;VALUE=DATE:20210912
DTEND;VALUE=DATE:20210913
DTSTAMP:20260423T225454
CREATED:20210827T061636Z
LAST-MODIFIED:20210827T061822Z
UID:54764-1631404800-1631491199@www.luiginovarese.org
SUMMARY:Santissimo nome di Maria
DESCRIPTION:Scarica la locandina in pdf
URL:https://www.luiginovarese.org/calendario-eventi/santissimo-nome-di-maria/
ATTACH;FMTTYPE=image/jpeg:https://www.luiginovarese.org/wp-content/uploads/2021/08/12-settmbre-santo-nome-di-Maria.jpg
END:VEVENT
BEGIN:VEVENT
DTSTART;VALUE=DATE:20210908
DTEND;VALUE=DATE:20210909
DTSTAMP:20260423T225454
CREATED:20210827T062556Z
LAST-MODIFIED:20210827T062556Z
UID:54766-1631059200-1631145599@www.luiginovarese.org
SUMMARY:Natività di Maria
DESCRIPTION:Scarica la locandina in pdf
URL:https://www.luiginovarese.org/calendario-eventi/nativita-di-maria/
ATTACH;FMTTYPE=image/jpeg:https://www.luiginovarese.org/wp-content/uploads/2021/08/14-settembre-Nativita-di-Maria.jpg
END:VEVENT
END:VCALENDAR