BEGIN:VCALENDAR
VERSION:2.0
PRODID:-//Opera Beato Luigi Novarese - ECPv6.15.17//NONSGML v1.0//EN
CALSCALE:GREGORIAN
METHOD:PUBLISH
X-WR-CALNAME:Opera Beato Luigi Novarese
X-ORIGINAL-URL:https://www.luiginovarese.org
X-WR-CALDESC:Eventi per Opera Beato Luigi Novarese
REFRESH-INTERVAL;VALUE=DURATION:PT1H
X-Robots-Tag:noindex
X-PUBLISHED-TTL:PT1H
BEGIN:VTIMEZONE
TZID:Europe/Rome
BEGIN:DAYLIGHT
TZOFFSETFROM:+0100
TZOFFSETTO:+0200
TZNAME:CEST
DTSTART:20200329T010000
END:DAYLIGHT
BEGIN:STANDARD
TZOFFSETFROM:+0200
TZOFFSETTO:+0100
TZNAME:CET
DTSTART:20201025T010000
END:STANDARD
BEGIN:DAYLIGHT
TZOFFSETFROM:+0100
TZOFFSETTO:+0200
TZNAME:CEST
DTSTART:20210328T010000
END:DAYLIGHT
BEGIN:STANDARD
TZOFFSETFROM:+0200
TZOFFSETTO:+0100
TZNAME:CET
DTSTART:20211031T010000
END:STANDARD
BEGIN:DAYLIGHT
TZOFFSETFROM:+0100
TZOFFSETTO:+0200
TZNAME:CEST
DTSTART:20220327T010000
END:DAYLIGHT
BEGIN:STANDARD
TZOFFSETFROM:+0200
TZOFFSETTO:+0100
TZNAME:CET
DTSTART:20221030T010000
END:STANDARD
END:VTIMEZONE
BEGIN:VEVENT
DTSTART;TZID=Europe/Rome:20210725T080000
DTEND;TZID=Europe/Rome:20210725T170000
DTSTAMP:20260424T104821
CREATED:20210628T074348Z
LAST-MODIFIED:20210628T074348Z
UID:53517-1627200000-1627232400@www.luiginovarese.org
SUMMARY:25 luglio - Giornata mondiale dei nonni e degli anziani
DESCRIPTION:Scarica il pdf
URL:https://www.luiginovarese.org/calendario-eventi/25-luglio-giornata-mondiale-dei-nonni-e-degli-anziani/
ATTACH;FMTTYPE=image/jpeg:https://www.luiginovarese.org/wp-content/uploads/2021/06/25-luglio-Giornata-mondiale-dei-nonni-e-degli-anziani-1.jpg
END:VEVENT
BEGIN:VEVENT
DTSTART;VALUE=DATE:20210720
DTEND;VALUE=DATE:20210721
DTSTAMP:20260424T104821
CREATED:20210628T074222Z
LAST-MODIFIED:20210628T074232Z
UID:53507-1626739200-1626825599@www.luiginovarese.org
SUMMARY:20 luglio - Anniversario della morte di Luigi Novarese
DESCRIPTION:Scarica il pdf \n 
URL:https://www.luiginovarese.org/calendario-eventi/20-luglio-anniversario-della-morte-di-luigi-novarese/
ATTACH;FMTTYPE=image/jpeg:https://www.luiginovarese.org/wp-content/uploads/2021/06/20-luglio-Anniversario-della-morte-di-Luigi-Novarese-1.jpg
END:VEVENT
BEGIN:VEVENT
DTSTART;VALUE=DATE:20210716
DTEND;VALUE=DATE:20210717
DTSTAMP:20260424T104821
CREATED:20210628T073937Z
LAST-MODIFIED:20210628T073937Z
UID:53501-1626393600-1626479999@www.luiginovarese.org
SUMMARY:16 luglio - Santa Maria del Monte Carmelo
DESCRIPTION:Scarica il pdf
URL:https://www.luiginovarese.org/calendario-eventi/16-luglio-santa-maria-del-monte-carmelo/
ATTACH;FMTTYPE=image/jpeg:https://www.luiginovarese.org/wp-content/uploads/2021/06/16-luglio-Santa-Maria-del-Monte-Carmelo-1.jpg
END:VEVENT
BEGIN:VEVENT
DTSTART;TZID=Europe/Rome:20210712T080000
DTEND;TZID=Europe/Rome:20210717T170000
DTSTAMP:20260424T104821
CREATED:20210625T103247Z
LAST-MODIFIED:20210628T073200Z
UID:53465-1626076800-1626541200@www.luiginovarese.org
SUMMARY:A Re (Vb)
DESCRIPTION:Esercizi spirituali a Re del CVS di Tortona\, Aosta\, Pinerolo\, Vercelli e Torino \n 
URL:https://www.luiginovarese.org/calendario-eventi/a-re-vb/
ATTACH;FMTTYPE=image/jpeg:https://www.luiginovarese.org/wp-content/uploads/2021/06/Aosta-nuovo.jpg
END:VEVENT
BEGIN:VEVENT
DTSTART;VALUE=DATE:20210706
DTEND;VALUE=DATE:20210707
DTSTAMP:20260424T104821
CREATED:20210628T073529Z
LAST-MODIFIED:20210628T073725Z
UID:53492-1625529600-1625615999@www.luiginovarese.org
SUMMARY:6 luglio - Santa Maria Goretti
DESCRIPTION:Scarica il pdf
URL:https://www.luiginovarese.org/calendario-eventi/53492/
ATTACH;FMTTYPE=image/jpeg:https://www.luiginovarese.org/wp-content/uploads/2021/06/6-luglio-Santa-Maria-Goretti.jpg
END:VEVENT
BEGIN:VEVENT
DTSTART;TZID=Europe/Rome:20210704T080000
DTEND;TZID=Europe/Rome:20210710T170000
DTSTAMP:20260424T104821
CREATED:20210625T100935Z
LAST-MODIFIED:20210625T103634Z
UID:53454-1625385600-1625936400@www.luiginovarese.org
SUMMARY:A Re (Vb)
DESCRIPTION:Esercizi spirituali a Re del CVS di Milano
URL:https://www.luiginovarese.org/calendario-eventi/esercizi-spirtiuali/
ATTACH;FMTTYPE=image/png:https://www.luiginovarese.org/wp-content/uploads/2021/06/MIlano-3.png
END:VEVENT
BEGIN:VEVENT
DTSTART;VALUE=DATE:20210614
DTEND;VALUE=DATE:20210615
DTSTAMP:20260424T104821
CREATED:20210603T072140Z
LAST-MODIFIED:20210603T072140Z
UID:53034-1623628800-1623715199@www.luiginovarese.org
SUMMARY:Appuntamento con Radio Mater
DESCRIPTION:14 giugno. Appuntamento con Radio Mater\, alle 18.30 \nIl programma “Per servire meglio chi soffre condotto da don Marco Castellazzi va in onda ogni secondo lunedì del mese alle ore 18.35 e tratta temi inerenti il mondo dell’umana sofferenza letti attraverso il carisma del beato Luigi Novarese. \nI radioascoltatori sono invitati ad intervenire in diretta tramite telefonata al numero 031.636000 mediante sms al numero 331.7914523 oppure mediante mail all’indirizzo diretta@radiomater.org
URL:https://www.luiginovarese.org/calendario-eventi/appuntamento-con-radio-mater-7/
ATTACH;FMTTYPE=image/jpeg:https://www.luiginovarese.org/wp-content/uploads/2020/09/Radio-Mater.jpg
END:VEVENT
BEGIN:VEVENT
DTSTART;VALUE=DATE:20210612
DTEND;VALUE=DATE:20210613
DTSTAMP:20260424T104821
CREATED:20210603T071943Z
LAST-MODIFIED:20210603T071943Z
UID:53030-1623456000-1623542399@www.luiginovarese.org
SUMMARY:Cuore Immacolato di Maria
DESCRIPTION:
URL:https://www.luiginovarese.org/calendario-eventi/cuore-immacolato-di-maria/
ATTACH;FMTTYPE=image/jpeg:https://www.luiginovarese.org/wp-content/uploads/2021/06/Cuore-Immacolato-di-Maria_page-0001.jpg
END:VEVENT
BEGIN:VEVENT
DTSTART;VALUE=DATE:20210611
DTEND;VALUE=DATE:20210612
DTSTAMP:20260424T104821
CREATED:20210603T072538Z
LAST-MODIFIED:20210603T072538Z
UID:53036-1623369600-1623455999@www.luiginovarese.org
SUMMARY:Sacro Cuore di Cristo
DESCRIPTION:
URL:https://www.luiginovarese.org/calendario-eventi/sacro-cuore-di-cristo/
ATTACH;FMTTYPE=image/jpeg:https://www.luiginovarese.org/wp-content/uploads/2021/06/Sacro-cuore-di-Cristo_page-0001.jpg
END:VEVENT
BEGIN:VEVENT
DTSTART;VALUE=DATE:20210606
DTEND;VALUE=DATE:20210607
DTSTAMP:20260424T104821
CREATED:20210603T071245Z
LAST-MODIFIED:20210603T071806Z
UID:53022-1622937600-1623023999@www.luiginovarese.org
SUMMARY:Corpus Domini
DESCRIPTION:
URL:https://www.luiginovarese.org/calendario-eventi/corpus-domini/
ATTACH;FMTTYPE=image/jpeg:https://www.luiginovarese.org/wp-content/uploads/2021/06/Corpus-Domini_page-0001.jpg
END:VEVENT
BEGIN:VEVENT
DTSTART;TZID=Europe/Rome:20210531T080000
DTEND;TZID=Europe/Rome:20210531T170000
DTSTAMP:20260424T104821
CREATED:20210503T061849Z
LAST-MODIFIED:20210503T061849Z
UID:52226-1622448000-1622480400@www.luiginovarese.org
SUMMARY:Incontri con Maria
DESCRIPTION:
URL:https://www.luiginovarese.org/calendario-eventi/incontri-con-maria-7/
ATTACH;FMTTYPE=image/jpeg:https://www.luiginovarese.org/wp-content/uploads/2021/05/31-maggio.jpg
END:VEVENT
BEGIN:VEVENT
DTSTART;VALUE=DATE:20210529
DTEND;VALUE=DATE:20210530
DTSTAMP:20260424T104821
CREATED:20210503T061834Z
LAST-MODIFIED:20210503T061834Z
UID:52225-1622246400-1622332799@www.luiginovarese.org
SUMMARY:Incontri con Maria
DESCRIPTION:
URL:https://www.luiginovarese.org/calendario-eventi/incontri-con-maria-6/
ATTACH;FMTTYPE=image/jpeg:https://www.luiginovarese.org/wp-content/uploads/2021/05/29-maggio.jpg
END:VEVENT
BEGIN:VEVENT
DTSTART;VALUE=DATE:20210524
DTEND;VALUE=DATE:20210525
DTSTAMP:20260424T104821
CREATED:20210503T061814Z
LAST-MODIFIED:20210503T061814Z
UID:52224-1621814400-1621900799@www.luiginovarese.org
SUMMARY:Incontri con Maria
DESCRIPTION:
URL:https://www.luiginovarese.org/calendario-eventi/incontri-con-maria-5/
ATTACH;FMTTYPE=image/jpeg:https://www.luiginovarese.org/wp-content/uploads/2021/05/24-maggio.jpg
END:VEVENT
BEGIN:VEVENT
DTSTART;VALUE=DATE:20210522
DTEND;VALUE=DATE:20210523
DTSTAMP:20260424T104821
CREATED:20210503T061355Z
LAST-MODIFIED:20210503T061419Z
UID:52217-1621641600-1621727999@www.luiginovarese.org
SUMMARY:Incontri con Maria
DESCRIPTION:
URL:https://www.luiginovarese.org/calendario-eventi/incontri-con-maria-4/
ATTACH;FMTTYPE=image/jpeg:https://www.luiginovarese.org/wp-content/uploads/2021/05/22-maggio.jpg
END:VEVENT
BEGIN:VEVENT
DTSTART;VALUE=DATE:20210517
DTEND;VALUE=DATE:20210518
DTSTAMP:20260424T104821
CREATED:20210510T070721Z
LAST-MODIFIED:20210515T161926Z
UID:52355-1621209600-1621295999@www.luiginovarese.org
SUMMARY:Dove andiamo adesso?
DESCRIPTION:
URL:https://www.luiginovarese.org/calendario-eventi/dove-andiamo-adesso/
END:VEVENT
BEGIN:VEVENT
DTSTART;VALUE=DATE:20210515
DTEND;VALUE=DATE:20210516
DTSTAMP:20260424T104821
CREATED:20210503T061339Z
LAST-MODIFIED:20210503T061339Z
UID:52216-1621036800-1621123199@www.luiginovarese.org
SUMMARY:Incontri con Maria
DESCRIPTION:
URL:https://www.luiginovarese.org/calendario-eventi/incontri-con-maria-3/
ATTACH;FMTTYPE=image/jpeg:https://www.luiginovarese.org/wp-content/uploads/2021/05/15-maggio.jpg
END:VEVENT
BEGIN:VEVENT
DTSTART;VALUE=DATE:20210513
DTEND;VALUE=DATE:20210514
DTSTAMP:20260424T104821
CREATED:20210510T070622Z
LAST-MODIFIED:20210510T070639Z
UID:52349-1620864000-1620950399@www.luiginovarese.org
SUMMARY:Ascoltiamo e viviamo il tuo messaggio\, Vergine Maria
DESCRIPTION:
URL:https://www.luiginovarese.org/calendario-eventi/ascoltiamo-e-viviamo-il-tuo-messaggio-vergine-maria/
ATTACH;FMTTYPE=image/jpeg:https://www.luiginovarese.org/wp-content/uploads/2021/05/13-maggio.jpg
END:VEVENT
BEGIN:VEVENT
DTSTART;VALUE=DATE:20210511
DTEND;VALUE=DATE:20210512
DTSTAMP:20260424T104821
CREATED:20210510T070250Z
LAST-MODIFIED:20210510T070250Z
UID:52345-1620691200-1620777599@www.luiginovarese.org
SUMMARY:Grazie\, apostolo dei malati
DESCRIPTION:
URL:https://www.luiginovarese.org/calendario-eventi/grazie-apostolo-dei-malati/
ATTACH;FMTTYPE=image/jpeg:https://www.luiginovarese.org/wp-content/uploads/2021/05/11-maggio-page-0.jpg
END:VEVENT
BEGIN:VEVENT
DTSTART;VALUE=DATE:20210510
DTEND;VALUE=DATE:20210511
DTSTAMP:20260424T104821
CREATED:20210510T070907Z
LAST-MODIFIED:20210510T070907Z
UID:52357-1620604800-1620691199@www.luiginovarese.org
SUMMARY:La preghiera senza confini
DESCRIPTION:Maggio è il per tradizione un mese mariano\, caratterizzato dalla preghiera del Santo Rosario. \nTutti coinvolti nella maratona del rosario indetta dal Papa\, possiamo intervenire in diretta rispondendo alla domanda: \nChe senso ha per me pregare? Come vivo la preghiera del rosario? \nSi può partecipare in diretta tramite telefonata al numero 031.636000\, mediante sms al numero 331.7914523\, oppure mediante mail all’indirizzo diretta@radiomater.org \n  \n 
URL:https://www.luiginovarese.org/calendario-eventi/la-preghiera-senza-confini/
ATTACH;FMTTYPE=image/jpeg:https://www.luiginovarese.org/wp-content/uploads/2020/09/Radio-Mater.jpg
END:VEVENT
BEGIN:VEVENT
DTSTART;VALUE=DATE:20210508
DTEND;VALUE=DATE:20210509
DTSTAMP:20260424T104821
CREATED:20210501T062223Z
LAST-MODIFIED:20210501T062223Z
UID:52208-1620432000-1620518399@www.luiginovarese.org
SUMMARY:Incontri con Maria
DESCRIPTION:
URL:https://www.luiginovarese.org/calendario-eventi/incontri-con-maria-2/
ATTACH;FMTTYPE=image/jpeg:https://www.luiginovarese.org/wp-content/uploads/2021/05/Sabato-8-maggio.jpg
END:VEVENT
BEGIN:VEVENT
DTSTART;VALUE=DATE:20210501
DTEND;VALUE=DATE:20210502
DTSTAMP:20260424T104821
CREATED:20210501T060513Z
LAST-MODIFIED:20210501T060513Z
UID:52201-1619827200-1619913599@www.luiginovarese.org
SUMMARY:Incontri con Maria
DESCRIPTION:
URL:https://www.luiginovarese.org/calendario-eventi/incontri-con-maria/
ATTACH;FMTTYPE=image/jpeg:https://www.luiginovarese.org/wp-content/uploads/2021/05/Primo-maggio.jpg
END:VEVENT
BEGIN:VEVENT
DTSTART;VALUE=DATE:20210428
DTEND;VALUE=DATE:20210429
DTSTAMP:20260424T104821
CREATED:20210330T084801Z
LAST-MODIFIED:20210330T084933Z
UID:51341-1619568000-1619654399@www.luiginovarese.org
SUMMARY:Memoria di san Luigi Grignion de Montfort
DESCRIPTION:Tutto per mezzo di Maria. Tutto con Maria. Tutto in Maria. Tutto per Maria \nVai alla videopreghiera \nColloquio on line sulla spiritualità dell’affidamento a Maria
URL:https://www.luiginovarese.org/calendario-eventi/memoria-di-san-luigi-grignion-de-montfort/
ATTACH;FMTTYPE=image/jpeg:https://www.luiginovarese.org/wp-content/uploads/2021/03/Grignion-de-Montfort.jpg
END:VEVENT
BEGIN:VEVENT
DTSTART;VALUE=DATE:20210425
DTEND;VALUE=DATE:20210426
DTSTAMP:20260424T104821
CREATED:20210330T084741Z
LAST-MODIFIED:20210330T084741Z
UID:51340-1619308800-1619395199@www.luiginovarese.org
SUMMARY:Giornata di preghiera per le vocazioni
DESCRIPTION:Giornata di preghiera per le vocazioni \nVai alla videopreghiera \nPreghiera per le vocazioni in collegamento dalla Chiesa di Santa Maria del Suffragio
URL:https://www.luiginovarese.org/calendario-eventi/giornata-di-preghiera-per-le-vocazioni/
ATTACH;FMTTYPE=image/jpeg:https://www.luiginovarese.org/wp-content/uploads/2021/03/Vocazioni.jpg
END:VEVENT
BEGIN:VEVENT
DTSTART;VALUE=DATE:20210416
DTEND;VALUE=DATE:20210417
DTSTAMP:20260424T104821
CREATED:20210330T084721Z
LAST-MODIFIED:20210330T084721Z
UID:51339-1618531200-1618617599@www.luiginovarese.org
SUMMARY:Memoria di Santa Bernadette
DESCRIPTION:Quello che è stolto per il mondo\, Dio lo ha scelto per confondere i sapienti \nVai alla videopreghiera
URL:https://www.luiginovarese.org/calendario-eventi/memoria-di-santa-bernadette/
ATTACH;FMTTYPE=image/jpeg:https://www.luiginovarese.org/wp-content/uploads/2021/03/Bernadette.jpg
END:VEVENT
BEGIN:VEVENT
DTSTART;VALUE=DATE:20210412
DTEND;VALUE=DATE:20210413
DTSTAMP:20260424T104821
CREATED:20210330T084700Z
LAST-MODIFIED:20210330T084700Z
UID:51338-1618185600-1618271999@www.luiginovarese.org
SUMMARY:Appuntamento con Radio Mater
DESCRIPTION:12 aprile. Appuntamento con Radio Mater\, alle 18.30 \nIl programma “Per servire meglio chi soffre condotto da don Marco Castellazzi va in onda ogni secondo lunedì del mese alle ore 18.35 e tratta temi inerenti il mondo dell’umana sofferenza letti attraverso il carisma del beato Luigi Novarese. L’argomento della puntata è: “Non sprecare le crisi”. \nI radioascoltatori sono invitati ad intervenire in diretta tramite telefonata al numero 031.636000 mediante sms al numero 331.7914523 oppure mediante mail all’indirizzo diretta@radiomater.org \n 
URL:https://www.luiginovarese.org/calendario-eventi/appuntamento-con-radio-mater-6/
ATTACH;FMTTYPE=image/png:https://www.luiginovarese.org/wp-content/uploads/2020/12/radio-mater.png
END:VEVENT
BEGIN:VEVENT
DTSTART;VALUE=DATE:20210405
DTEND;VALUE=DATE:20210406
DTSTAMP:20260424T104822
CREATED:20210330T084641Z
LAST-MODIFIED:20210330T084641Z
UID:51337-1617580800-1617667199@www.luiginovarese.org
SUMMARY:San Francesco Marto
DESCRIPTION:Ardere nella luce di Dio senza bruciarsi \nVai alla videopreghiera
URL:https://www.luiginovarese.org/calendario-eventi/san-francesco-marto/
ATTACH;FMTTYPE=image/jpeg:https://www.luiginovarese.org/wp-content/uploads/2021/03/Francesco-Marto.jpg
END:VEVENT
BEGIN:VEVENT
DTSTART;VALUE=DATE:20210405
DTEND;VALUE=DATE:20210406
DTSTAMP:20260424T104822
CREATED:20210330T071020Z
LAST-MODIFIED:20210330T085353Z
UID:51308-1617580800-1617667199@www.luiginovarese.org
SUMMARY:Settimo giorno
DESCRIPTION:Il settimo giorno di Pellegrinaggio a Lourdes. Seguilo con noi!
URL:https://www.luiginovarese.org/calendario-eventi/pellegrinaggio-virtuale-settimo-giorno/
ATTACH;FMTTYPE=image/jpeg:https://www.luiginovarese.org/wp-content/uploads/2021/03/pellegrinaggio-virtuale.jpg
END:VEVENT
BEGIN:VEVENT
DTSTART;VALUE=DATE:20210404
DTEND;VALUE=DATE:20210405
DTSTAMP:20260424T104822
CREATED:20210330T084622Z
LAST-MODIFIED:20210331T102359Z
UID:51336-1617494400-1617580799@www.luiginovarese.org
SUMMARY:Solennità di Pasqua
DESCRIPTION:Dalla notte della morte al mattino luminoso di Pasqua \nVai alla videopreghiera
URL:https://www.luiginovarese.org/calendario-eventi/solennita-di-pasqua/
ATTACH;FMTTYPE=image/jpeg:https://www.luiginovarese.org/wp-content/uploads/2021/03/Pasqua.jpg
END:VEVENT
BEGIN:VEVENT
DTSTART;VALUE=DATE:20210404
DTEND;VALUE=DATE:20210405
DTSTAMP:20260424T104822
CREATED:20210330T070918Z
LAST-MODIFIED:20210330T085300Z
UID:51295-1617494400-1617580799@www.luiginovarese.org
SUMMARY:Sesto giorno
DESCRIPTION:Il sesto giorno di Pellegrinaggio a Lourdes. Seguilo con noi!
URL:https://www.luiginovarese.org/calendario-eventi/pellegrinaggio-virtuale-sesto-giorno/
ATTACH;FMTTYPE=image/jpeg:https://www.luiginovarese.org/wp-content/uploads/2021/03/pellegrinaggio-virtuale.jpg
END:VEVENT
BEGIN:VEVENT
DTSTART;VALUE=DATE:20210403
DTEND;VALUE=DATE:20210404
DTSTAMP:20260424T104822
CREATED:20210330T070655Z
LAST-MODIFIED:20210330T085153Z
UID:51294-1617408000-1617494399@www.luiginovarese.org
SUMMARY:Quinto giorno
DESCRIPTION:Il quinto giorno di Pellegrinaggio a Lourdes. Seguilo con noi!
URL:https://www.luiginovarese.org/calendario-eventi/pellegrinaggio-virtuale-quinto-giorno/
ATTACH;FMTTYPE=image/jpeg:https://www.luiginovarese.org/wp-content/uploads/2021/03/pellegrinaggio-virtuale.jpg
END:VEVENT
END:VCALENDAR