BEGIN:VCALENDAR
VERSION:2.0
PRODID:-//Opera Beato Luigi Novarese - ECPv6.15.17//NONSGML v1.0//EN
CALSCALE:GREGORIAN
METHOD:PUBLISH
X-WR-CALNAME:Opera Beato Luigi Novarese
X-ORIGINAL-URL:https://www.luiginovarese.org
X-WR-CALDESC:Eventi per Opera Beato Luigi Novarese
REFRESH-INTERVAL;VALUE=DURATION:PT1H
X-Robots-Tag:noindex
X-PUBLISHED-TTL:PT1H
BEGIN:VTIMEZONE
TZID:Europe/Rome
BEGIN:DAYLIGHT
TZOFFSETFROM:+0100
TZOFFSETTO:+0200
TZNAME:CEST
DTSTART:20190331T010000
END:DAYLIGHT
BEGIN:STANDARD
TZOFFSETFROM:+0200
TZOFFSETTO:+0100
TZNAME:CET
DTSTART:20191027T010000
END:STANDARD
BEGIN:DAYLIGHT
TZOFFSETFROM:+0100
TZOFFSETTO:+0200
TZNAME:CEST
DTSTART:20200329T010000
END:DAYLIGHT
BEGIN:STANDARD
TZOFFSETFROM:+0200
TZOFFSETTO:+0100
TZNAME:CET
DTSTART:20201025T010000
END:STANDARD
BEGIN:DAYLIGHT
TZOFFSETFROM:+0100
TZOFFSETTO:+0200
TZNAME:CEST
DTSTART:20210328T010000
END:DAYLIGHT
BEGIN:STANDARD
TZOFFSETFROM:+0200
TZOFFSETTO:+0100
TZNAME:CET
DTSTART:20211031T010000
END:STANDARD
BEGIN:DAYLIGHT
TZOFFSETFROM:+0100
TZOFFSETTO:+0200
TZNAME:CEST
DTSTART:20220327T010000
END:DAYLIGHT
BEGIN:STANDARD
TZOFFSETFROM:+0200
TZOFFSETTO:+0100
TZNAME:CET
DTSTART:20221030T010000
END:STANDARD
END:VTIMEZONE
BEGIN:VEVENT
DTSTART;VALUE=DATE:20210402
DTEND;VALUE=DATE:20210403
DTSTAMP:20260424T134039
CREATED:20210330T070448Z
LAST-MODIFIED:20210330T071147Z
UID:51293-1617321600-1617407999@www.luiginovarese.org
SUMMARY:Quarto giorno
DESCRIPTION:Il quarto giorno di Pellegrinaggio a Lourdes. Seguilo con noi!
URL:https://www.luiginovarese.org/calendario-eventi/pellegrinaggio-virtuale-quarto-giorno/
ATTACH;FMTTYPE=image/jpeg:https://www.luiginovarese.org/wp-content/uploads/2021/03/pellegrinaggio-virtuale.jpg
END:VEVENT
BEGIN:VEVENT
DTSTART;VALUE=DATE:20210401
DTEND;VALUE=DATE:20210402
DTSTAMP:20260424T134039
CREATED:20210330T084500Z
LAST-MODIFIED:20210331T102219Z
UID:51333-1617235200-1617321599@www.luiginovarese.org
SUMMARY:Giovedì santo
DESCRIPTION:Amare fino alla fine. Contempliamo l’icona della lavanda dei piedi con le parole di papa Benedetto XVI. \nVai alla videopreghiera
URL:https://www.luiginovarese.org/calendario-eventi/giovedi-santo/
ATTACH;FMTTYPE=image/jpeg:https://www.luiginovarese.org/wp-content/uploads/2021/03/Giovedi-santo.jpg
END:VEVENT
BEGIN:VEVENT
DTSTART;VALUE=DATE:20210401
DTEND;VALUE=DATE:20210402
DTSTAMP:20260424T134039
CREATED:20210330T070356Z
LAST-MODIFIED:20210331T102139Z
UID:51292-1617235200-1617321599@www.luiginovarese.org
SUMMARY:Terzo giorno
DESCRIPTION:Il terzo giorno di Pellegrinaggio a Lourdes. Seguilo con noi!
URL:https://www.luiginovarese.org/calendario-eventi/pellegrinaggio-virtuale-terzo-giorno/
ATTACH;FMTTYPE=image/jpeg:https://www.luiginovarese.org/wp-content/uploads/2021/03/pellegrinaggio-virtuale.jpg
END:VEVENT
BEGIN:VEVENT
DTSTART;VALUE=DATE:20210331
DTEND;VALUE=DATE:20210401
DTSTAMP:20260424T134039
CREATED:20210330T070139Z
LAST-MODIFIED:20210330T171108Z
UID:51291-1617148800-1617235199@www.luiginovarese.org
SUMMARY:Secondo giorno
DESCRIPTION:Il secondo giorno di Pellegrinaggio a Lourdes. Seguilo con noi! \nScrivi la tua intenzione di preghiera da inviare a don Marco Castellazzi che si trova a Lourdes\, le presenterà all’Immacolata per noi.
URL:https://www.luiginovarese.org/calendario-eventi/pellegrinaggio-virtuale-a-lourdes-2/
ATTACH;FMTTYPE=image/jpeg:https://www.luiginovarese.org/wp-content/uploads/2021/03/pellegrinaggio-virtuale.jpg
END:VEVENT
BEGIN:VEVENT
DTSTART;VALUE=DATE:20210330
DTEND;VALUE=DATE:20210331
DTSTAMP:20260424T134039
CREATED:20210330T070005Z
LAST-MODIFIED:20210330T171040Z
UID:51290-1617062400-1617148799@www.luiginovarese.org
SUMMARY:Primo giorno
DESCRIPTION:Il primo giorno di Pellegrinaggio a Lourdes. Seguilo con noi! \nScrivi la tua intenzione di preghiera da inviare a don Marco Castellazzi che si trova a Lourdes\, le presenterà all’Immacolata per noi.
URL:https://www.luiginovarese.org/calendario-eventi/pellegrinaggio-virtuale-a-lourdes/
ATTACH;FMTTYPE=image/jpeg:https://www.luiginovarese.org/wp-content/uploads/2021/03/pellegrinaggio-virtuale.jpg
END:VEVENT
BEGIN:VEVENT
DTSTART;VALUE=DATE:20210328
DTEND;VALUE=DATE:20210329
DTSTAMP:20260424T134039
CREATED:20210302T085216Z
LAST-MODIFIED:20210302T102014Z
UID:49657-1616889600-1616975999@www.luiginovarese.org
SUMMARY:Domenica delle Palme
DESCRIPTION:28 marzo. Videopreghiera per la Domenica delle Palme. \nLa Croce\, innesto di cielo dentro la terra.
URL:https://www.luiginovarese.org/calendario-eventi/domenica-delle-palme/
ATTACH;FMTTYPE=image/jpeg:https://www.luiginovarese.org/wp-content/uploads/2021/03/Le-Palme.jpg
END:VEVENT
BEGIN:VEVENT
DTSTART;VALUE=DATE:20210325
DTEND;VALUE=DATE:20210326
DTSTAMP:20260424T134039
CREATED:20210302T085123Z
LAST-MODIFIED:20210302T101952Z
UID:49655-1616630400-1616716799@www.luiginovarese.org
SUMMARY:Solennità dell’Annunciazione
DESCRIPTION:25 marzo. Videopreghiera per la Solennità dell’Annunciazione. \nAvvenga per me secondo la tua parola.
URL:https://www.luiginovarese.org/calendario-eventi/solennita-dellannunciazione/
ATTACH;FMTTYPE=image/jpeg:https://www.luiginovarese.org/wp-content/uploads/2021/03/Annunciazione.jpg
END:VEVENT
BEGIN:VEVENT
DTSTART;VALUE=DATE:20210321
DTEND;VALUE=DATE:20210322
DTSTAMP:20260424T134039
CREATED:20210302T085023Z
LAST-MODIFIED:20210302T101934Z
UID:49653-1616284800-1616371199@www.luiginovarese.org
SUMMARY:Quinta domenica di Quaresima
DESCRIPTION:21 marzo. Videopreghiera per la Quinta domenica di Quaresima. \nDal chicco di grano alla spiga.
URL:https://www.luiginovarese.org/calendario-eventi/quinta-domenica-di-quaresima/
ATTACH;FMTTYPE=image/jpeg:https://www.luiginovarese.org/wp-content/uploads/2021/03/Quinta-domenica-di-quresima.jpg
END:VEVENT
BEGIN:VEVENT
DTSTART;VALUE=DATE:20210319
DTEND;VALUE=DATE:20210320
DTSTAMP:20260424T134039
CREATED:20210302T084925Z
LAST-MODIFIED:20210302T102047Z
UID:49651-1616112000-1616198399@www.luiginovarese.org
SUMMARY:Solennità di san Giuseppe
DESCRIPTION:19 marzo. Videopreghiera per la Solennità di san Giuseppe \nSan Giuseppe\, l’uomo dei sogni coraggiosi.
URL:https://www.luiginovarese.org/calendario-eventi/solennita-di-san-giuseppe/
ATTACH;FMTTYPE=image/jpeg:https://www.luiginovarese.org/wp-content/uploads/2021/03/San-Giuseppe2.jpg
END:VEVENT
BEGIN:VEVENT
DTSTART;VALUE=DATE:20210314
DTEND;VALUE=DATE:20210315
DTSTAMP:20260424T134039
CREATED:20210302T084829Z
LAST-MODIFIED:20210302T102109Z
UID:49649-1615680000-1615766399@www.luiginovarese.org
SUMMARY:Quarta domenica di Quaresima
DESCRIPTION:14 marzo. Videopreghiera per la Quarta domenica di Quaresima \nDal serpente di bronzo alla Croce segno di amore
URL:https://www.luiginovarese.org/calendario-eventi/quarta-domenica-di-quaresima/
ATTACH;FMTTYPE=image/jpeg:https://www.luiginovarese.org/wp-content/uploads/2021/03/Quarta-domenica-di-Quaresima.jpg
END:VEVENT
BEGIN:VEVENT
DTSTART;VALUE=DATE:20210308
DTEND;VALUE=DATE:20210309
DTSTAMP:20260424T134039
CREATED:20210302T084649Z
LAST-MODIFIED:20210304T083703Z
UID:49643-1615161600-1615247999@www.luiginovarese.org
SUMMARY:Appuntamento con Radio Mater
DESCRIPTION:8 marzo. Appuntamento con Radio Mater\, alle 18.30 \nIl programma “Per servire meglio chi soffre condotto da don Marco Castellazzi va in onda ogni secondo lunedì del mese alle ore 18.35 e tratta temi inerenti il mondo dell’umana sofferenza letti attraverso il carisma del beato Luigi Novarese. L’argomento della puntata è: “Non sprecare le crisi”. \nLa trasmissione di questo mese focalizza la riflessione di papa Francesco: “Peggio di questa crisi\, c’è solo il dramma di sprecarla\, chiudendoci in noi stessi”. \nI radioascoltatori sono invitati ad intervenire in diretta tramite telefonata al numero 031.636000 mediante sms al numero 331.7914523 oppure mediante mail all’indirizzo diretta@radiomater.org \nLa domanda che don Marco porrà è: Cosa è per te una crisi e come hai imparato a fronteggiarla? \n  \n 
URL:https://www.luiginovarese.org/calendario-eventi/appuntamento-con-radio-mater-5/
ATTACH;FMTTYPE=image/png:https://www.luiginovarese.org/wp-content/uploads/2020/12/radio-mater.png
END:VEVENT
BEGIN:VEVENT
DTSTART;VALUE=DATE:20210307
DTEND;VALUE=DATE:20210308
DTSTAMP:20260424T134039
CREATED:20210302T084323Z
LAST-MODIFIED:20210302T101707Z
UID:49632-1615075200-1615161599@www.luiginovarese.org
SUMMARY:Terza domenica di Quaresima
DESCRIPTION:7 marzo. Videopreghiera per la Terza Domenica di Quaresima \nDal tempio di pietre al Corpo di Cristo
URL:https://www.luiginovarese.org/calendario-eventi/terza-domenica-di-quaresima/
ATTACH;FMTTYPE=image/jpeg:https://www.luiginovarese.org/wp-content/uploads/2021/03/Terza-domenica-di-Quaresima.jpg
END:VEVENT
BEGIN:VEVENT
DTSTART;VALUE=DATE:20210228
DTEND;VALUE=DATE:20210301
DTSTAMP:20260424T134039
CREATED:20210202T170950Z
LAST-MODIFIED:20210202T170950Z
UID:48551-1614470400-1614556799@www.luiginovarese.org
SUMMARY:Seconda domenica di Quaresima
DESCRIPTION:28 febbraio. Seconda domenica di Quaresima. \nDallo splendore sul monte all’annuncio quotidiano del vangelo \nSul Tabor\, lo splendore del Figlio di Dio. Subito dopo\, sulla strada in missione.
URL:https://www.luiginovarese.org/calendario-eventi/seconda-domenica-di-quaresima/
ATTACH;FMTTYPE=image/jpeg:https://www.luiginovarese.org/wp-content/uploads/2021/02/Seconda-quaresima.jpg
END:VEVENT
BEGIN:VEVENT
DTSTART;VALUE=DATE:20210221
DTEND;VALUE=DATE:20210222
DTSTAMP:20260424T134039
CREATED:20210202T170850Z
LAST-MODIFIED:20210202T170850Z
UID:48547-1613865600-1613951999@www.luiginovarese.org
SUMMARY:Prima domenica di Quaresima
DESCRIPTION:21 febbraio. Prima domenica di Quaresima. \nDalla solitudine del deserto all’annuncio del Vangelo \nDopo il deserto\, Gesù si presenta alle genti annunciando la venuta del Regno di Dio.
URL:https://www.luiginovarese.org/calendario-eventi/prima-domenica-di-quaresima/
ATTACH;FMTTYPE=image/jpeg:https://www.luiginovarese.org/wp-content/uploads/2021/02/Prima-quaresima.jpg
END:VEVENT
BEGIN:VEVENT
DTSTART;VALUE=DATE:20210220
DTEND;VALUE=DATE:20210221
DTSTAMP:20260424T134039
CREATED:20210202T170742Z
LAST-MODIFIED:20210202T170742Z
UID:48543-1613779200-1613865599@www.luiginovarese.org
SUMMARY:Santa Giacinta Marto
DESCRIPTION:20 febbraio. Santa Giacinta Marto. \nLa bambina con il fuoco nel petto. \nSebbene la festa liturgica li collochi insieme\, oggi ricordiamo solo Giacinta\, nell’anniversario della sua morte.
URL:https://www.luiginovarese.org/calendario-eventi/santa-giacinta-marto/
ATTACH;FMTTYPE=image/jpeg:https://www.luiginovarese.org/wp-content/uploads/2021/02/Jacinta3.jpg
END:VEVENT
BEGIN:VEVENT
DTSTART;VALUE=DATE:20210220
DTEND;VALUE=DATE:20210221
DTSTAMP:20260424T134039
CREATED:20210115T122212Z
LAST-MODIFIED:20210202T172653Z
UID:47698-1613779200-1613865599@www.luiginovarese.org
SUMMARY:Memoria dei santi Francesco e Giacinta Marto
DESCRIPTION:20 febbraio. Memoria dei santi Francesco e Giacinta Marto. \nPiccoli bambini\, grandi anime. \n 
URL:https://www.luiginovarese.org/calendario-eventi/memoria-dei-santi-francesco-e-giacinta-marto/
ATTACH;FMTTYPE=image/jpeg:https://www.luiginovarese.org/wp-content/uploads/2021/01/pastorelli_.jpg
END:VEVENT
BEGIN:VEVENT
DTSTART;VALUE=DATE:20210217
DTEND;VALUE=DATE:20210218
DTSTAMP:20260424T134039
CREATED:20210115T122006Z
LAST-MODIFIED:20210115T122643Z
UID:47694-1613520000-1613606399@www.luiginovarese.org
SUMMARY:Quaresima
DESCRIPTION:17 febbraio. Con il rito delle Ceneri\, iniziamo il cammino della Quaresima.
URL:https://www.luiginovarese.org/calendario-eventi/quaresima/
ATTACH;FMTTYPE=image/jpeg:https://www.luiginovarese.org/wp-content/uploads/2021/01/170210-101-268x402-1.jpg
END:VEVENT
BEGIN:VEVENT
DTSTART;VALUE=DATE:20210211
DTEND;VALUE=DATE:20210212
DTSTAMP:20260424T134039
CREATED:20210115T120949Z
LAST-MODIFIED:20210115T121006Z
UID:47691-1613001600-1613087999@www.luiginovarese.org
SUMMARY:Apparizione della Vergine Immacolata a Lourdes
DESCRIPTION:11 febbraio. Apparizione della Vergine Immacolata a Lourdes \nGiornata mondiale del Malato
URL:https://www.luiginovarese.org/calendario-eventi/47691/
ATTACH;FMTTYPE=image/jpeg:https://www.luiginovarese.org/wp-content/uploads/2020/04/PellegrinaggioLourdes.jpg
END:VEVENT
BEGIN:VEVENT
DTSTART;VALUE=DATE:20210208
DTEND;VALUE=DATE:20210209
DTSTAMP:20260424T134039
CREATED:20210202T170616Z
LAST-MODIFIED:20210204T080820Z
UID:48541-1612742400-1612828799@www.luiginovarese.org
SUMMARY:Appuntamento con Radio Mater
DESCRIPTION:8 febbraio. Per meglio servire chi soffre. \nUna comunità capace di guarigione. La Giornata mondiale del malato. \n  \nSegui la diretta  \nRiascolta le trasmissioni qui \nIl programma “Per servire meglio chi soffre condotto da don Marco Castellazzi va in onda ogni secondo lunedì del mese alle ore 18.35 e tratta temi inerenti il mondo dell’umana sofferenza letti attraverso il carisma del beato Luigi Novarese.
URL:https://www.luiginovarese.org/calendario-eventi/appuntamento-con-radio-mater-4/
ATTACH;FMTTYPE=image/png:https://www.luiginovarese.org/wp-content/uploads/2020/12/radio-mater.png
END:VEVENT
BEGIN:VEVENT
DTSTART;VALUE=DATE:20210207
DTEND;VALUE=DATE:20210208
DTSTAMP:20260424T134039
CREATED:20210202T172017Z
LAST-MODIFIED:20210204T080934Z
UID:48555-1612656000-1612742399@www.luiginovarese.org
SUMMARY:Incontro della serenità
DESCRIPTION:Una trasmissione dei Silenziosi Operai della Croce in onda su Radio Vaticana ogni domenica e festivi alle ore 14\,30 sulle frequenze 105 e 103\,8 FM su Roma.\nStreaming Live sul Canale 5 e su Vatican News \n  \nPuoi riascoltare le trasmissioni qui \n 
URL:https://www.luiginovarese.org/calendario-eventi/incontro-della-serenita/
ATTACH;FMTTYPE=image/jpeg:https://www.luiginovarese.org/wp-content/uploads/2020/12/radio-vaticana.jpeg
END:VEVENT
BEGIN:VEVENT
DTSTART;VALUE=DATE:20210202
DTEND;VALUE=DATE:20210203
DTSTAMP:20260424T134039
CREATED:20210115T120841Z
LAST-MODIFIED:20210115T120841Z
UID:47687-1612224000-1612310399@www.luiginovarese.org
SUMMARY:Festa della Presentazione di Gesù al tempio
DESCRIPTION:2 febbraio. Festa della Presentazione di Gesù al tempio. \nLuce per illuminare le genti. È Cristo che viene accolto da Simeone e dall’umanità.
URL:https://www.luiginovarese.org/calendario-eventi/festa-della-presentazione-di-gesu-al-tempio/
ATTACH;FMTTYPE=image/jpeg:https://www.luiginovarese.org/wp-content/uploads/2021/01/presentazione.jpg
END:VEVENT
BEGIN:VEVENT
DTSTART;VALUE=DATE:20210128
DTEND;VALUE=DATE:20210129
DTSTAMP:20260424T134039
CREATED:20210115T120415Z
LAST-MODIFIED:20210125T085039Z
UID:47683-1611792000-1611878399@www.luiginovarese.org
SUMMARY:Angiolino Bonetta. In piedi\, su una gamba sola!
DESCRIPTION:28 gennaio 2021. Angiolino Bonetta. In piedi\, su una gamba sola!\nFacciamo memoria del piccolo Angiolino\, venerabile della Chiesa\, nel giorno anniversario della sua morte.
URL:https://www.luiginovarese.org/calendario-eventi/angiolino-bonetta-in-piedi-su-una-gamba-sola/
ATTACH;FMTTYPE=image/jpeg:https://www.luiginovarese.org/wp-content/uploads/2021/01/angiolino3.jpg
END:VEVENT
BEGIN:VEVENT
DTSTART;TZID=Europe/Rome:20210117T210000
DTEND;TZID=Europe/Rome:20210117T213000
DTSTAMP:20260424T134039
CREATED:20210113T074837Z
LAST-MODIFIED:20210116T080737Z
UID:47596-1610917200-1610919000@www.luiginovarese.org
SUMMARY:Terza puntata del Magnificat in rete
DESCRIPTION:Terza Puntata del Magnificat in rete \nhttps://www.luiginovarese.org/2021/01/13/terza-puntata-de…gnificat-in-rete/ ‎
URL:https://www.luiginovarese.org/calendario-eventi/terza-puntata-del-magnificat-in-rete/
ATTACH;FMTTYPE=image/png:https://www.luiginovarese.org/wp-content/uploads/2020/12/Schermata-2020-12-29-alle-11.07.13-e1609236533527.png
END:VEVENT
BEGIN:VEVENT
DTSTART;VALUE=DATE:20210116
DTEND;VALUE=DATE:20210117
DTSTAMP:20260424T134039
CREATED:20210106T203826Z
LAST-MODIFIED:20210109T192018Z
UID:47414-1610755200-1610841599@www.luiginovarese.org
SUMMARY:Convegno su Giunio Tinarelli
DESCRIPTION:16 gennaio 2021. “Io sono sempre felice!” – Il percorso umano e spirituale del venerabile Giunio Tinarelli. \nLeggi il Programma \n 
URL:https://www.luiginovarese.org/calendario-eventi/convegno-su-giunio-tinarelli/
ATTACH;FMTTYPE=image/jpeg:https://www.luiginovarese.org/wp-content/uploads/2021/01/Tinarelli-e1609965492885.jpg
END:VEVENT
BEGIN:VEVENT
DTSTART;VALUE=DATE:20210111
DTEND;VALUE=DATE:20210112
DTSTAMP:20260424T134039
CREATED:20210106T203141Z
LAST-MODIFIED:20210118T095122Z
UID:47413-1610323200-1610409599@www.luiginovarese.org
SUMMARY:Appuntamento con Radio Mater
DESCRIPTION:11 gennaio 2021.  Con cuore di padre. Una riflessione sulla paternità con san Giuseppe. \nSegui la trasmissione qui \nIl programma “Per servire meglio chi soffre condotto da don Marco Castellazzi va in onda ogni secondo lunedì del mese alle ore 18.35 e tratta temi inerenti il mondo dell’umana sofferenza letti attraverso il carisma del beato Luigi Novarese.
URL:https://www.luiginovarese.org/calendario-eventi/appuntamento-con-radio-mater-3/
ATTACH;FMTTYPE=image/jpeg:https://www.luiginovarese.org/wp-content/uploads/2021/01/SAn-giuseppe.jpg
END:VEVENT
BEGIN:VEVENT
DTSTART;VALUE=DATE:20210110
DTEND;VALUE=DATE:20210111
DTSTAMP:20260424T134039
CREATED:20201222T101010Z
LAST-MODIFIED:20201222T101305Z
UID:46604-1610236800-1610323199@www.luiginovarese.org
SUMMARY:Battesimo di Gesù
DESCRIPTION:10 gennaio 2021. Battesimo di Gesù. Abbiamo una sorgente nel cielo. \nÈ la festa del battesimo di Gesù\, della sua immersione da parte di Giovanni nel fiume Giordano: il primo atto di Gesù uomo maturo. \nLa fede\, ricevuta con il battesimo\, nutre e matura l’amore\, ci fa partecipi di Cristo e\, inserendoci in lui per compiere quanto manca alla sua passione\, ci trasforma. (Luigi Novarese) \n 
URL:https://www.luiginovarese.org/calendario-eventi/battesimo-di-gesu/
ATTACH;FMTTYPE=image/jpeg:https://www.luiginovarese.org/wp-content/uploads/2020/12/acqua-scaled.jpg
END:VEVENT
BEGIN:VEVENT
DTSTART;VALUE=DATE:20210106
DTEND;VALUE=DATE:20210107
DTSTAMP:20260424T134039
CREATED:20201222T100940Z
LAST-MODIFIED:20201222T101228Z
UID:46603-1609891200-1609977599@www.luiginovarese.org
SUMMARY:Solennità dell’Epifania
DESCRIPTION:6 gennaio 2021. Solennità dell’Epifania. Siamo venuti ad adorare il Re \nEpifania\, festa dei cercatori di Dio\, dei lontani\, che si sono messi in cammino dietro a una profezia interiore\, a parole come quelle di Isaia. «Alza il capo e guarda». \nDue verbi bellissimi: alza\, solleva gli occhi\, guarda in alto e attorno\, apri le finestre di casa al grande respiro del mondo. \nE guarda\, cerca un angolo di cielo\, una stella polare\, e da lassù interpreta la vita\, a partire da obiettivi alti.
URL:https://www.luiginovarese.org/calendario-eventi/solennita-dellepifania/
ATTACH;FMTTYPE=image/jpeg:https://www.luiginovarese.org/wp-content/uploads/2020/12/Epifania.jpg
END:VEVENT
BEGIN:VEVENT
DTSTART;VALUE=DATE:20210101
DTEND;VALUE=DATE:20210102
DTSTAMP:20260424T134039
CREATED:20201222T100905Z
LAST-MODIFIED:20201222T101156Z
UID:46602-1609459200-1609545599@www.luiginovarese.org
SUMMARY:Solennità di Maria Santissima Madre di Dio
DESCRIPTION:1 gennaio 2021. Solennità di Maria Santissima Madre di Dio. Dio mandò il suo Figlio\, nato da Donna. \nNel grembo di una donna Dio e l’umanità si sono uniti per non lasciarsi mai più: anche ora\, in cielo\, Gesù vive nella carne che ha preso nel grembo della madre. \nNel primo giorno dell’anno celebriamo le nozze tra Dio e l’uomo\, inaugurate nel grembo di una donna.
URL:https://www.luiginovarese.org/calendario-eventi/solennita-di-maria-santissima-madre-di-dio/
ATTACH;FMTTYPE=image/jpeg:https://www.luiginovarese.org/wp-content/uploads/2020/12/sculpture-4252526_1920.jpg
END:VEVENT
BEGIN:VEVENT
DTSTART;VALUE=DATE:20201231
DTEND;VALUE=DATE:20210101
DTSTAMP:20260424T134039
CREATED:20201203T103800Z
LAST-MODIFIED:20201222T101508Z
UID:45237-1609372800-1609459199@www.luiginovarese.org
SUMMARY:Le speranze che brillano in noi
DESCRIPTION:31 dicembre. Le speranze che brillano in noi. \nAlcuni suggestivi pensieri del beato Novarese a conclusione dell’anno. \nSegui qui la videopreghiera.
URL:https://www.luiginovarese.org/calendario-eventi/le-speranze-che-brillano-in-noi/
ATTACH;FMTTYPE=image/jpeg:https://www.luiginovarese.org/wp-content/uploads/2020/12/Mons.-Novarese.jpg
END:VEVENT
BEGIN:VEVENT
DTSTART;VALUE=DATE:20201230
DTEND;VALUE=DATE:20201231
DTSTAMP:20260424T134039
CREATED:20201203T090322Z
LAST-MODIFIED:20201222T101723Z
UID:45229-1609286400-1609372799@www.luiginovarese.org
SUMMARY:Per ricordare Sorella Elvira Myriam Psorulla
DESCRIPTION:30 dicembre. Per ricordare Sorella Elvira Myriam Psorulla\, cofondatrice\, insieme al beato Luigi Novarese\, dell’Associazione. \nSegui qui la videopreghiera.
URL:https://www.luiginovarese.org/calendario-eventi/per-ricordare-sorella-elvira-myriam/
ATTACH;FMTTYPE=image/jpeg:https://www.luiginovarese.org/wp-content/uploads/2020/12/Sorella-Elvira.jpg
END:VEVENT
END:VCALENDAR