BEGIN:VCALENDAR
VERSION:2.0
PRODID:-//Opera Beato Luigi Novarese - ECPv6.15.17//NONSGML v1.0//EN
CALSCALE:GREGORIAN
METHOD:PUBLISH
X-WR-CALNAME:Opera Beato Luigi Novarese
X-ORIGINAL-URL:https://www.luiginovarese.org
X-WR-CALDESC:Eventi per Opera Beato Luigi Novarese
REFRESH-INTERVAL;VALUE=DURATION:PT1H
X-Robots-Tag:noindex
X-PUBLISHED-TTL:PT1H
BEGIN:VTIMEZONE
TZID:Europe/Rome
BEGIN:DAYLIGHT
TZOFFSETFROM:+0100
TZOFFSETTO:+0200
TZNAME:CEST
DTSTART:20190331T010000
END:DAYLIGHT
BEGIN:STANDARD
TZOFFSETFROM:+0200
TZOFFSETTO:+0100
TZNAME:CET
DTSTART:20191027T010000
END:STANDARD
BEGIN:DAYLIGHT
TZOFFSETFROM:+0100
TZOFFSETTO:+0200
TZNAME:CEST
DTSTART:20200329T010000
END:DAYLIGHT
BEGIN:STANDARD
TZOFFSETFROM:+0200
TZOFFSETTO:+0100
TZNAME:CET
DTSTART:20201025T010000
END:STANDARD
BEGIN:DAYLIGHT
TZOFFSETFROM:+0100
TZOFFSETTO:+0200
TZNAME:CEST
DTSTART:20210328T010000
END:DAYLIGHT
BEGIN:STANDARD
TZOFFSETFROM:+0200
TZOFFSETTO:+0100
TZNAME:CET
DTSTART:20211031T010000
END:STANDARD
END:VTIMEZONE
BEGIN:VEVENT
DTSTART;VALUE=DATE:20201231
DTEND;VALUE=DATE:20210101
DTSTAMP:20260424T182852
CREATED:20201203T103800Z
LAST-MODIFIED:20201222T101508Z
UID:45237-1609372800-1609459199@www.luiginovarese.org
SUMMARY:Le speranze che brillano in noi
DESCRIPTION:31 dicembre. Le speranze che brillano in noi. \nAlcuni suggestivi pensieri del beato Novarese a conclusione dell’anno. \nSegui qui la videopreghiera.
URL:https://www.luiginovarese.org/calendario-eventi/le-speranze-che-brillano-in-noi/
ATTACH;FMTTYPE=image/jpeg:https://www.luiginovarese.org/wp-content/uploads/2020/12/Mons.-Novarese.jpg
END:VEVENT
BEGIN:VEVENT
DTSTART;VALUE=DATE:20201230
DTEND;VALUE=DATE:20201231
DTSTAMP:20260424T182852
CREATED:20201203T090322Z
LAST-MODIFIED:20201222T101723Z
UID:45229-1609286400-1609372799@www.luiginovarese.org
SUMMARY:Per ricordare Sorella Elvira Myriam Psorulla
DESCRIPTION:30 dicembre. Per ricordare Sorella Elvira Myriam Psorulla\, cofondatrice\, insieme al beato Luigi Novarese\, dell’Associazione. \nSegui qui la videopreghiera.
URL:https://www.luiginovarese.org/calendario-eventi/per-ricordare-sorella-elvira-myriam/
ATTACH;FMTTYPE=image/jpeg:https://www.luiginovarese.org/wp-content/uploads/2020/12/Sorella-Elvira.jpg
END:VEVENT
BEGIN:VEVENT
DTSTART;VALUE=DATE:20201227
DTEND;VALUE=DATE:20201228
DTSTAMP:20260424T182852
CREATED:20201222T100752Z
LAST-MODIFIED:20201222T101817Z
UID:46601-1609027200-1609113599@www.luiginovarese.org
SUMMARY:San Giovanni\, evangelista e apostolo
DESCRIPTION:27 dicembre. San Giovanni\, evangelista e apostolo. Dio è amore. \nA Giovanni siamo debitori del Gesù più intimo\, quello che più profondamente si manifesta figlio di Dio fatto uomo. \n7 Giovanni Gesù affida sua madre dall’alto della croce e\, da quel momento\, l’umanità intera.
URL:https://www.luiginovarese.org/calendario-eventi/san-giovanni-evangelista-e-apostolo-dio-e-amore/
ATTACH;FMTTYPE=image/jpeg:https://www.luiginovarese.org/wp-content/uploads/2020/12/San-Giovanni.jpg
END:VEVENT
BEGIN:VEVENT
DTSTART;VALUE=DATE:20201225
DTEND;VALUE=DATE:20201226
DTSTAMP:20260424T182852
CREATED:20201203T084827Z
LAST-MODIFIED:20201203T084827Z
UID:45216-1608854400-1608940799@www.luiginovarese.org
SUMMARY:Maria depone Gesù nel tuo cuore
DESCRIPTION:25 dicembre. Maria depone Gesù nel tuo cuore. \nAlcuni suggestivi pensieri sul Natale del beato Luigi Novarese \nSegui qui la videopreghiera.
URL:https://www.luiginovarese.org/calendario-eventi/maria-depone-gesu-nel-tuo-cuore/
ATTACH;FMTTYPE=image/jpeg:https://www.luiginovarese.org/wp-content/uploads/2020/12/Nascita-di-Gesu.jpg
END:VEVENT
BEGIN:VEVENT
DTSTART;VALUE=DATE:20201220
DTEND;VALUE=DATE:20201221
DTSTAMP:20260424T182852
CREATED:20201204T092150Z
LAST-MODIFIED:20201204T092150Z
UID:45524-1608422400-1608508799@www.luiginovarese.org
SUMMARY:Gruppo Attivo - Quarta domenica d'Avvento
DESCRIPTION:Ecco la proposta condivisa con la CEI rivolta ai bambini e gruppo attivo per la quarta domenica di Avvento.
URL:https://www.luiginovarese.org/calendario-eventi/gruppo-attivo-quarta-domenica-davvento/
ATTACH;FMTTYPE=image/png:https://www.luiginovarese.org/wp-content/uploads/2020/11/camminia-avvento2020-e1606390112465.png
END:VEVENT
BEGIN:VEVENT
DTSTART;VALUE=DATE:20201220
DTEND;VALUE=DATE:20201221
DTSTAMP:20260424T182852
CREATED:20201126T110629Z
LAST-MODIFIED:20201126T110629Z
UID:44575-1608422400-1608508799@www.luiginovarese.org
SUMMARY:Quarta domenica di Avvento
DESCRIPTION:20 dicembre.0Avvenga. Noi dimora di Dio \nSegui qui la videopreghiera.
URL:https://www.luiginovarese.org/calendario-eventi/quarta-domenica-di-avvento/
ATTACH;FMTTYPE=image/jpeg:https://www.luiginovarese.org/wp-content/uploads/2020/11/Quarta-domenica.jpg
END:VEVENT
BEGIN:VEVENT
DTSTART;VALUE=DATE:20201214
DTEND;VALUE=DATE:20201215
DTSTAMP:20260424T182852
CREATED:20201203T083524Z
LAST-MODIFIED:20201203T083524Z
UID:45210-1607904000-1607990399@www.luiginovarese.org
SUMMARY:San Giovanni della Croce
DESCRIPTION:14 dicembre. San Giovanni della Croce. “Dove non trovi amore\, metti amore”. \nPer ricordare questo santo\, caro al beato Novarese\, fonte di approfondimento per la sua teologia spirituale \nSegui qui la videopreghiera.
URL:https://www.luiginovarese.org/calendario-eventi/san-giovanni-della-croce/
ATTACH;FMTTYPE=image/jpeg:https://www.luiginovarese.org/wp-content/uploads/2020/12/San-Giovanni-della-croce.jpg
END:VEVENT
BEGIN:VEVENT
DTSTART;VALUE=DATE:20201214
DTEND;VALUE=DATE:20201215
DTSTAMP:20260424T182852
CREATED:20201203T082012Z
LAST-MODIFIED:20201203T082012Z
UID:45198-1607904000-1607990399@www.luiginovarese.org
SUMMARY:Appuntamento con Radio Mater
DESCRIPTION:14 dicembre. Una giornata per i poveri. \nSegui la trasmissione qui \nIl programma “Per servire meglio chi soffre condotto da don Marco Castellazzi va in onda ogni secondo lunedì del mese alle ore 18.35 e tratta temi inerenti il mondo dell’umana sofferenza letti attraverso il carisma del beato Luigi Novarese.
URL:https://www.luiginovarese.org/calendario-eventi/appuntamento-con-radio-mater-2/
ATTACH;FMTTYPE=image/jpeg:https://www.luiginovarese.org/wp-content/uploads/2020/09/Radio-Mater.jpg
END:VEVENT
BEGIN:VEVENT
DTSTART;VALUE=DATE:20201213
DTEND;VALUE=DATE:20201214
DTSTAMP:20260424T182852
CREATED:20201126T110421Z
LAST-MODIFIED:20201126T110421Z
UID:44571-1607817600-1607903999@www.luiginovarese.org
SUMMARY:Terza domenica di Avvento
DESCRIPTION:13 dicembre. Testimoniate la luce. Non siamo noi la luce \nSegui qui la videopreghiera.
URL:https://www.luiginovarese.org/calendario-eventi/terza-domenica-di-avvento/
ATTACH;FMTTYPE=image/jpeg:https://www.luiginovarese.org/wp-content/uploads/2020/11/Terza-domenica.jpg
END:VEVENT
BEGIN:VEVENT
DTSTART;VALUE=DATE:20201208
DTEND;VALUE=DATE:20201209
DTSTAMP:20260424T182852
CREATED:20201126T110835Z
LAST-MODIFIED:20201207T091004Z
UID:44579-1607385600-1607471999@www.luiginovarese.org
SUMMARY:Immacolata Concezione della Vergine Maria
DESCRIPTION:8 dicembre. Eccomi! \nSegui qui la videopreghiera.
URL:https://www.luiginovarese.org/calendario-eventi/immacolata-concezione-della-vergine-maria/
ATTACH;FMTTYPE=image/jpeg:https://www.luiginovarese.org/wp-content/uploads/2020/11/Our-Lady-of-Lourdes.jpg
END:VEVENT
BEGIN:VEVENT
DTSTART;VALUE=DATE:20201206
DTEND;VALUE=DATE:20201207
DTSTAMP:20260424T182852
CREATED:20201126T120709Z
LAST-MODIFIED:20201204T090343Z
UID:44592-1607212800-1607299199@www.luiginovarese.org
SUMMARY:Gruppo Attivo (Seconda Domenica d’Avvento)
DESCRIPTION:Ecco la proposta condivisa con la CEI rivolta ai bambini e gruppo attivo per la terza domenica di Avvento.
URL:https://www.luiginovarese.org/calendario-eventi/gruppo-attivo-seconda-domenica-davvento/
ATTACH;FMTTYPE=image/png:https://www.luiginovarese.org/wp-content/uploads/2020/11/camminia-avvento2020-e1606390112465.png
END:VEVENT
BEGIN:VEVENT
DTSTART;VALUE=DATE:20201206
DTEND;VALUE=DATE:20201207
DTSTAMP:20260424T182852
CREATED:20201126T110005Z
LAST-MODIFIED:20201126T110050Z
UID:44565-1607212800-1607299199@www.luiginovarese.org
SUMMARY:Seconda domenica di Avvento
DESCRIPTION:6 dicembre.  Preparate la via. Il deserto diventa cuore del mondo \nSegui qui la videopreghiera.
URL:https://www.luiginovarese.org/calendario-eventi/seconda-domenica-di-avvento/
ATTACH;FMTTYPE=image/jpeg:https://www.luiginovarese.org/wp-content/uploads/2020/11/Seconda-domenica-1.jpg
END:VEVENT
BEGIN:VEVENT
DTSTART;TZID=Europe/Rome:20201203T080000
DTEND;TZID=Europe/Rome:20201203T170000
DTSTAMP:20260424T182852
CREATED:20201203T085805Z
LAST-MODIFIED:20201203T090013Z
UID:45225-1606982400-1607014800@www.luiginovarese.org
SUMMARY:San Giovanni\, evangelista e apostolo
DESCRIPTION:27 dicembre. San Giovanni\, evangelista e apostolo. Dio è amore \nDall’apostolo Giovanni impariamo la necessità di conoscere profondamente Cristo per poterlo annunciare con amore. \nSegui qui la videopreghiera.
URL:https://www.luiginovarese.org/calendario-eventi/san-giovanni-evangelista-e-apostolo/
ATTACH;FMTTYPE=image/jpeg:https://www.luiginovarese.org/wp-content/uploads/2020/12/San-Giovanni-evangelista.jpg
END:VEVENT
BEGIN:VEVENT
DTSTART;VALUE=DATE:20201129
DTEND;VALUE=DATE:20201130
DTSTAMP:20260424T182852
CREATED:20201126T120503Z
LAST-MODIFIED:20201126T120503Z
UID:44590-1606608000-1606694399@www.luiginovarese.org
SUMMARY:Gruppo Attivo (Prima Domenica d’Avvento)
DESCRIPTION:Con la prima domenica d’Avvento ha inizio una proposta condivisa con la CEI rivolta ai bambini e gruppo attivo. \n  \n 
URL:https://www.luiginovarese.org/calendario-eventi/gruppo-attivo-prima-domenica-davvento/
ATTACH;FMTTYPE=image/png:https://www.luiginovarese.org/wp-content/uploads/2020/11/camminia-avvento2020-e1606390112465.png
END:VEVENT
BEGIN:VEVENT
DTSTART;VALUE=DATE:20201129
DTEND;VALUE=DATE:20201130
DTSTAMP:20260424T182852
CREATED:20201126T105400Z
LAST-MODIFIED:20201127T171429Z
UID:44560-1606608000-1606694399@www.luiginovarese.org
SUMMARY:Prima domenica di Avvento
DESCRIPTION:29 novembre. Vegliate. Vivere con attenzione \nSegui qui la videopreghiera. 
URL:https://www.luiginovarese.org/calendario-eventi/prima-domenica-di-avvento/
ATTACH;FMTTYPE=image/jpeg:https://www.luiginovarese.org/wp-content/uploads/2020/11/Prima-domenica.jpg
END:VEVENT
BEGIN:VEVENT
DTSTART;VALUE=DATE:20201122
DTEND;VALUE=DATE:20201123
DTSTAMP:20260424T182852
CREATED:20201029T094620Z
LAST-MODIFIED:20201029T095059Z
UID:42525-1606003200-1606089599@www.luiginovarese.org
SUMMARY:Solennità di Cristo Re dell’Universo
DESCRIPTION:22 novembre. Cristo è celebrato come Signore del tempo e della storia\, inizio e fine di tutte le cose\, senso della nostra esistenza. \nSegui qui la videopreghiera.
URL:https://www.luiginovarese.org/calendario-eventi/solennita-di-cristo-re-delluniverso/
ATTACH;FMTTYPE=image/jpeg:https://www.luiginovarese.org/wp-content/uploads/2020/10/269px-Hubert_van_Eyck_023.jpg
END:VEVENT
BEGIN:VEVENT
DTSTART;VALUE=DATE:20201121
DTEND;VALUE=DATE:20201122
DTSTAMP:20260424T182852
CREATED:20201029T094204Z
LAST-MODIFIED:20201029T095053Z
UID:42521-1605916800-1606003199@www.luiginovarese.org
SUMMARY:Presentazione della Vergine Maria al tempio
DESCRIPTION:21 novembre. La festa ci aiuta a entrare nella prospettiva del primo gesto di dono di sé a Dio che ha fatto la Vergine Maria\, modello per ogni credente. \nSegui qui la videopreghiera.
URL:https://www.luiginovarese.org/calendario-eventi/presentazione-della-vergine-maria-al-tempio/
ATTACH;FMTTYPE=image/jpeg:https://www.luiginovarese.org/wp-content/uploads/2020/10/Giotto_-_Scrovegni_-_-08-_-_Presentation_of_the_Virgin_in_the_Temple.jpg
END:VEVENT
BEGIN:VEVENT
DTSTART;VALUE=DATE:20201109
DTEND;VALUE=DATE:20201110
DTSTAMP:20260424T182852
CREATED:20201029T101901Z
LAST-MODIFIED:20201029T101901Z
UID:42542-1604880000-1604966399@www.luiginovarese.org
SUMMARY:Appuntamento con Radio Mater
DESCRIPTION:9 novembre. Appuntamento con Radio Mater. \nLa santità è il cammino e il destino di ogni persona \nSegui qui la trasmissione. \n 
URL:https://www.luiginovarese.org/calendario-eventi/appuntamento-con-radio-mater/
ATTACH;FMTTYPE=image/jpeg:https://www.luiginovarese.org/wp-content/uploads/2020/09/Radio-Mater.jpg
END:VEVENT
BEGIN:VEVENT
DTSTART;VALUE=DATE:20201101
DTEND;VALUE=DATE:20201102
DTSTAMP:20260424T182852
CREATED:20201027T170429Z
LAST-MODIFIED:20201027T170734Z
UID:42500-1604188800-1604275199@www.luiginovarese.org
SUMMARY:Solennità di tutti i Santi
DESCRIPTION:In questa magnifica festa liturgica dove viene ricordato il destino finale di ogni persona\, la santità\, i Silenziosi Operai della Croce festeggiano l’anniversario di fondazione. \nSegui qui la videopreghiera.
URL:https://www.luiginovarese.org/calendario-eventi/solennita-di-tutti-i-santi/
ATTACH;FMTTYPE=image/jpeg:https://www.luiginovarese.org/wp-content/uploads/2020/10/All-Saints.jpg
END:VEVENT
BEGIN:VEVENT
DTSTART;VALUE=DATE:20201028
DTEND;VALUE=DATE:20201029
DTSTAMP:20260424T182852
CREATED:20201027T170535Z
LAST-MODIFIED:20201027T170612Z
UID:42503-1603843200-1603929599@www.luiginovarese.org
SUMMARY:Santi Simone e Giuda
DESCRIPTION:I santi Simone e Giuda\, ricordati insieme nella liturgia\, ci rammentano l’invio missionario di Gesù: Li mandò a due a due (Lc 1\,10). A noi ricordano l’impegno a non sentirsi soli nella missione e a saper collaborare con chi la condividiamo. \nSegui qui la videopreghiera.
URL:https://www.luiginovarese.org/calendario-eventi/santi-simone-e-giuda/
ATTACH;FMTTYPE=image/jpeg:https://www.luiginovarese.org/wp-content/uploads/2020/10/simone-giuda_1_1946420.jpg
END:VEVENT
BEGIN:VEVENT
DTSTART;VALUE=DATE:20201011
DTEND;VALUE=DATE:20201012
DTSTAMP:20260424T182852
CREATED:20201009T092142Z
LAST-MODIFIED:20201009T160818Z
UID:42140-1602374400-1602460799@www.luiginovarese.org
SUMMARY:Ordinazione diaconale a Valleluogo (Av)
DESCRIPTION:Con gioia annunciamo l’Ordinazione diaconale di tre nostri fratelli: Apollinaire\, Norbert\, Woitek che avverrà l’11 ottobre nella cattedrale di Ariano Irpino (Av) per mano di S. E. mons. Sergio Melillo vescovo della diocesi di Ariano Irpino-Lacedonia.\nTutta l’Associazione è invitata a partecipare con il proprio rendimento di grazie a Dio per questo grande dono. L’ordine del diaconato conferito in vista del sacerdozio per il bene dell’apostolato e dell’Associazione.\nChiediamo a tutti di essere vicini ai nostri tre fratelli sostenendoli con la preghiera.
URL:https://www.luiginovarese.org/calendario-eventi/ordinazione-diaconale-a-valleluogo-av/
LOCATION:Cattedrale Ariano Irpino\, Piazza Duomo\, 3\, Ariano Irpino\, AV\, 83031\, Italia
ATTACH;FMTTYPE=image/jpeg:https://www.luiginovarese.org/wp-content/uploads/2020/10/Ordinazione-diaconale.jpg
ORGANIZER;CN="Comunit%C3%A0 di Valleluogo":MAILTO:valleluogo@luiginovarese.org
END:VEVENT
END:VCALENDAR