BEGIN:VCALENDAR
VERSION:2.0
PRODID:-//Opera Beato Luigi Novarese - ECPv6.15.17//NONSGML v1.0//EN
CALSCALE:GREGORIAN
METHOD:PUBLISH
X-WR-CALNAME:Opera Beato Luigi Novarese
X-ORIGINAL-URL:https://www.luiginovarese.org
X-WR-CALDESC:Eventi per Opera Beato Luigi Novarese
REFRESH-INTERVAL;VALUE=DURATION:PT1H
X-Robots-Tag:noindex
X-PUBLISHED-TTL:PT1H
BEGIN:VTIMEZONE
TZID:Europe/Rome
BEGIN:DAYLIGHT
TZOFFSETFROM:+0100
TZOFFSETTO:+0200
TZNAME:CEST
DTSTART:20240331T010000
END:DAYLIGHT
BEGIN:STANDARD
TZOFFSETFROM:+0200
TZOFFSETTO:+0100
TZNAME:CET
DTSTART:20241027T010000
END:STANDARD
BEGIN:DAYLIGHT
TZOFFSETFROM:+0100
TZOFFSETTO:+0200
TZNAME:CEST
DTSTART:20250330T010000
END:DAYLIGHT
BEGIN:STANDARD
TZOFFSETFROM:+0200
TZOFFSETTO:+0100
TZNAME:CET
DTSTART:20251026T010000
END:STANDARD
BEGIN:DAYLIGHT
TZOFFSETFROM:+0100
TZOFFSETTO:+0200
TZNAME:CEST
DTSTART:20260329T010000
END:DAYLIGHT
BEGIN:STANDARD
TZOFFSETFROM:+0200
TZOFFSETTO:+0100
TZNAME:CET
DTSTART:20261025T010000
END:STANDARD
END:VTIMEZONE
BEGIN:VEVENT
DTSTART;VALUE=DATE:20251004
DTEND;VALUE=DATE:20251005
DTSTAMP:20260421T063957
CREATED:20250930T100013Z
LAST-MODIFIED:20250930T100013Z
UID:178820-1759536000-1759622399@www.luiginovarese.org
SUMMARY:Giubileo del Mondo Missionario
DESCRIPTION:
URL:https://www.luiginovarese.org/calendario-eventi/giubileo-del-mondo-missionario/
ATTACH;FMTTYPE=image/jpeg:https://www.luiginovarese.org/wp-content/uploads/2025/09/4-ottobre-Giubileo-del-Mondo-Missionario_page-0001.jpg
END:VEVENT
BEGIN:VEVENT
DTSTART;VALUE=DATE:20251004
DTEND;VALUE=DATE:20251005
DTSTAMP:20260421T063957
CREATED:20250930T095942Z
LAST-MODIFIED:20250930T095942Z
UID:178819-1759536000-1759622399@www.luiginovarese.org
SUMMARY:Giubileo dei Migranti
DESCRIPTION:
URL:https://www.luiginovarese.org/calendario-eventi/giubileo-dei-migranti/
ATTACH;FMTTYPE=image/jpeg:https://www.luiginovarese.org/wp-content/uploads/2025/09/4-ottobre-Giubileo-dei-Migranti_page-0001.jpg
END:VEVENT
BEGIN:VEVENT
DTSTART;VALUE=DATE:20251002
DTEND;VALUE=DATE:20251003
DTSTAMP:20260421T063957
CREATED:20250930T095856Z
LAST-MODIFIED:20250930T095856Z
UID:178818-1759363200-1759449599@www.luiginovarese.org
SUMMARY:Santi Angeli Custodi
DESCRIPTION:
URL:https://www.luiginovarese.org/calendario-eventi/santi-angeli-custodi-3/
ATTACH;FMTTYPE=image/jpeg:https://www.luiginovarese.org/wp-content/uploads/2025/09/2-ottobre-Santi-Angeli-Custodi_page-0001.jpg
END:VEVENT
BEGIN:VEVENT
DTSTART;VALUE=DATE:20251001
DTEND;VALUE=DATE:20251002
DTSTAMP:20260421T063957
CREATED:20250930T095821Z
LAST-MODIFIED:20250930T095821Z
UID:178817-1759276800-1759363199@www.luiginovarese.org
SUMMARY:Mese del Rosario
DESCRIPTION:
URL:https://www.luiginovarese.org/calendario-eventi/mese-del-rosario-2/
ATTACH;FMTTYPE=image/jpeg:https://www.luiginovarese.org/wp-content/uploads/2025/09/1-ottobre-Mese-del-Rosario_page-0001.jpg
END:VEVENT
BEGIN:VEVENT
DTSTART;VALUE=DATE:20251001
DTEND;VALUE=DATE:20251002
DTSTAMP:20260421T063957
CREATED:20250930T095727Z
LAST-MODIFIED:20250930T095727Z
UID:178816-1759276800-1759363199@www.luiginovarese.org
SUMMARY:Giornata Internazionale delle Persone Anziane
DESCRIPTION:
URL:https://www.luiginovarese.org/calendario-eventi/giornata-internazionale-delle-persone-anziane-2/
ATTACH;FMTTYPE=image/jpeg:https://www.luiginovarese.org/wp-content/uploads/2025/09/1-ottobre-Giornata-Internazionale-delle-Persone-Anziane_page-0001.jpg
END:VEVENT
BEGIN:VEVENT
DTSTART;VALUE=DATE:20250929
DTEND;VALUE=DATE:20250930
DTSTAMP:20260421T063957
CREATED:20250808T063905Z
LAST-MODIFIED:20250808T063905Z
UID:177690-1759104000-1759190399@www.luiginovarese.org
SUMMARY:Arcangelo san Michele Patrono dell'Associazione
DESCRIPTION:
URL:https://www.luiginovarese.org/calendario-eventi/arcangelo-san-michele-patrono-dellassociazione/
ATTACH;FMTTYPE=image/jpeg:https://www.luiginovarese.org/wp-content/uploads/2025/08/29-settembre.-Arcangelo-san-Michele-Patrono-dellAssociazione_page-0001.jpg
END:VEVENT
BEGIN:VEVENT
DTSTART;VALUE=DATE:20250929
DTEND;VALUE=DATE:20250930
DTSTAMP:20260421T063957
CREATED:20250808T063827Z
LAST-MODIFIED:20250808T063827Z
UID:177689-1759104000-1759190399@www.luiginovarese.org
SUMMARY:Giornata Mondiale del Cuore
DESCRIPTION:
URL:https://www.luiginovarese.org/calendario-eventi/giornata-mondiale-del-cuore/
ATTACH;FMTTYPE=image/jpeg:https://www.luiginovarese.org/wp-content/uploads/2025/08/29-settembre-Giornata-Mondiale-del-Cuore_page-0001.jpg
END:VEVENT
BEGIN:VEVENT
DTSTART;VALUE=DATE:20250928
DTEND;VALUE=DATE:20250929
DTSTAMP:20260421T063957
CREATED:20250808T063759Z
LAST-MODIFIED:20250808T063759Z
UID:177688-1759017600-1759103999@www.luiginovarese.org
SUMMARY:Giubileo dei Catechisti
DESCRIPTION:
URL:https://www.luiginovarese.org/calendario-eventi/giubileo-dei-catechisti/
ATTACH;FMTTYPE=image/jpeg:https://www.luiginovarese.org/wp-content/uploads/2025/08/28-settembre-Giubileo-dei-Catechisti_page-0001.jpg
END:VEVENT
BEGIN:VEVENT
DTSTART;VALUE=DATE:20250921
DTEND;VALUE=DATE:20250922
DTSTAMP:20260421T063957
CREATED:20250808T063732Z
LAST-MODIFIED:20250808T063732Z
UID:177687-1758412800-1758499199@www.luiginovarese.org
SUMMARY:Giornata Mondiale della Gratitudine
DESCRIPTION:
URL:https://www.luiginovarese.org/calendario-eventi/giornata-mondiale-della-gratitudine-2/
ATTACH;FMTTYPE=image/jpeg:https://www.luiginovarese.org/wp-content/uploads/2025/08/21-settembre-Giornata-Mondiale-della-Gratitudine_page-0001.jpg
END:VEVENT
BEGIN:VEVENT
DTSTART;VALUE=DATE:20250915
DTEND;VALUE=DATE:20250916
DTSTAMP:20260421T063957
CREATED:20250808T063706Z
LAST-MODIFIED:20250808T063706Z
UID:177686-1757894400-1757980799@www.luiginovarese.org
SUMMARY:Giubileo della Consolazione
DESCRIPTION:
URL:https://www.luiginovarese.org/calendario-eventi/giubileo-della-consolazione/
ATTACH;FMTTYPE=image/jpeg:https://www.luiginovarese.org/wp-content/uploads/2025/08/15-settembre-Giubileo-della-Consolazione_page-0001.jpg
END:VEVENT
BEGIN:VEVENT
DTSTART;VALUE=DATE:20250915
DTEND;VALUE=DATE:20250916
DTSTAMP:20260421T063957
CREATED:20250808T063638Z
LAST-MODIFIED:20250808T063638Z
UID:177685-1757894400-1757980799@www.luiginovarese.org
SUMMARY:Beata Vergine Maria addolorata
DESCRIPTION:
URL:https://www.luiginovarese.org/calendario-eventi/beata-vergine-maria-addolorata-3/
ATTACH;FMTTYPE=image/jpeg:https://www.luiginovarese.org/wp-content/uploads/2025/08/15-settembre-Beata-Vergine-Maria-addolorata_page-0001.jpg
END:VEVENT
BEGIN:VEVENT
DTSTART;VALUE=DATE:20250914
DTEND;VALUE=DATE:20250915
DTSTAMP:20260421T063957
CREATED:20250808T063605Z
LAST-MODIFIED:20250808T063605Z
UID:177618-1757808000-1757894399@www.luiginovarese.org
SUMMARY:Esaltazione della Santa Croce
DESCRIPTION:
URL:https://www.luiginovarese.org/calendario-eventi/esaltazione-della-santa-croce-5/
ATTACH;FMTTYPE=image/jpeg:https://www.luiginovarese.org/wp-content/uploads/2025/08/14-settembre-Esaltazione-della-Santa-Croce_page-0001.jpg
END:VEVENT
BEGIN:VEVENT
DTSTART;VALUE=DATE:20250913
DTEND;VALUE=DATE:20250914
DTSTAMP:20260421T063957
CREATED:20250808T063527Z
LAST-MODIFIED:20250808T063527Z
UID:177617-1757721600-1757807999@www.luiginovarese.org
SUMMARY:Quinta Apparizione della Vergine a Fatima
DESCRIPTION:
URL:https://www.luiginovarese.org/calendario-eventi/quinta-apparizione-della-vergine-a-fatima-2/
ATTACH;FMTTYPE=image/jpeg:https://www.luiginovarese.org/wp-content/uploads/2025/08/13-settembre-Quinta-Apparizione-della-Vergine-a-Fatima_page-0001.jpg
END:VEVENT
BEGIN:VEVENT
DTSTART;VALUE=DATE:20250912
DTEND;VALUE=DATE:20250913
DTSTAMP:20260421T063957
CREATED:20250808T063456Z
LAST-MODIFIED:20250808T063456Z
UID:177616-1757635200-1757721599@www.luiginovarese.org
SUMMARY:Santissimo Nome di Maria
DESCRIPTION:
URL:https://www.luiginovarese.org/calendario-eventi/santissimo-nome-di-maria-5/
ATTACH;FMTTYPE=image/jpeg:https://www.luiginovarese.org/wp-content/uploads/2025/08/12-settemnre-Santissimo-Nome-di-Maria_page-0001.jpg
END:VEVENT
BEGIN:VEVENT
DTSTART;VALUE=DATE:20250910
DTEND;VALUE=DATE:20250911
DTSTAMP:20260421T063957
CREATED:20250808T063428Z
LAST-MODIFIED:20250808T063428Z
UID:177615-1757462400-1757548799@www.luiginovarese.org
SUMMARY:Prima Giornata Mondiale per la Prevenzione del Suicidio
DESCRIPTION:
URL:https://www.luiginovarese.org/calendario-eventi/prima-giornata-mondiale-per-la-prevenzione-del-suicidio/
ATTACH;FMTTYPE=image/jpeg:https://www.luiginovarese.org/wp-content/uploads/2025/08/10-settembre-Prima-Giornata-Mondiale-per-la-Prevenzione-del-Suicidio_page-0001.jpg
END:VEVENT
BEGIN:VEVENT
DTSTART;VALUE=DATE:20250908
DTEND;VALUE=DATE:20250909
DTSTAMP:20260421T063957
CREATED:20250808T063356Z
LAST-MODIFIED:20250808T063356Z
UID:177614-1757289600-1757375999@www.luiginovarese.org
SUMMARY:Natività della Vergine Maria
DESCRIPTION:
URL:https://www.luiginovarese.org/calendario-eventi/nativita-della-vergine-maria-2/
ATTACH;FMTTYPE=image/jpeg:https://www.luiginovarese.org/wp-content/uploads/2025/08/8-settembre-Nativita-della-Vergine-Maria_page-0001.jpg
END:VEVENT
BEGIN:VEVENT
DTSTART;VALUE=DATE:20250901
DTEND;VALUE=DATE:20250902
DTSTAMP:20260421T063957
CREATED:20250808T063249Z
LAST-MODIFIED:20250808T063249Z
UID:177589-1756684800-1756771199@www.luiginovarese.org
SUMMARY:Giornata Mondiale per la Custodia del Creato
DESCRIPTION:
URL:https://www.luiginovarese.org/calendario-eventi/giornata-mondiale-per-la-custodia-del-creato/
ATTACH;FMTTYPE=image/jpeg:https://www.luiginovarese.org/wp-content/uploads/2025/08/1-settembre-Giornata-Mondiale-per-la-Custodia-del-Creato_page-0001.jpg
END:VEVENT
BEGIN:VEVENT
DTSTART;VALUE=DATE:20250831
DTEND;VALUE=DATE:20250901
DTSTAMP:20260421T063957
CREATED:20250728T100337Z
LAST-MODIFIED:20250728T100337Z
UID:176730-1756598400-1756684799@www.luiginovarese.org
SUMMARY:Giornata della solidarietà
DESCRIPTION:
URL:https://www.luiginovarese.org/calendario-eventi/giornata-della-solidarieta-2/
ATTACH;FMTTYPE=image/jpeg:https://www.luiginovarese.org/wp-content/uploads/2025/07/31-agosto-Giornata-della-solidarieta_page-0001.jpg
END:VEVENT
BEGIN:VEVENT
DTSTART;VALUE=DATE:20250822
DTEND;VALUE=DATE:20250823
DTSTAMP:20260421T063957
CREATED:20250728T100248Z
LAST-MODIFIED:20250728T100248Z
UID:176729-1755820800-1755907199@www.luiginovarese.org
SUMMARY:Beata Vergine Maria Regina
DESCRIPTION:
URL:https://www.luiginovarese.org/calendario-eventi/beata-vergine-maria-regina-2/
ATTACH;FMTTYPE=image/jpeg:https://www.luiginovarese.org/wp-content/uploads/2025/07/22-agosto-Beata-Vergine-Maria-Regina_page-0001.jpg
END:VEVENT
BEGIN:VEVENT
DTSTART;VALUE=DATE:20250820
DTEND;VALUE=DATE:20250821
DTSTAMP:20260421T063957
CREATED:20250728T100211Z
LAST-MODIFIED:20250728T100211Z
UID:176728-1755648000-1755734399@www.luiginovarese.org
SUMMARY:San Bernardo patrono dell'Associazione
DESCRIPTION:
URL:https://www.luiginovarese.org/calendario-eventi/san-bernardo-patrono-dellassociazione/
ATTACH;FMTTYPE=image/jpeg:https://www.luiginovarese.org/wp-content/uploads/2025/07/20-agosto-San-Bernardo-patrono-dellAssociazione_page-0001.jpg
END:VEVENT
BEGIN:VEVENT
DTSTART;TZID=Europe/Rome:20250818T080000
DTEND;TZID=Europe/Rome:20250818T170000
DTSTAMP:20260421T063957
CREATED:20250728T100121Z
LAST-MODIFIED:20250728T100121Z
UID:176727-1755504000-1755536400@www.luiginovarese.org
SUMMARY:Giornata della resilienza
DESCRIPTION:
URL:https://www.luiginovarese.org/calendario-eventi/giornata-della-resilienza/
ATTACH;FMTTYPE=image/jpeg:https://www.luiginovarese.org/wp-content/uploads/2025/07/18-agosto-Giornata-della-resilienza_page-0001.jpg
END:VEVENT
BEGIN:VEVENT
DTSTART;VALUE=DATE:20250815
DTEND;VALUE=DATE:20250816
DTSTAMP:20260421T063957
CREATED:20250728T100043Z
LAST-MODIFIED:20250813T194353Z
UID:176726-1755216000-1755302399@www.luiginovarese.org
SUMMARY:Assunzione della Vergine Maria
DESCRIPTION:
URL:https://www.luiginovarese.org/calendario-eventi/assunzione-della-vergine-maria/
ATTACH;FMTTYPE=image/jpeg:https://www.luiginovarese.org/wp-content/uploads/2025/07/Assunzione.jpg
END:VEVENT
BEGIN:VEVENT
DTSTART;VALUE=DATE:20250813
DTEND;VALUE=DATE:20250814
DTSTAMP:20260421T063957
CREATED:20250728T095958Z
LAST-MODIFIED:20250728T095958Z
UID:176725-1755043200-1755129599@www.luiginovarese.org
SUMMARY:Quarta apparizione a Fatima
DESCRIPTION:
URL:https://www.luiginovarese.org/calendario-eventi/quarta-apparizione-a-fatima-2/
ATTACH;FMTTYPE=image/jpeg:https://www.luiginovarese.org/wp-content/uploads/2025/07/13-agosto-Quarta-apparizione-a-Fatima_page-0001.jpg
END:VEVENT
BEGIN:VEVENT
DTSTART;VALUE=DATE:20250806
DTEND;VALUE=DATE:20250807
DTSTAMP:20260421T063957
CREATED:20250728T095916Z
LAST-MODIFIED:20250728T095916Z
UID:176724-1754438400-1754524799@www.luiginovarese.org
SUMMARY:Trasfigurazione del Signore
DESCRIPTION:
URL:https://www.luiginovarese.org/calendario-eventi/trasfigurazione-del-signore/
ATTACH;FMTTYPE=image/jpeg:https://www.luiginovarese.org/wp-content/uploads/2025/07/6-agosto-Trasfigurazione-del-Signore_page-0001.jpg
END:VEVENT
BEGIN:VEVENT
DTSTART;VALUE=DATE:20250803
DTEND;VALUE=DATE:20250804
DTSTAMP:20260421T063957
CREATED:20250728T095825Z
LAST-MODIFIED:20250728T095825Z
UID:176723-1754179200-1754265599@www.luiginovarese.org
SUMMARY:Giubileo dei giovani
DESCRIPTION:
URL:https://www.luiginovarese.org/calendario-eventi/giubileo-dei-giovani/
ATTACH;FMTTYPE=image/jpeg:https://www.luiginovarese.org/wp-content/uploads/2025/07/3-agosto-Giubileo-dei-giovani_page-0001.jpg
END:VEVENT
BEGIN:VEVENT
DTSTART;VALUE=DATE:20250731
DTEND;VALUE=DATE:20250801
DTSTAMP:20260421T063957
CREATED:20250630T083017Z
LAST-MODIFIED:20250630T083017Z
UID:175805-1753920000-1754006399@www.luiginovarese.org
SUMMARY:Sant'Ignazio di Loyola
DESCRIPTION:
URL:https://www.luiginovarese.org/calendario-eventi/santignazio-di-loyola-2/
ATTACH;FMTTYPE=image/jpeg:https://www.luiginovarese.org/wp-content/uploads/2025/06/31-luglio_page-0001.jpg
END:VEVENT
BEGIN:VEVENT
DTSTART;VALUE=DATE:20250730
DTEND;VALUE=DATE:20250731
DTSTAMP:20260421T063957
CREATED:20250630T082948Z
LAST-MODIFIED:20250630T082948Z
UID:175804-1753833600-1753919999@www.luiginovarese.org
SUMMARY:Giornata mondiale dell'amicizia
DESCRIPTION:
URL:https://www.luiginovarese.org/calendario-eventi/giornata-mondiale-dellamicizia-2/
ATTACH;FMTTYPE=image/jpeg:https://www.luiginovarese.org/wp-content/uploads/2025/06/30-luglio_page-0001.jpg
END:VEVENT
BEGIN:VEVENT
DTSTART;VALUE=DATE:20250729
DTEND;VALUE=DATE:20250730
DTSTAMP:20260421T063957
CREATED:20250630T082910Z
LAST-MODIFIED:20250630T082910Z
UID:175803-1753747200-1753833599@www.luiginovarese.org
SUMMARY:Giubileo dei missionari digitali e degli influencer cattolici
DESCRIPTION:
URL:https://www.luiginovarese.org/calendario-eventi/giubileo-dei-missionari-digitali-e-degli-influencer-cattolici/
ATTACH;FMTTYPE=image/jpeg:https://www.luiginovarese.org/wp-content/uploads/2025/06/29-luglio_2.jpg
END:VEVENT
BEGIN:VEVENT
DTSTART;VALUE=DATE:20250729
DTEND;VALUE=DATE:20250730
DTSTAMP:20260421T063957
CREATED:20250630T082813Z
LAST-MODIFIED:20250630T082813Z
UID:175802-1753747200-1753833599@www.luiginovarese.org
SUMMARY:Nascita del beato Luigi Novarese
DESCRIPTION:
URL:https://www.luiginovarese.org/calendario-eventi/nascita-del-beato-luigi-novarese-2/
ATTACH;FMTTYPE=image/jpeg:https://www.luiginovarese.org/wp-content/uploads/2025/06/29-luglio_1.jpg
END:VEVENT
BEGIN:VEVENT
DTSTART;VALUE=DATE:20250727
DTEND;VALUE=DATE:20250728
DTSTAMP:20260421T063957
CREATED:20250630T082211Z
LAST-MODIFIED:20250630T082211Z
UID:175801-1753574400-1753660799@www.luiginovarese.org
SUMMARY:Anniversario della morte della venerabile Anna Fulgida Bartolacelli
DESCRIPTION:
URL:https://www.luiginovarese.org/calendario-eventi/anniversario-della-morte-della-venerabile-anna-fulgida-bartolacelli/
ATTACH;FMTTYPE=image/jpeg:https://www.luiginovarese.org/wp-content/uploads/2025/06/27-luglio-anniversario-della-morte-di-Anna-Fulgida-Bartolacelli_page-0001.jpg
END:VEVENT
END:VCALENDAR