BEGIN:VCALENDAR
VERSION:2.0
PRODID:-//Opera Beato Luigi Novarese - ECPv6.15.17//NONSGML v1.0//EN
CALSCALE:GREGORIAN
METHOD:PUBLISH
X-WR-CALNAME:Opera Beato Luigi Novarese
X-ORIGINAL-URL:https://www.luiginovarese.org
X-WR-CALDESC:Eventi per Opera Beato Luigi Novarese
REFRESH-INTERVAL;VALUE=DURATION:PT1H
X-Robots-Tag:noindex
X-PUBLISHED-TTL:PT1H
BEGIN:VTIMEZONE
TZID:Europe/Rome
BEGIN:DAYLIGHT
TZOFFSETFROM:+0100
TZOFFSETTO:+0200
TZNAME:CEST
DTSTART:20240331T010000
END:DAYLIGHT
BEGIN:STANDARD
TZOFFSETFROM:+0200
TZOFFSETTO:+0100
TZNAME:CET
DTSTART:20241027T010000
END:STANDARD
BEGIN:DAYLIGHT
TZOFFSETFROM:+0100
TZOFFSETTO:+0200
TZNAME:CEST
DTSTART:20250330T010000
END:DAYLIGHT
BEGIN:STANDARD
TZOFFSETFROM:+0200
TZOFFSETTO:+0100
TZNAME:CET
DTSTART:20251026T010000
END:STANDARD
BEGIN:DAYLIGHT
TZOFFSETFROM:+0100
TZOFFSETTO:+0200
TZNAME:CEST
DTSTART:20260329T010000
END:DAYLIGHT
BEGIN:STANDARD
TZOFFSETFROM:+0200
TZOFFSETTO:+0100
TZNAME:CET
DTSTART:20261025T010000
END:STANDARD
END:VTIMEZONE
BEGIN:VEVENT
DTSTART;VALUE=DATE:20250820
DTEND;VALUE=DATE:20250821
DTSTAMP:20260421T150104
CREATED:20250728T100211Z
LAST-MODIFIED:20250728T100211Z
UID:176728-1755648000-1755734399@www.luiginovarese.org
SUMMARY:San Bernardo patrono dell'Associazione
DESCRIPTION:
URL:https://www.luiginovarese.org/calendario-eventi/san-bernardo-patrono-dellassociazione/
ATTACH;FMTTYPE=image/jpeg:https://www.luiginovarese.org/wp-content/uploads/2025/07/20-agosto-San-Bernardo-patrono-dellAssociazione_page-0001.jpg
END:VEVENT
BEGIN:VEVENT
DTSTART;TZID=Europe/Rome:20250818T080000
DTEND;TZID=Europe/Rome:20250818T170000
DTSTAMP:20260421T150104
CREATED:20250728T100121Z
LAST-MODIFIED:20250728T100121Z
UID:176727-1755504000-1755536400@www.luiginovarese.org
SUMMARY:Giornata della resilienza
DESCRIPTION:
URL:https://www.luiginovarese.org/calendario-eventi/giornata-della-resilienza/
ATTACH;FMTTYPE=image/jpeg:https://www.luiginovarese.org/wp-content/uploads/2025/07/18-agosto-Giornata-della-resilienza_page-0001.jpg
END:VEVENT
BEGIN:VEVENT
DTSTART;VALUE=DATE:20250815
DTEND;VALUE=DATE:20250816
DTSTAMP:20260421T150104
CREATED:20250728T100043Z
LAST-MODIFIED:20250813T194353Z
UID:176726-1755216000-1755302399@www.luiginovarese.org
SUMMARY:Assunzione della Vergine Maria
DESCRIPTION:
URL:https://www.luiginovarese.org/calendario-eventi/assunzione-della-vergine-maria/
ATTACH;FMTTYPE=image/jpeg:https://www.luiginovarese.org/wp-content/uploads/2025/07/Assunzione.jpg
END:VEVENT
BEGIN:VEVENT
DTSTART;VALUE=DATE:20250813
DTEND;VALUE=DATE:20250814
DTSTAMP:20260421T150104
CREATED:20250728T095958Z
LAST-MODIFIED:20250728T095958Z
UID:176725-1755043200-1755129599@www.luiginovarese.org
SUMMARY:Quarta apparizione a Fatima
DESCRIPTION:
URL:https://www.luiginovarese.org/calendario-eventi/quarta-apparizione-a-fatima-2/
ATTACH;FMTTYPE=image/jpeg:https://www.luiginovarese.org/wp-content/uploads/2025/07/13-agosto-Quarta-apparizione-a-Fatima_page-0001.jpg
END:VEVENT
BEGIN:VEVENT
DTSTART;VALUE=DATE:20250806
DTEND;VALUE=DATE:20250807
DTSTAMP:20260421T150104
CREATED:20250728T095916Z
LAST-MODIFIED:20250728T095916Z
UID:176724-1754438400-1754524799@www.luiginovarese.org
SUMMARY:Trasfigurazione del Signore
DESCRIPTION:
URL:https://www.luiginovarese.org/calendario-eventi/trasfigurazione-del-signore/
ATTACH;FMTTYPE=image/jpeg:https://www.luiginovarese.org/wp-content/uploads/2025/07/6-agosto-Trasfigurazione-del-Signore_page-0001.jpg
END:VEVENT
BEGIN:VEVENT
DTSTART;VALUE=DATE:20250803
DTEND;VALUE=DATE:20250804
DTSTAMP:20260421T150104
CREATED:20250728T095825Z
LAST-MODIFIED:20250728T095825Z
UID:176723-1754179200-1754265599@www.luiginovarese.org
SUMMARY:Giubileo dei giovani
DESCRIPTION:
URL:https://www.luiginovarese.org/calendario-eventi/giubileo-dei-giovani/
ATTACH;FMTTYPE=image/jpeg:https://www.luiginovarese.org/wp-content/uploads/2025/07/3-agosto-Giubileo-dei-giovani_page-0001.jpg
END:VEVENT
BEGIN:VEVENT
DTSTART;VALUE=DATE:20250731
DTEND;VALUE=DATE:20250801
DTSTAMP:20260421T150104
CREATED:20250630T083017Z
LAST-MODIFIED:20250630T083017Z
UID:175805-1753920000-1754006399@www.luiginovarese.org
SUMMARY:Sant'Ignazio di Loyola
DESCRIPTION:
URL:https://www.luiginovarese.org/calendario-eventi/santignazio-di-loyola-2/
ATTACH;FMTTYPE=image/jpeg:https://www.luiginovarese.org/wp-content/uploads/2025/06/31-luglio_page-0001.jpg
END:VEVENT
BEGIN:VEVENT
DTSTART;VALUE=DATE:20250730
DTEND;VALUE=DATE:20250731
DTSTAMP:20260421T150104
CREATED:20250630T082948Z
LAST-MODIFIED:20250630T082948Z
UID:175804-1753833600-1753919999@www.luiginovarese.org
SUMMARY:Giornata mondiale dell'amicizia
DESCRIPTION:
URL:https://www.luiginovarese.org/calendario-eventi/giornata-mondiale-dellamicizia-2/
ATTACH;FMTTYPE=image/jpeg:https://www.luiginovarese.org/wp-content/uploads/2025/06/30-luglio_page-0001.jpg
END:VEVENT
BEGIN:VEVENT
DTSTART;VALUE=DATE:20250729
DTEND;VALUE=DATE:20250730
DTSTAMP:20260421T150104
CREATED:20250630T082910Z
LAST-MODIFIED:20250630T082910Z
UID:175803-1753747200-1753833599@www.luiginovarese.org
SUMMARY:Giubileo dei missionari digitali e degli influencer cattolici
DESCRIPTION:
URL:https://www.luiginovarese.org/calendario-eventi/giubileo-dei-missionari-digitali-e-degli-influencer-cattolici/
ATTACH;FMTTYPE=image/jpeg:https://www.luiginovarese.org/wp-content/uploads/2025/06/29-luglio_2.jpg
END:VEVENT
BEGIN:VEVENT
DTSTART;VALUE=DATE:20250729
DTEND;VALUE=DATE:20250730
DTSTAMP:20260421T150104
CREATED:20250630T082813Z
LAST-MODIFIED:20250630T082813Z
UID:175802-1753747200-1753833599@www.luiginovarese.org
SUMMARY:Nascita del beato Luigi Novarese
DESCRIPTION:
URL:https://www.luiginovarese.org/calendario-eventi/nascita-del-beato-luigi-novarese-2/
ATTACH;FMTTYPE=image/jpeg:https://www.luiginovarese.org/wp-content/uploads/2025/06/29-luglio_1.jpg
END:VEVENT
BEGIN:VEVENT
DTSTART;VALUE=DATE:20250727
DTEND;VALUE=DATE:20250728
DTSTAMP:20260421T150104
CREATED:20250630T082211Z
LAST-MODIFIED:20250630T082211Z
UID:175801-1753574400-1753660799@www.luiginovarese.org
SUMMARY:Anniversario della morte della venerabile Anna Fulgida Bartolacelli
DESCRIPTION:
URL:https://www.luiginovarese.org/calendario-eventi/anniversario-della-morte-della-venerabile-anna-fulgida-bartolacelli/
ATTACH;FMTTYPE=image/jpeg:https://www.luiginovarese.org/wp-content/uploads/2025/06/27-luglio-anniversario-della-morte-di-Anna-Fulgida-Bartolacelli_page-0001.jpg
END:VEVENT
BEGIN:VEVENT
DTSTART;VALUE=DATE:20250720
DTEND;VALUE=DATE:20250721
DTSTAMP:20260421T150104
CREATED:20250630T082109Z
LAST-MODIFIED:20250630T082109Z
UID:175800-1752969600-1753055999@www.luiginovarese.org
SUMMARY:Memoria liturgica del beato Luigi Novarese
DESCRIPTION:
URL:https://www.luiginovarese.org/calendario-eventi/memoria-liturgica-del-beato-luigi-novarese/
ATTACH;FMTTYPE=image/jpeg:https://www.luiginovarese.org/wp-content/uploads/2025/06/20-luglio-memoria-liturgica-del-Beato-Luigi-Novarese_page-0001.jpg
END:VEVENT
BEGIN:VEVENT
DTSTART;VALUE=DATE:20250716
DTEND;VALUE=DATE:20250717
DTSTAMP:20260421T150104
CREATED:20250630T082010Z
LAST-MODIFIED:20250630T082010Z
UID:175799-1752624000-1752710399@www.luiginovarese.org
SUMMARY:Beata Vergine Maria del Carmelo
DESCRIPTION:
URL:https://www.luiginovarese.org/calendario-eventi/beata-vergine-maria-del-carmelo/
ATTACH;FMTTYPE=image/jpeg:https://www.luiginovarese.org/wp-content/uploads/2025/06/16-luglio_page-0001.jpg
END:VEVENT
BEGIN:VEVENT
DTSTART;VALUE=DATE:20250716
DTEND;VALUE=DATE:20250717
DTSTAMP:20260421T150104
CREATED:20250213T102213Z
LAST-MODIFIED:20250213T102213Z
UID:170416-1752624000-1752710399@www.luiginovarese.org
SUMMARY:16 luglio 1858
DESCRIPTION:
URL:https://www.luiginovarese.org/calendario-eventi/16-luglio-1858/
ATTACH;FMTTYPE=image/jpeg:https://www.luiginovarese.org/wp-content/uploads/2025/02/18-16-luglio.jpg
END:VEVENT
BEGIN:VEVENT
DTSTART;VALUE=DATE:20250706
DTEND;VALUE=DATE:20250707
DTSTAMP:20260421T150104
CREATED:20250630T081759Z
LAST-MODIFIED:20250630T081759Z
UID:175798-1751760000-1751846399@www.luiginovarese.org
SUMMARY:Santa Maria Goretti
DESCRIPTION:
URL:https://www.luiginovarese.org/calendario-eventi/santa-maria-goretti-3/
ATTACH;FMTTYPE=image/jpeg:https://www.luiginovarese.org/wp-content/uploads/2025/06/6-luglio_page-0001.jpg
END:VEVENT
BEGIN:VEVENT
DTSTART;VALUE=DATE:20250629
DTEND;VALUE=DATE:20250630
DTSTAMP:20260421T150104
CREATED:20250529T080120Z
LAST-MODIFIED:20250529T080120Z
UID:173520-1751155200-1751241599@www.luiginovarese.org
SUMMARY:Cuore Immacolato di Maria
DESCRIPTION:
URL:https://www.luiginovarese.org/calendario-eventi/cuore-immacolato-di-maria-5/
ATTACH;FMTTYPE=image/jpeg:https://www.luiginovarese.org/wp-content/uploads/2025/05/28-giugno-Cuore-Immacolato-di-Maria.jpg
END:VEVENT
BEGIN:VEVENT
DTSTART;VALUE=DATE:20250627
DTEND;VALUE=DATE:20250628
DTSTAMP:20260421T150104
CREATED:20250529T080015Z
LAST-MODIFIED:20250529T080015Z
UID:173519-1750982400-1751068799@www.luiginovarese.org
SUMMARY:Sacratissimo Cuore di Gesù
DESCRIPTION:
URL:https://www.luiginovarese.org/calendario-eventi/sacratissimo-cuore-di-gesu/
ATTACH;FMTTYPE=image/jpeg:https://www.luiginovarese.org/wp-content/uploads/2025/05/27-giugno-Sacratissimo-Cuore-di-Gesu.jpg
END:VEVENT
BEGIN:VEVENT
DTSTART;VALUE=DATE:20250625
DTEND;VALUE=DATE:20250626
DTSTAMP:20260421T150104
CREATED:20250529T075934Z
LAST-MODIFIED:20250529T075934Z
UID:173518-1750809600-1750895999@www.luiginovarese.org
SUMMARY:Giubileo dei Vescovi
DESCRIPTION:
URL:https://www.luiginovarese.org/calendario-eventi/giubileo-dei-vescovi/
ATTACH;FMTTYPE=image/jpeg:https://www.luiginovarese.org/wp-content/uploads/2025/05/25-giugno-Giubileo-dei-Vescovi.jpg
END:VEVENT
BEGIN:VEVENT
DTSTART;VALUE=DATE:20250624
DTEND;VALUE=DATE:20250625
DTSTAMP:20260421T150104
CREATED:20250529T075843Z
LAST-MODIFIED:20250529T075843Z
UID:173517-1750723200-1750809599@www.luiginovarese.org
SUMMARY:Giubileo dei seminaristi
DESCRIPTION:
URL:https://www.luiginovarese.org/calendario-eventi/giubileo-dei-seminaristi/
ATTACH;FMTTYPE=image/jpeg:https://www.luiginovarese.org/wp-content/uploads/2025/05/24-giugno-Giubileo-dei-seminaristi.jpg
END:VEVENT
BEGIN:VEVENT
DTSTART;VALUE=DATE:20250622
DTEND;VALUE=DATE:20250623
DTSTAMP:20260421T150104
CREATED:20250529T075817Z
LAST-MODIFIED:20250529T075817Z
UID:173516-1750550400-1750636799@www.luiginovarese.org
SUMMARY:Domenica del Corpus Domini
DESCRIPTION:
URL:https://www.luiginovarese.org/calendario-eventi/domenica-del-corpus-domini/
ATTACH;FMTTYPE=image/jpeg:https://www.luiginovarese.org/wp-content/uploads/2025/05/22-giugno-Domenica-del-Corpus-Domini.jpg
END:VEVENT
BEGIN:VEVENT
DTSTART;VALUE=DATE:20250621
DTEND;VALUE=DATE:20250622
DTSTAMP:20260421T150104
CREATED:20250529T075737Z
LAST-MODIFIED:20250529T075737Z
UID:173515-1750464000-1750550399@www.luiginovarese.org
SUMMARY:San Luigi Gonzaga
DESCRIPTION:
URL:https://www.luiginovarese.org/calendario-eventi/san-luigi-gonzaga-2/
ATTACH;FMTTYPE=image/jpeg:https://www.luiginovarese.org/wp-content/uploads/2025/05/21-giugno-San-Luigi-Gonzaga.jpg
END:VEVENT
BEGIN:VEVENT
DTSTART;VALUE=DATE:20250615
DTEND;VALUE=DATE:20250616
DTSTAMP:20260421T150104
CREATED:20250529T075621Z
LAST-MODIFIED:20250529T075621Z
UID:173514-1749945600-1750031999@www.luiginovarese.org
SUMMARY:Domenica della Santissima Trinità
DESCRIPTION:
URL:https://www.luiginovarese.org/calendario-eventi/domenica-della-santissima-trinita/
ATTACH;FMTTYPE=image/jpeg:https://www.luiginovarese.org/wp-content/uploads/2025/05/15-giugno-Domenica-della-Santissima-Trinita.jpg
END:VEVENT
BEGIN:VEVENT
DTSTART;VALUE=DATE:20250608
DTEND;VALUE=DATE:20250609
DTSTAMP:20260421T150104
CREATED:20250529T075535Z
LAST-MODIFIED:20250529T075535Z
UID:173512-1749340800-1749427199@www.luiginovarese.org
SUMMARY:Pentecoste
DESCRIPTION:
URL:https://www.luiginovarese.org/calendario-eventi/pentecoste-4/
ATTACH;FMTTYPE=image/jpeg:https://www.luiginovarese.org/wp-content/uploads/2025/05/8-giugno-Pentecoste.jpg
END:VEVENT
BEGIN:VEVENT
DTSTART;VALUE=DATE:20250601
DTEND;VALUE=DATE:20250602
DTSTAMP:20260421T150104
CREATED:20250529T075508Z
LAST-MODIFIED:20250529T075508Z
UID:173511-1748736000-1748822399@www.luiginovarese.org
SUMMARY:Ascensione del Signore
DESCRIPTION:
URL:https://www.luiginovarese.org/calendario-eventi/ascensione-del-signore-2/
ATTACH;FMTTYPE=image/jpeg:https://www.luiginovarese.org/wp-content/uploads/2025/05/1-giugno-Ascensione-del-Signore.jpg
END:VEVENT
BEGIN:VEVENT
DTSTART;VALUE=DATE:20250601
DTEND;VALUE=DATE:20250602
DTSTAMP:20260421T150104
CREATED:20250529T075424Z
LAST-MODIFIED:20250529T075451Z
UID:173510-1748736000-1748822399@www.luiginovarese.org
SUMMARY:Anniversario di Maria Nanni
DESCRIPTION:
URL:https://www.luiginovarese.org/calendario-eventi/1-giugno-anniversario-di-maria-nanni/
ATTACH;FMTTYPE=image/jpeg:https://www.luiginovarese.org/wp-content/uploads/2025/05/1-giugno-Anniversario-di-Maria-Nanni.jpg
END:VEVENT
BEGIN:VEVENT
DTSTART;VALUE=DATE:20250531
DTEND;VALUE=DATE:20250601
DTSTAMP:20260421T150104
CREATED:20250430T100906Z
LAST-MODIFIED:20250430T100906Z
UID:172671-1748649600-1748735999@www.luiginovarese.org
SUMMARY:Visitazione della Beata Vergine Maria
DESCRIPTION:
URL:https://www.luiginovarese.org/calendario-eventi/visitazione-della-beata-vergine-maria-2/
ATTACH;FMTTYPE=image/jpeg:https://www.luiginovarese.org/wp-content/uploads/2025/04/31-maggio-Visitazione-della-Beata-Vergine-Maria.jpg
END:VEVENT
BEGIN:VEVENT
DTSTART;VALUE=DATE:20250525
DTEND;VALUE=DATE:20250526
DTSTAMP:20260421T150104
CREATED:20250430T100945Z
LAST-MODIFIED:20250430T100945Z
UID:172672-1748131200-1748217599@www.luiginovarese.org
SUMMARY:Sesta Domenica di Pasqua
DESCRIPTION:
URL:https://www.luiginovarese.org/calendario-eventi/sesta-domenica-di-pasqua-2/
ATTACH;FMTTYPE=image/jpeg:https://www.luiginovarese.org/wp-content/uploads/2025/04/25-maggio-Sesta-Domenica-di-Pasqua.jpg
END:VEVENT
BEGIN:VEVENT
DTSTART;VALUE=DATE:20250524
DTEND;VALUE=DATE:20250525
DTSTAMP:20260421T150104
CREATED:20250430T101100Z
LAST-MODIFIED:20250430T101100Z
UID:172683-1748044800-1748131199@www.luiginovarese.org
SUMMARY:Beata Vergine Maria Ausiliatrice
DESCRIPTION:
URL:https://www.luiginovarese.org/calendario-eventi/beata-vergine-maria-ausiliatrice/
ATTACH;FMTTYPE=image/jpeg:https://www.luiginovarese.org/wp-content/uploads/2025/04/24-maggio-Beata-Vergine-Maria-Ausiliatrice.jpg
END:VEVENT
BEGIN:VEVENT
DTSTART;VALUE=DATE:20250518
DTEND;VALUE=DATE:20250519
DTSTAMP:20260421T150104
CREATED:20250430T100732Z
LAST-MODIFIED:20250430T100732Z
UID:172669-1747526400-1747612799@www.luiginovarese.org
SUMMARY:Quinta Domenica di Pasqua
DESCRIPTION:
URL:https://www.luiginovarese.org/calendario-eventi/quinta-domenica-di-pasqua-3/
ATTACH;FMTTYPE=image/jpeg:https://www.luiginovarese.org/wp-content/uploads/2025/04/18-maggio-Quinta-Domenica-di-Pasqua.jpg
END:VEVENT
BEGIN:VEVENT
DTSTART;VALUE=DATE:20250517
DTEND;VALUE=DATE:20250518
DTSTAMP:20260421T150104
CREATED:20250430T101154Z
LAST-MODIFIED:20250430T101154Z
UID:172684-1747440000-1747526399@www.luiginovarese.org
SUMMARY:Fondazione del CVS
DESCRIPTION:
URL:https://www.luiginovarese.org/calendario-eventi/fondazione-del-cvs/
ATTACH;FMTTYPE=image/jpeg:https://www.luiginovarese.org/wp-content/uploads/2025/04/17-maggio-Fondazione-del-CVS.jpg
END:VEVENT
END:VCALENDAR