BEGIN:VCALENDAR
VERSION:2.0
PRODID:-//Opera Beato Luigi Novarese - ECPv6.15.17//NONSGML v1.0//EN
CALSCALE:GREGORIAN
METHOD:PUBLISH
X-WR-CALNAME:Opera Beato Luigi Novarese
X-ORIGINAL-URL:https://www.luiginovarese.org/pt-pt/
X-WR-CALDESC:Eventos para Opera Beato Luigi Novarese
REFRESH-INTERVAL;VALUE=DURATION:PT1H
X-Robots-Tag:noindex
X-PUBLISHED-TTL:PT1H
BEGIN:VTIMEZONE
TZID:Europe/Lisbon
BEGIN:DAYLIGHT
TZOFFSETFROM:+0000
TZOFFSETTO:+0100
TZNAME:WEST
DTSTART:20240331T010000
END:DAYLIGHT
BEGIN:STANDARD
TZOFFSETFROM:+0100
TZOFFSETTO:+0000
TZNAME:WET
DTSTART:20241027T010000
END:STANDARD
BEGIN:DAYLIGHT
TZOFFSETFROM:+0000
TZOFFSETTO:+0100
TZNAME:WEST
DTSTART:20250330T010000
END:DAYLIGHT
BEGIN:STANDARD
TZOFFSETFROM:+0100
TZOFFSETTO:+0000
TZNAME:WET
DTSTART:20251026T010000
END:STANDARD
BEGIN:DAYLIGHT
TZOFFSETFROM:+0000
TZOFFSETTO:+0100
TZNAME:WEST
DTSTART:20260329T010000
END:DAYLIGHT
BEGIN:STANDARD
TZOFFSETFROM:+0100
TZOFFSETTO:+0000
TZNAME:WET
DTSTART:20261025T010000
END:STANDARD
END:VTIMEZONE
BEGIN:VTIMEZONE
TZID:Europe/Rome
BEGIN:DAYLIGHT
TZOFFSETFROM:+0100
TZOFFSETTO:+0200
TZNAME:CEST
DTSTART:20230326T010000
END:DAYLIGHT
BEGIN:STANDARD
TZOFFSETFROM:+0200
TZOFFSETTO:+0100
TZNAME:CET
DTSTART:20231029T010000
END:STANDARD
BEGIN:DAYLIGHT
TZOFFSETFROM:+0100
TZOFFSETTO:+0200
TZNAME:CEST
DTSTART:20240331T010000
END:DAYLIGHT
BEGIN:STANDARD
TZOFFSETFROM:+0200
TZOFFSETTO:+0100
TZNAME:CET
DTSTART:20241027T010000
END:STANDARD
BEGIN:DAYLIGHT
TZOFFSETFROM:+0100
TZOFFSETTO:+0200
TZNAME:CEST
DTSTART:20250330T010000
END:DAYLIGHT
BEGIN:STANDARD
TZOFFSETFROM:+0200
TZOFFSETTO:+0100
TZNAME:CET
DTSTART:20251026T010000
END:STANDARD
END:VTIMEZONE
BEGIN:VEVENT
DTSTART;TZID=Europe/Lisbon:20251008T070000
DTEND;TZID=Europe/Lisbon:20251011T220000
DTSTAMP:20260425T004936
CREATED:20241115T102332Z
LAST-MODIFIED:20241115T181809Z
UID:167279-1759906800-1760220000@www.luiginovarese.org
SUMMARY:Peregrinação Jubileu Mariano 2025
DESCRIPTION:A Confederação internacional do CVS está a organizar uma peregrinação no Jubileu Mariano\, no sentido de vivermos juntos e em família este tempo de alegria e partilha de Fé e de experiências de vida.\n\nInscreve-te até 31 de janeiro de 2025
URL:https://www.luiginovarese.org/pt-pt/calendario-eventi/peregrinacao-jubileu-mariano-2025/
LOCATION:Roma\, Italy
ATTACH;FMTTYPE=image/png:https://www.luiginovarese.org/wp-content/uploads/2024/11/jubileu-sem-site.png
END:VEVENT
BEGIN:VEVENT
DTSTART;TZID=Europe/Rome:20241206T193000
DTEND;TZID=Europe/Rome:20241208T133000
DTSTAMP:20260425T004936
CREATED:20241113T145423Z
LAST-MODIFIED:20241113T145423Z
UID:167209-1733513400-1733664600@www.luiginovarese.org
SUMMARY:Encontro de Advento
DESCRIPTION:Vem preparar o nascimento de Jesus\, fonte da nossa Esperança\, com o CVS Portugal!
URL:https://www.luiginovarese.org/pt-pt/calendario-eventi/encontro-de-advento/
LOCATION:Centro Francisco e Jacinta Marto\, Centro Francisco e Jacinta Marto - Estrada de Torres Novas\, 570 Montelo\, Fátima\, Leiria-Fátima\, 2495-653\, Portugal
ATTACH;FMTTYPE=image/jpeg:https://www.luiginovarese.org/wp-content/uploads/2024/11/Imagem-WhatsApp-2024-11-12-as-19.35.40_3ed886d3.jpg
END:VEVENT
END:VCALENDAR